BEGIN:VCALENDAR
VERSION:2.0
PRODID:-//Radotín87103//NONSGML kigkonsult.se iCalcreator 2.41.80//
CALSCALE:GREGORIAN
UID:35383862-3862-4235-a165-386630303832
BEGIN:VEVENT
UID:30633933-6435-4563-a266-626364326631
DTSTAMP:20260422T014835Z
DESCRIPTION:1/2 Radotín - Mikulova C 0:2 (-24\,-17)
DTSTART;TZID=Europe/Berlin:20240915T090000
DTEND;TZID=Europe/Berlin:20240915T110000
LOCATION:SKŠ ZŠ Mikulova Praha\, Mikulova 1594 Praha - Chodov
SUMMARY:PP-U20Z-Q-A: Radotín-Mikulova C
END:VEVENT
BEGIN:VEVENT
UID:33346431-3632-4662-b134-653234316137
DTSTAMP:20260422T014835Z
DESCRIPTION:4/8 Radotín - Meteor Praha B 0:2 (-6\,-10)
DTSTART;TZID=Europe/Berlin:20240915T120000
DTEND;TZID=Europe/Berlin:20240915T140000
LOCATION:SKŠ ZŠ Mikulova Praha\, Mikulova 1594 Praha - Chodov
SUMMARY:PP-U20Z-Q-A: Radotín-Meteor Praha B
END:VEVENT
BEGIN:VEVENT
UID:31636164-3639-4337-b832-333139313733
DTSTAMP:20260422T014835Z
DESCRIPTION:2/4 Střešovice C - Radotín 2:0 (8\,8)
DTSTART;TZID=Europe/Berlin:20240915T100000
DTEND;TZID=Europe/Berlin:20240915T120000
LOCATION:SKŠ ZŠ Mikulova Praha\, Mikulova 1594 Praha - Chodov
SUMMARY:PP-U20Z-Q-A: Střešovice C-Radotín
END:VEVENT
BEGIN:VEVENT
UID:30313561-3736-4334-b762-306336636634
DTSTAMP:20260422T014835Z
DESCRIPTION:3/5 Slavia Praha B - Radotín 2:0 (16\,21)
DTSTART;TZID=Europe/Berlin:20240915T110000
DTEND;TZID=Europe/Berlin:20240915T130000
LOCATION:SKŠ ZŠ Mikulova Praha\, Mikulova 1594 Praha - Chodov
SUMMARY:PP-U20Z-Q-A: Slavia Praha B-Radotín
END:VEVENT
BEGIN:VEVENT
UID:66343433-3539-4461-b036-643736353235
DTSTAMP:20260422T014835Z
DESCRIPTION:1/1 Radotín - Mikulova D 2:1 (-23\,21\,8)
DTSTART;TZID=Europe/Berlin:20241006T090000
DTEND;TZID=Europe/Berlin:20241006T110000
LOCATION:Tělocvična ZŠ\, Španielova 1111 Praha - Řepy
SUMMARY:PP-U20Z-1-E: Radotín-Mikulova D
END:VEVENT
BEGIN:VEVENT
UID:64646636-3930-4630-a563-373731333064
DTSTAMP:20260422T014835Z
DESCRIPTION:4/4 Radotín - Volejbal Vršovice 0:2 (-20\,-20)
DTSTART;TZID=Europe/Berlin:20241006T120000
DTEND;TZID=Europe/Berlin:20241006T140000
LOCATION:Tělocvična ZŠ\, Španielova 1111 Praha - Řepy
SUMMARY:PP-U20Z-1-E: Radotín-Volejbal Vršovice
END:VEVENT
BEGIN:VEVENT
UID:31313234-3761-4633-b430-633732613732
DTSTAMP:20260422T014835Z
DESCRIPTION:6/6 Španielka B - Radotín 0:2 (-23\,-22)
DTSTART;TZID=Europe/Berlin:20241006T140000
DTEND;TZID=Europe/Berlin:20241006T160000
LOCATION:Tělocvična ZŠ\, Španielova 1111 Praha - Řepy
SUMMARY:PP-U20Z-1-E: Španielka B-Radotín
END:VEVENT
BEGIN:VEVENT
UID:30643065-3266-4538-b630-386336383066
DTSTAMP:20260422T014835Z
DESCRIPTION:2/2 Radotín - Španielka B 2:0 (14\,19)
DTSTART;TZID=Europe/Berlin:20241103T100000
DTEND;TZID=Europe/Berlin:20241103T120000
LOCATION:Tělocvična ZŠ\, Španielova 1111 Praha - Řepy
SUMMARY:PP-U20Z-2-E: Radotín-Španielka B
END:VEVENT
BEGIN:VEVENT
UID:34643064-6165-4365-b730-303036656237
DTSTAMP:20260422T014835Z
DESCRIPTION:5/5 Radotín - Mikulova D 1:2 (-23\,7\,-12)
DTSTART;TZID=Europe/Berlin:20241103T130000
DTEND;TZID=Europe/Berlin:20241103T150000
LOCATION:Tělocvična ZŠ\, Španielova 1111 Praha - Řepy
SUMMARY:PP-U20Z-2-E: Radotín-Mikulova D
END:VEVENT
BEGIN:VEVENT
UID:39663861-3135-4734-a130-363362653830
DTSTAMP:20260422T014835Z
DESCRIPTION:4/4 Kometa Praha C - Radotín 0:2 (-17\,-18)
DTSTART;TZID=Europe/Berlin:20241103T120000
DTEND;TZID=Europe/Berlin:20241103T140000
LOCATION:Tělocvična ZŠ\, Španielova 1111 Praha - Řepy
SUMMARY:PP-U20Z-2-E: Kometa Praha C-Radotín
END:VEVENT
BEGIN:VEVENT
UID:63373364-6635-4364-b963-613137363264
DTSTAMP:20260422T014835Z
DESCRIPTION:2/3 Radotín - Volejbal Vršovice 0:2 (-20\,-6)
DTSTART;TZID=Europe/Berlin:20241208T100000
DTEND;TZID=Europe/Berlin:20241208T120000
LOCATION:SKŠ ZŠ Mikulova Praha\, Mikulova 1594 Praha - Chodov
SUMMARY:PP-U20Z-3-D: Radotín-Volejbal Vršovice
END:VEVENT
BEGIN:VEVENT
UID:32346562-3739-4462-b438-646633663033
DTSTAMP:20260422T014835Z
DESCRIPTION:1/1 Mikulova C - Radotín 2:1 (9\,-24\,9)
DTSTART;TZID=Europe/Berlin:20241208T090000
DTEND;TZID=Europe/Berlin:20241208T110000
LOCATION:SKŠ ZŠ Mikulova Praha\, Mikulova 1594 Praha - Chodov
SUMMARY:PP-U20Z-3-D: Mikulova C-Radotín
END:VEVENT
BEGIN:VEVENT
UID:31346361-3339-4532-b231-626335366437
DTSTAMP:20260422T014835Z
DESCRIPTION:3/5 Slavia Praha B - Radotín 0:2 (-22\,-20)
DTSTART;TZID=Europe/Berlin:20241208T110000
DTEND;TZID=Europe/Berlin:20241208T130000
LOCATION:SKŠ ZŠ Mikulova Praha\, Mikulova 1594 Praha - Chodov
SUMMARY:PP-U20Z-3-D: Slavia Praha B-Radotín
END:VEVENT
BEGIN:VEVENT
UID:63316166-3130-4138-b465-316138366238
DTSTAMP:20260422T014835Z
DESCRIPTION:6/6 Radotín - Meteor Praha C 1:2 (22\,-16\,-7)
DTSTART;TZID=Europe/Berlin:20250112T140000
DTEND;TZID=Europe/Berlin:20250112T160000
LOCATION:Tělocvična ZŠ Na Šutce\, Na Šutce 440 Praha - Troja
SUMMARY:PP-U20Z-4-D: Radotín-Meteor Praha C
END:VEVENT
BEGIN:VEVENT
UID:65616532-3765-4432-b665-623431646366
DTSTAMP:20260422T014835Z
DESCRIPTION:2/2 Slavia Praha B - Radotín 2:0 (15\,15)
DTSTART;TZID=Europe/Berlin:20250112T100000
DTEND;TZID=Europe/Berlin:20250112T120000
LOCATION:Tělocvična ZŠ Na Šutce\, Na Šutce 440 Praha - Troja
SUMMARY:PP-U20Z-4-D: Slavia Praha B-Radotín
END:VEVENT
BEGIN:VEVENT
UID:31366164-3665-4166-b037-373763323161
DTSTAMP:20260422T014835Z
DESCRIPTION:3/3 Kometa Praha B - Radotín 2:0 (19\,21)
DTSTART;TZID=Europe/Berlin:20250112T110000
DTEND;TZID=Europe/Berlin:20250112T130000
LOCATION:Tělocvična ZŠ Na Šutce\, Na Šutce 440 Praha - Troja
SUMMARY:PP-U20Z-4-D: Kometa Praha B-Radotín
END:VEVENT
BEGIN:VEVENT
UID:64383761-6262-4033-b163-366361306433
DTSTAMP:20260422T014835Z
DESCRIPTION:1/1 Radotín - Španielka B 2:0 (23\,23)
DTSTART;TZID=Europe/Berlin:20250302T090000
DTEND;TZID=Europe/Berlin:20250302T110000
LOCATION:Tělocvična ZŠ\, Španielova 1111 Praha - Řepy
SUMMARY:PP-U20Z-5-E: Radotín-Španielka B
END:VEVENT
BEGIN:VEVENT
UID:66353630-6231-4432-a637-396532663436
DTSTAMP:20260422T014835Z
DESCRIPTION:4/4 Radotín - Kometa Praha C 0:2 (-12\,-13)
DTSTART;TZID=Europe/Berlin:20250302T120000
DTEND;TZID=Europe/Berlin:20250302T140000
LOCATION:Tělocvična ZŠ\, Španielova 1111 Praha - Řepy
SUMMARY:PP-U20Z-5-E: Radotín-Kometa Praha C
END:VEVENT
BEGIN:VEVENT
UID:66303034-3139-4461-a230-336330306565
DTSTAMP:20260422T014835Z
DESCRIPTION:6/6 Mikulova D - Radotín 1:2 (16\,-18\,-8)
DTSTART;TZID=Europe/Berlin:20250302T140000
DTEND;TZID=Europe/Berlin:20250302T160000
LOCATION:Tělocvična ZŠ\, Španielova 1111 Praha - Řepy
SUMMARY:PP-U20Z-5-E: Mikulova D-Radotín
END:VEVENT
BEGIN:VEVENT
UID:65323139-6466-4661-b734-653730636664
DTSTAMP:20260422T014835Z
DESCRIPTION:1/2 Radotín - Španielka B 2:1 (20\,-20\,7)
DTSTART;TZID=Europe/Berlin:20250330T123000
DTEND;TZID=Europe/Berlin:20250330T143000
LOCATION:SKŠ ZŠ Mikulova Praha\, Mikulova 1594 Praha - Chodov
SUMMARY:PP-U20Z-6-E: Radotín-Španielka B
END:VEVENT
BEGIN:VEVENT
UID:34643364-6164-4261-b265-623839393836
DTSTAMP:20260422T014835Z
DESCRIPTION:3/5 Radotín - Mikulova D 2:0 (18\,21)
DTSTART;TZID=Europe/Berlin:20250330T143000
DTEND;TZID=Europe/Berlin:20250330T163000
LOCATION:SKŠ ZŠ Mikulova Praha\, Mikulova 1594 Praha - Chodov
SUMMARY:PP-U20Z-6-E: Radotín-Mikulova D
END:VEVENT
BEGIN:VEVENT
UID:33356166-6564-4366-a566-316432323231
DTSTAMP:20260422T014835Z
DESCRIPTION:2/4 Kometa Praha B - Radotín 0:2 (-23\,-23)
DTSTART;TZID=Europe/Berlin:20250330T133000
DTEND;TZID=Europe/Berlin:20250330T153000
LOCATION:SKŠ ZŠ Mikulova Praha\, Mikulova 1594 Praha - Chodov
SUMMARY:PP-U20Z-6-E: Kometa Praha B-Radotín
END:VEVENT
END:VCALENDAR
