BEGIN:VCALENDAR
VERSION:2.0
PRODID:-//Kometa Praha C87109//NONSGML kigkonsult.se iCalcreator 2.41.80//
CALSCALE:GREGORIAN
UID:35383237-6466-4536-b466-396163666662
BEGIN:VEVENT
UID:35363961-6664-4031-b331-383839616261
DTSTAMP:20260422T033947Z
DESCRIPTION:1/2 Kometa Praha C - Volejbal Vršovice 2:0 (15\,22)
DTSTART;TZID=Europe/Berlin:20240915T090000
DTEND;TZID=Europe/Berlin:20240915T110000
LOCATION:Tělocvična ZŠ\, Španielova 1111 Praha - Řepy
SUMMARY:PP-U20Z-Q-B: Kometa Praha C-Volejbal Vršovice
END:VEVENT
BEGIN:VEVENT
UID:66303565-3664-4736-b934-353232613835
DTSTAMP:20260422T033947Z
DESCRIPTION:4/8 Kometa Praha C - ABC Braník 0:2 (-8\,-15)
DTSTART;TZID=Europe/Berlin:20240915T120000
DTEND;TZID=Europe/Berlin:20240915T140000
LOCATION:Tělocvična ZŠ\, Španielova 1111 Praha - Řepy
SUMMARY:PP-U20Z-Q-B: Kometa Praha C-ABC Braník
END:VEVENT
BEGIN:VEVENT
UID:35623134-6365-4366-b235-346230633831
DTSTAMP:20260422T033947Z
DESCRIPTION:2/4 Lvi Praha B - Kometa Praha C 2:0 (14\,20)
DTSTART;TZID=Europe/Berlin:20240915T100000
DTEND;TZID=Europe/Berlin:20240915T120000
LOCATION:Tělocvična ZŠ\, Španielova 1111 Praha - Řepy
SUMMARY:PP-U20Z-Q-B: Lvi Praha B-Kometa Praha C
END:VEVENT
BEGIN:VEVENT
UID:64386330-3034-4964-a336-666566623434
DTSTAMP:20260422T033947Z
DESCRIPTION:3/5 Španielka A - Kometa Praha C 2:0 (11\,18)
DTSTART;TZID=Europe/Berlin:20240915T110000
DTEND;TZID=Europe/Berlin:20240915T130000
LOCATION:Tělocvična ZŠ\, Španielova 1111 Praha - Řepy
SUMMARY:PP-U20Z-Q-B: Španielka A-Kometa Praha C
END:VEVENT
BEGIN:VEVENT
UID:62306131-3662-4462-a462-653065386635
DTSTAMP:20260422T033947Z
DESCRIPTION:2/2 Kometa Praha C - Meteor Praha C 0:2 (-14\,-17)
DTSTART;TZID=Europe/Berlin:20241006T100000
DTEND;TZID=Europe/Berlin:20241006T120000
LOCATION:TJ Sokol Horní Počernice\, Chvalkovická 2031 Praha - Horní Počerni
 ce
SUMMARY:PP-U20Z-1-D: Kometa Praha C-Meteor Praha C
END:VEVENT
BEGIN:VEVENT
UID:62613033-3534-4235-b162-643338363865
DTSTAMP:20260422T033947Z
DESCRIPTION:5/5 Kometa Praha C - Horní Počernice 0:2 (-14\,-24)
DTSTART;TZID=Europe/Berlin:20241006T130000
DTEND;TZID=Europe/Berlin:20241006T150000
LOCATION:TJ Sokol Horní Počernice\, Chvalkovická 2031 Praha - Horní Počerni
 ce
SUMMARY:PP-U20Z-1-D: Kometa Praha C-Horní Počernice
END:VEVENT
BEGIN:VEVENT
UID:37646436-3839-4831-b339-333338633566
DTSTAMP:20260422T033947Z
DESCRIPTION:4/4 Slavia Praha B - Kometa Praha C 2:1 (-17\,18\,14)
DTSTART;TZID=Europe/Berlin:20241006T120000
DTEND;TZID=Europe/Berlin:20241006T140000
LOCATION:TJ Sokol Horní Počernice\, Chvalkovická 2031 Praha - Horní Počerni
 ce
SUMMARY:PP-U20Z-1-D: Slavia Praha B-Kometa Praha C
END:VEVENT
BEGIN:VEVENT
UID:64306463-3630-4631-a165-373334376266
DTSTAMP:20260422T033947Z
DESCRIPTION:1/1 Kometa Praha C - Mikulova D 1:2 (-22\,20\,-12)
DTSTART;TZID=Europe/Berlin:20241103T090000
DTEND;TZID=Europe/Berlin:20241103T110000
LOCATION:Tělocvična ZŠ\, Španielova 1111 Praha - Řepy
SUMMARY:PP-U20Z-2-E: Kometa Praha C-Mikulova D
END:VEVENT
BEGIN:VEVENT
UID:61633839-6136-4764-a265-353838386139
DTSTAMP:20260422T033947Z
DESCRIPTION:4/4 Kometa Praha C - Radotín 0:2 (-17\,-18)
DTSTART;TZID=Europe/Berlin:20241103T120000
DTEND;TZID=Europe/Berlin:20241103T140000
LOCATION:Tělocvična ZŠ\, Španielova 1111 Praha - Řepy
SUMMARY:PP-U20Z-2-E: Kometa Praha C-Radotín
END:VEVENT
BEGIN:VEVENT
UID:31343138-3166-4164-b830-363630663033
DTSTAMP:20260422T033947Z
DESCRIPTION:6/6 Španielka B - Kometa Praha C 2:0 (22\,25)
DTSTART;TZID=Europe/Berlin:20241103T140000
DTEND;TZID=Europe/Berlin:20241103T160000
LOCATION:Tělocvična ZŠ\, Španielova 1111 Praha - Řepy
SUMMARY:PP-U20Z-2-E: Španielka B-Kometa Praha C
END:VEVENT
BEGIN:VEVENT
UID:33666430-3832-4138-b035-373862646632
DTSTAMP:20260422T033947Z
DESCRIPTION:3/3 Kometa Praha C - Španielka B 2:0 (11\,8)
DTSTART;TZID=Europe/Berlin:20241208T110000
DTEND;TZID=Europe/Berlin:20241208T130000
LOCATION:Tělocvična ZŠ Na Šutce\, Na Šutce 440 Praha - Troja
SUMMARY:PP-U20Z-3-E: Kometa Praha C-Španielka B
END:VEVENT
BEGIN:VEVENT
UID:63346439-3961-4636-b362-663464363532
DTSTAMP:20260422T033947Z
DESCRIPTION:1/1 Kometa Praha B - Kometa Praha C 2:0 (15\,17)
DTSTART;TZID=Europe/Berlin:20241208T090000
DTEND;TZID=Europe/Berlin:20241208T110000
LOCATION:Tělocvična ZŠ Na Šutce\, Na Šutce 440 Praha - Troja
SUMMARY:PP-U20Z-3-E: Kometa Praha B-Kometa Praha C
END:VEVENT
BEGIN:VEVENT
UID:37366533-6333-4238-a561-363739313864
DTSTAMP:20260422T033947Z
DESCRIPTION:5/5 Mikulova D - Kometa Praha C 0:2 (-17\,-22)
DTSTART;TZID=Europe/Berlin:20241208T130000
DTEND;TZID=Europe/Berlin:20241208T150000
LOCATION:Tělocvična ZŠ Na Šutce\, Na Šutce 440 Praha - Troja
SUMMARY:PP-U20Z-3-E: Mikulova D-Kometa Praha C
END:VEVENT
BEGIN:VEVENT
UID:34623734-3365-4830-a462-613431626335
DTSTAMP:20260422T033947Z
DESCRIPTION:2/2 Kometa Praha C - Mikulova D 2:0 (22\,11)
DTSTART;TZID=Europe/Berlin:20250112T090000
DTEND;TZID=Europe/Berlin:20250112T110000
LOCATION:SKŠ ZŠ Mikulova Praha\, Mikulova 1594 Praha - Chodov
SUMMARY:PP-U20Z-4-E: Kometa Praha C-Mikulova D
END:VEVENT
BEGIN:VEVENT
UID:36343035-6132-4536-b230-356262326566
DTSTAMP:20260422T033947Z
DESCRIPTION:5/5 Kometa Praha C - Španielka B 2:0 (23\,13)
DTSTART;TZID=Europe/Berlin:20250112T110000
DTEND;TZID=Europe/Berlin:20250112T130000
LOCATION:SKŠ ZŠ Mikulova Praha\, Mikulova 1594 Praha - Chodov
SUMMARY:PP-U20Z-4-E: Kometa Praha C-Španielka B
END:VEVENT
BEGIN:VEVENT
UID:36343033-6361-4364-b136-646534353633
DTSTAMP:20260422T033947Z
DESCRIPTION:4/4 Mikulova C - Kometa Praha C 2:0 (17\,18)
DTSTART;TZID=Europe/Berlin:20250112T100000
DTEND;TZID=Europe/Berlin:20250112T120000
LOCATION:SKŠ ZŠ Mikulova Praha\, Mikulova 1594 Praha - Chodov
SUMMARY:PP-U20Z-4-E: Mikulova C-Kometa Praha C
END:VEVENT
BEGIN:VEVENT
UID:35376230-3635-4364-a566-613364353962
DTSTAMP:20260422T033947Z
DESCRIPTION:2/2 Kometa Praha C - Mikulova D 2:0 (8\,14)
DTSTART;TZID=Europe/Berlin:20250302T100000
DTEND;TZID=Europe/Berlin:20250302T120000
LOCATION:Tělocvična ZŠ\, Španielova 1111 Praha - Řepy
SUMMARY:PP-U20Z-5-E: Kometa Praha C-Mikulova D
END:VEVENT
BEGIN:VEVENT
UID:62646530-3935-4339-b766-323836323733
DTSTAMP:20260422T033947Z
DESCRIPTION:5/5 Kometa Praha C - Španielka B 2:0 (19\,10)
DTSTART;TZID=Europe/Berlin:20250302T130000
DTEND;TZID=Europe/Berlin:20250302T150000
LOCATION:Tělocvična ZŠ\, Španielova 1111 Praha - Řepy
SUMMARY:PP-U20Z-5-E: Kometa Praha C-Španielka B
END:VEVENT
BEGIN:VEVENT
UID:31636437-6334-4233-b437-336366666435
DTSTAMP:20260422T033947Z
DESCRIPTION:4/4 Radotín - Kometa Praha C 0:2 (-12\,-13)
DTSTART;TZID=Europe/Berlin:20250302T120000
DTEND;TZID=Europe/Berlin:20250302T140000
LOCATION:Tělocvična ZŠ\, Španielova 1111 Praha - Řepy
SUMMARY:PP-U20Z-5-E: Radotín-Kometa Praha C
END:VEVENT
BEGIN:VEVENT
UID:34393332-3235-4265-b531-366665333463
DTSTAMP:20260422T033947Z
DESCRIPTION:3/3 Kometa Praha C - Meteor Praha C 2:1 (16\,-14\,12)
DTSTART;TZID=Europe/Berlin:20250330T110000
DTEND;TZID=Europe/Berlin:20250330T130000
LOCATION:ZŠ Glowackého\, Glowackého 555 Praha - Troja
SUMMARY:PP-U20Z-6-D: Kometa Praha C-Meteor Praha C
END:VEVENT
BEGIN:VEVENT
UID:63616533-3136-4665-a539-316330366134
DTSTAMP:20260422T033947Z
DESCRIPTION:1/1 Slavia Praha B - Kometa Praha C 0:2 (-19\,-21)
DTSTART;TZID=Europe/Berlin:20250330T090000
DTEND;TZID=Europe/Berlin:20250330T110000
LOCATION:ZŠ Glowackého\, Glowackého 555 Praha - Troja
SUMMARY:PP-U20Z-6-D: Slavia Praha B-Kometa Praha C
END:VEVENT
BEGIN:VEVENT
UID:66363036-3262-4264-b362-363939343761
DTSTAMP:20260422T033947Z
DESCRIPTION:5/5 Volejbal Vršovice - Kometa Praha C 0:2 (-22\,-23)
DTSTART;TZID=Europe/Berlin:20250330T130000
DTEND;TZID=Europe/Berlin:20250330T150000
LOCATION:ZŠ Glowackého\, Glowackého 555 Praha - Troja
SUMMARY:PP-U20Z-6-D: Volejbal Vršovice-Kometa Praha C
END:VEVENT
END:VCALENDAR
