BEGIN:VCALENDAR
VERSION:2.0
PRODID:-//Volejbal Vršovice87112//NONSGML kigkonsult.se iCalcreator 2.41.80//
CALSCALE:GREGORIAN
UID:32303236-3930-4733-b138-366435616637
BEGIN:VEVENT
UID:34653263-6533-4561-b063-383137373530
DTSTAMP:20260422T033916Z
DESCRIPTION:4/7 Volejbal Vršovice - Lvi Praha B 0:2 (-8\,-11)
DTSTART;TZID=Europe/Berlin:20240915T120000
DTEND;TZID=Europe/Berlin:20240915T140000
LOCATION:Tělocvična ZŠ\, Španielova 1111 Praha - Řepy
SUMMARY:PP-U20Z-Q-B: Volejbal Vršovice-Lvi Praha B
END:VEVENT
BEGIN:VEVENT
UID:31663363-3334-4034-b231-626263666236
DTSTAMP:20260422T033916Z
DESCRIPTION:5/9 Volejbal Vršovice - Španielka A 0:2 (-18\,-8)
DTSTART;TZID=Europe/Berlin:20240915T130000
DTEND;TZID=Europe/Berlin:20240915T150000
LOCATION:Tělocvična ZŠ\, Španielova 1111 Praha - Řepy
SUMMARY:PP-U20Z-Q-B: Volejbal Vršovice-Španielka A
END:VEVENT
BEGIN:VEVENT
UID:61613062-6434-4066-a464-626435373763
DTSTAMP:20260422T033916Z
DESCRIPTION:1/2 Kometa Praha C - Volejbal Vršovice 2:0 (15\,22)
DTSTART;TZID=Europe/Berlin:20240915T090000
DTEND;TZID=Europe/Berlin:20240915T110000
LOCATION:Tělocvična ZŠ\, Španielova 1111 Praha - Řepy
SUMMARY:PP-U20Z-Q-B: Kometa Praha C-Volejbal Vršovice
END:VEVENT
BEGIN:VEVENT
UID:66303933-3566-4830-a330-313336656133
DTSTAMP:20260422T033916Z
DESCRIPTION:3/6 ABC Braník - Volejbal Vršovice 2:0 (15\,18)
DTSTART;TZID=Europe/Berlin:20240915T110000
DTEND;TZID=Europe/Berlin:20240915T130000
LOCATION:Tělocvična ZŠ\, Španielova 1111 Praha - Řepy
SUMMARY:PP-U20Z-Q-B: ABC Braník-Volejbal Vršovice
END:VEVENT
BEGIN:VEVENT
UID:30353039-6465-4332-b633-626130333331
DTSTAMP:20260422T033916Z
DESCRIPTION:2/2 Volejbal Vršovice - Španielka B 2:0 (13\,16)
DTSTART;TZID=Europe/Berlin:20241006T100000
DTEND;TZID=Europe/Berlin:20241006T120000
LOCATION:Tělocvična ZŠ\, Španielova 1111 Praha - Řepy
SUMMARY:PP-U20Z-1-E: Volejbal Vršovice-Španielka B
END:VEVENT
BEGIN:VEVENT
UID:31656132-6465-4032-a561-653435376663
DTSTAMP:20260422T033916Z
DESCRIPTION:5/5 Volejbal Vršovice - Mikulova D 2:0 (23\,15)
DTSTART;TZID=Europe/Berlin:20241006T130000
DTEND;TZID=Europe/Berlin:20241006T150000
LOCATION:Tělocvična ZŠ\, Španielova 1111 Praha - Řepy
SUMMARY:PP-U20Z-1-E: Volejbal Vršovice-Mikulova D
END:VEVENT
BEGIN:VEVENT
UID:64353930-3761-4263-b732-303766633732
DTSTAMP:20260422T033916Z
DESCRIPTION:4/4 Radotín - Volejbal Vršovice 0:2 (-20\,-20)
DTSTART;TZID=Europe/Berlin:20241006T120000
DTEND;TZID=Europe/Berlin:20241006T140000
LOCATION:Tělocvična ZŠ\, Španielova 1111 Praha - Řepy
SUMMARY:PP-U20Z-1-E: Radotín-Volejbal Vršovice
END:VEVENT
BEGIN:VEVENT
UID:38306266-6635-4533-a130-383733313861
DTSTAMP:20260422T033916Z
DESCRIPTION:3/3 Volejbal Vršovice - Meteor Praha C 2:1 (-21\,21\,11)
DTSTART;TZID=Europe/Berlin:20241103T110000
DTEND;TZID=Europe/Berlin:20241103T130000
LOCATION:Tělocvična ZŠ Na Šutce\, Na Šutce 440 Praha - Troja
SUMMARY:PP-U20Z-2-D: Volejbal Vršovice-Meteor Praha C
END:VEVENT
BEGIN:VEVENT
UID:64343935-3038-4166-a366-353764366530
DTSTAMP:20260422T033916Z
DESCRIPTION:1/1 Kometa Praha B - Volejbal Vršovice 2:1 (-25\,22\,5)
DTSTART;TZID=Europe/Berlin:20241103T090000
DTEND;TZID=Europe/Berlin:20241103T110000
LOCATION:Tělocvična ZŠ Na Šutce\, Na Šutce 440 Praha - Troja
SUMMARY:PP-U20Z-2-D: Kometa Praha B-Volejbal Vršovice
END:VEVENT
BEGIN:VEVENT
UID:36653139-6635-4330-a135-626466663832
DTSTAMP:20260422T033916Z
DESCRIPTION:5/5 Slavia Praha B - Volejbal Vršovice 2:1 (-21\,20\,9)
DTSTART;TZID=Europe/Berlin:20241103T130000
DTEND;TZID=Europe/Berlin:20241103T150000
LOCATION:Tělocvična ZŠ Na Šutce\, Na Šutce 440 Praha - Troja
SUMMARY:PP-U20Z-2-D: Slavia Praha B-Volejbal Vršovice
END:VEVENT
BEGIN:VEVENT
UID:35386334-3664-4631-b064-333334363435
DTSTAMP:20260422T033916Z
DESCRIPTION:3/6 Volejbal Vršovice - Mikulova C 2:1 (24\,-16\,14)
DTSTART;TZID=Europe/Berlin:20241208T110000
DTEND;TZID=Europe/Berlin:20241208T130000
LOCATION:SKŠ ZŠ Mikulova Praha\, Mikulova 1594 Praha - Chodov
SUMMARY:PP-U20Z-3-D: Volejbal Vršovice-Mikulova C
END:VEVENT
BEGIN:VEVENT
UID:32343033-3639-4863-b733-363831353164
DTSTAMP:20260422T033916Z
DESCRIPTION:1/2 Slavia Praha B - Volejbal Vršovice 1:2 (23\,-19\,-12)
DTSTART;TZID=Europe/Berlin:20241208T090000
DTEND;TZID=Europe/Berlin:20241208T110000
LOCATION:SKŠ ZŠ Mikulova Praha\, Mikulova 1594 Praha - Chodov
SUMMARY:PP-U20Z-3-D: Slavia Praha B-Volejbal Vršovice
END:VEVENT
BEGIN:VEVENT
UID:38373331-6530-4564-a330-653331363833
DTSTAMP:20260422T033916Z
DESCRIPTION:2/3 Radotín - Volejbal Vršovice 0:2 (-20\,-6)
DTSTART;TZID=Europe/Berlin:20241208T100000
DTEND;TZID=Europe/Berlin:20241208T120000
LOCATION:SKŠ ZŠ Mikulova Praha\, Mikulova 1594 Praha - Chodov
SUMMARY:PP-U20Z-3-D: Radotín-Volejbal Vršovice
END:VEVENT
BEGIN:VEVENT
UID:32333566-6436-4530-a139-313063656137
DTSTAMP:20260422T033916Z
DESCRIPTION:3/3 Volejbal Vršovice - Mikulova B 0:2 (-14\,-16)
DTSTART;TZID=Europe/Berlin:20250112T133000
DTEND;TZID=Europe/Berlin:20250112T153000
LOCATION:SKŠ ZŠ Mikulova Praha\, Mikulova 1594 Praha - Chodov
SUMMARY:PP-U20Z-4-C: Volejbal Vršovice-Mikulova B
END:VEVENT
BEGIN:VEVENT
UID:33333734-3965-4266-b933-616261633262
DTSTAMP:20260422T033916Z
DESCRIPTION:1/1 Střešovice B - Volejbal Vršovice 2:0 (17\,20)
DTSTART;TZID=Europe/Berlin:20250112T123000
DTEND;TZID=Europe/Berlin:20250112T143000
LOCATION:SKŠ ZŠ Mikulova Praha\, Mikulova 1594 Praha - Chodov
SUMMARY:PP-U20Z-4-C: Střešovice B-Volejbal Vršovice
END:VEVENT
BEGIN:VEVENT
UID:32363133-3936-4334-a632-346535663262
DTSTAMP:20260422T033916Z
DESCRIPTION:5/5 Orion Praha B - Volejbal Vršovice 2:1 (-24\,11\,11)
DTSTART;TZID=Europe/Berlin:20250112T143000
DTEND;TZID=Europe/Berlin:20250112T163000
LOCATION:SKŠ ZŠ Mikulova Praha\, Mikulova 1594 Praha - Chodov
SUMMARY:PP-U20Z-4-C: Orion Praha B-Volejbal Vršovice
END:VEVENT
BEGIN:VEVENT
UID:32376362-3962-4664-b564-363439306165
DTSTAMP:20260422T033916Z
DESCRIPTION:1/1 Volejbal Vršovice - Mikulova C 1:2 (-19\,19\,-8)
DTSTART;TZID=Europe/Berlin:20250302T090000
DTEND;TZID=Europe/Berlin:20250302T110000
LOCATION:SKŠ ZŠ Mikulova Praha\, Mikulova 1594 Praha - Chodov
SUMMARY:PP-U20Z-5-D: Volejbal Vršovice-Mikulova C
END:VEVENT
BEGIN:VEVENT
UID:62663338-3535-4330-a333-333962373438
DTSTAMP:20260422T033916Z
DESCRIPTION:4/4 Volejbal Vršovice - Kometa Praha B 2:0 (14\,14)
DTSTART;TZID=Europe/Berlin:20250302T120000
DTEND;TZID=Europe/Berlin:20250302T140000
LOCATION:SKŠ ZŠ Mikulova Praha\, Mikulova 1594 Praha - Chodov
SUMMARY:PP-U20Z-5-D: Volejbal Vršovice-Kometa Praha B
END:VEVENT
BEGIN:VEVENT
UID:31663265-3534-4466-b034-353866313139
DTSTAMP:20260422T033916Z
DESCRIPTION:6/6 Meteor Praha C - Volejbal Vršovice 0:2 (-14\,-18)
DTSTART;TZID=Europe/Berlin:20250302T140000
DTEND;TZID=Europe/Berlin:20250302T160000
LOCATION:SKŠ ZŠ Mikulova Praha\, Mikulova 1594 Praha - Chodov
SUMMARY:PP-U20Z-5-D: Meteor Praha C-Volejbal Vršovice
END:VEVENT
BEGIN:VEVENT
UID:33646564-3738-4332-a238-393030373732
DTSTAMP:20260422T033916Z
DESCRIPTION:2/2 Volejbal Vršovice - Meteor Praha C 0:2 (-24\,-19)
DTSTART;TZID=Europe/Berlin:20250330T100000
DTEND;TZID=Europe/Berlin:20250330T120000
LOCATION:ZŠ Glowackého\, Glowackého 555 Praha - Troja
SUMMARY:PP-U20Z-6-D: Volejbal Vršovice-Meteor Praha C
END:VEVENT
BEGIN:VEVENT
UID:64373130-3865-4430-b831-333633366464
DTSTAMP:20260422T033916Z
DESCRIPTION:5/5 Volejbal Vršovice - Kometa Praha C 0:2 (-22\,-23)
DTSTART;TZID=Europe/Berlin:20250330T130000
DTEND;TZID=Europe/Berlin:20250330T150000
LOCATION:ZŠ Glowackého\, Glowackého 555 Praha - Troja
SUMMARY:PP-U20Z-6-D: Volejbal Vršovice-Kometa Praha C
END:VEVENT
BEGIN:VEVENT
UID:66373266-3432-4461-b566-366135303763
DTSTAMP:20260422T033916Z
DESCRIPTION:4/4 Slavia Praha B - Volejbal Vršovice 2:1 (-19\,18\,14)
DTSTART;TZID=Europe/Berlin:20250330T120000
DTEND;TZID=Europe/Berlin:20250330T140000
LOCATION:ZŠ Glowackého\, Glowackého 555 Praha - Troja
SUMMARY:PP-U20Z-6-D: Slavia Praha B-Volejbal Vršovice
END:VEVENT
END:VCALENDAR
