BEGIN:VCALENDAR
VERSION:2.0
PRODID:-//Střešovice C87113//NONSGML kigkonsult.se iCalcreator 2.41.80//
CALSCALE:GREGORIAN
UID:35643638-6336-4530-a634-333361333637
BEGIN:VEVENT
UID:35366266-3635-4439-b131-613331323765
DTSTAMP:20260422T052743Z
DESCRIPTION:2/4 Střešovice C - Radotín 2:0 (8\,8)
DTSTART;TZID=Europe/Berlin:20240915T100000
DTEND;TZID=Europe/Berlin:20240915T120000
LOCATION:SKŠ ZŠ Mikulova Praha\, Mikulova 1594 Praha - Chodov
SUMMARY:PP-U20Z-Q-A: Střešovice C-Radotín
END:VEVENT
BEGIN:VEVENT
UID:64323236-3737-4634-b962-613962633132
DTSTAMP:20260422T052743Z
DESCRIPTION:5/10 Střešovice C - Meteor Praha B 2:0 (22\,23)
DTSTART;TZID=Europe/Berlin:20240915T130000
DTEND;TZID=Europe/Berlin:20240915T150000
LOCATION:SKŠ ZŠ Mikulova Praha\, Mikulova 1594 Praha - Chodov
SUMMARY:PP-U20Z-Q-A: Střešovice C-Meteor Praha B
END:VEVENT
BEGIN:VEVENT
UID:31653438-6463-4061-a138-663937653139
DTSTAMP:20260422T052743Z
DESCRIPTION:1/1 Slavia Praha B - Střešovice C 0:2 (-17\,-15)
DTSTART;TZID=Europe/Berlin:20240915T090000
DTEND;TZID=Europe/Berlin:20240915T110000
LOCATION:SKŠ ZŠ Mikulova Praha\, Mikulova 1594 Praha - Chodov
SUMMARY:PP-U20Z-Q-A: Slavia Praha B-Střešovice C
END:VEVENT
BEGIN:VEVENT
UID:66343437-6661-4131-a562-383962376263
DTSTAMP:20260422T052743Z
DESCRIPTION:4/7 Mikulova C - Střešovice C 0:2 (-17\,-9)
DTSTART;TZID=Europe/Berlin:20240915T120000
DTEND;TZID=Europe/Berlin:20240915T140000
LOCATION:SKŠ ZŠ Mikulova Praha\, Mikulova 1594 Praha - Chodov
SUMMARY:PP-U20Z-Q-A: Mikulova C-Střešovice C
END:VEVENT
BEGIN:VEVENT
UID:31633032-6361-4037-a231-323533303233
DTSTAMP:20260422T052743Z
DESCRIPTION:1/1 Střešovice C - SAVO 2:0 (22\,19)
DTSTART;TZID=Europe/Berlin:20241006T090000
DTEND;TZID=Europe/Berlin:20241006T110000
LOCATION:tělocvičny ZŠ Mikulova\, Mikulova 1594 Praha - Chodov
SUMMARY:PP-U20Z-1-A: Střešovice C-SAVO
END:VEVENT
BEGIN:VEVENT
UID:30323365-3931-4538-b364-356437396538
DTSTAMP:20260422T052743Z
DESCRIPTION:2/4 Střešovice C - ABC Braník 1:2 (-18\,21\,-8)
DTSTART;TZID=Europe/Berlin:20241006T100000
DTEND;TZID=Europe/Berlin:20241006T120000
LOCATION:tělocvičny ZŠ Mikulova\, Mikulova 1594 Praha - Chodov
SUMMARY:PP-U20Z-1-A: Střešovice C-ABC Braník
END:VEVENT
BEGIN:VEVENT
UID:37326135-6436-4339-b738-386135633035
DTSTAMP:20260422T052743Z
DESCRIPTION:3/6 Mikulova B - Střešovice C 1:2 (13\,-24\,-12)
DTSTART;TZID=Europe/Berlin:20241006T110000
DTEND;TZID=Europe/Berlin:20241006T130000
LOCATION:tělocvičny ZŠ Mikulova\, Mikulova 1594 Praha - Chodov
SUMMARY:PP-U20Z-1-A: Mikulova B-Střešovice C
END:VEVENT
BEGIN:VEVENT
UID:64623732-3939-4836-a462-613232313632
DTSTAMP:20260422T052743Z
DESCRIPTION:1/2 Střešovice C - SAVO 1:2 (-20\,23\,-10)
DTSTART;TZID=Europe/Berlin:20241103T090000
DTEND;TZID=Europe/Berlin:20241103T110000
LOCATION:FZŠ Mezi Školami\, Mezi školami 2322 Praha - Stodůlky
SUMMARY:PP-U20Z-2-A: Střešovice C-SAVO
END:VEVENT
BEGIN:VEVENT
UID:30333435-3461-4964-a361-356238326637
DTSTAMP:20260422T052743Z
DESCRIPTION:3/5 Střešovice C - SK HAMR 1:2 (24\,-21\,-4)
DTSTART;TZID=Europe/Berlin:20241103T110000
DTEND;TZID=Europe/Berlin:20241103T130000
LOCATION:FZŠ Mezi Školami\, Mezi školami 2322 Praha - Stodůlky
SUMMARY:PP-U20Z-2-A: Střešovice C-SK HAMR
END:VEVENT
BEGIN:VEVENT
UID:62393239-3136-4762-b136-633662313263
DTSTAMP:20260422T052743Z
DESCRIPTION:2/4 ABC Braník - Střešovice C 2:0 (23\,17)
DTSTART;TZID=Europe/Berlin:20241103T100000
DTEND;TZID=Europe/Berlin:20241103T120000
LOCATION:FZŠ Mezi Školami\, Mezi školami 2322 Praha - Stodůlky
SUMMARY:PP-U20Z-2-A: ABC Braník-Střešovice C
END:VEVENT
BEGIN:VEVENT
UID:31626135-3231-4061-b032-616261346261
DTSTAMP:20260422T052743Z
DESCRIPTION:1/1 Střešovice C - Horní Počernice 0:2 (-17\,-25)
DTSTART;TZID=Europe/Berlin:20241208T090000
DTEND;TZID=Europe/Berlin:20241208T110000
LOCATION:TJ Tatran Střešovice\, Sibeliova 368 Praha - Střešovice
SUMMARY:PP-U20Z-3-B: Střešovice C-Horní Počernice
END:VEVENT
BEGIN:VEVENT
UID:34333930-6135-4264-b662-343766303566
DTSTAMP:20260422T052743Z
DESCRIPTION:4/4 Střešovice C - Střešovice B 2:0 (16\,20)
DTSTART;TZID=Europe/Berlin:20241208T120000
DTEND;TZID=Europe/Berlin:20241208T140000
LOCATION:TJ Tatran Střešovice\, Sibeliova 368 Praha - Střešovice
SUMMARY:PP-U20Z-3-B: Střešovice C-Střešovice B
END:VEVENT
BEGIN:VEVENT
UID:34636666-6262-4535-b937-623662393939
DTSTAMP:20260422T052743Z
DESCRIPTION:6/6 Španielka A - Střešovice C 1:2 (-23\,14\,-15)
DTSTART;TZID=Europe/Berlin:20241208T140000
DTEND;TZID=Europe/Berlin:20241208T160000
LOCATION:TJ Tatran Střešovice\, Sibeliova 368 Praha - Střešovice
SUMMARY:PP-U20Z-3-B: Španielka A-Střešovice C
END:VEVENT
BEGIN:VEVENT
UID:39666638-3466-4261-a666-346364613831
DTSTAMP:20260422T052743Z
DESCRIPTION:2/2 Střešovice C - Španielka A 2:1 (-20\,20\,12)
DTSTART;TZID=Europe/Berlin:20250112T100000
DTEND;TZID=Europe/Berlin:20250112T120000
LOCATION:FZŠ Brdičkova\, Brdičkova 1878 Praha - Stodůlky
SUMMARY:PP-U20Z-4-B: Střešovice C-Španielka A
END:VEVENT
BEGIN:VEVENT
UID:30336565-3334-4361-a436-303934343833
DTSTAMP:20260422T052743Z
DESCRIPTION:5/5 Střešovice C - Lvi Praha B 2:0 (18\,12)
DTSTART;TZID=Europe/Berlin:20250112T130000
DTEND;TZID=Europe/Berlin:20250112T150000
LOCATION:FZŠ Brdičkova\, Brdičkova 1878 Praha - Stodůlky
SUMMARY:PP-U20Z-4-B: Střešovice C-Lvi Praha B
END:VEVENT
BEGIN:VEVENT
UID:64343230-3335-4262-b735-376537323934
DTSTAMP:20260422T052743Z
DESCRIPTION:4/4 SK HAMR - Střešovice C 2:1 (-22\,22\,9)
DTSTART;TZID=Europe/Berlin:20250112T120000
DTEND;TZID=Europe/Berlin:20250112T140000
LOCATION:FZŠ Brdičkova\, Brdičkova 1878 Praha - Stodůlky
SUMMARY:PP-U20Z-4-B: SK HAMR-Střešovice C
END:VEVENT
BEGIN:VEVENT
UID:61383433-6335-4638-b235-373432646164
DTSTAMP:20260422T052743Z
DESCRIPTION:1/2 Střešovice C - Lvi Praha B 2:0 (15\,17)
DTSTART;TZID=Europe/Berlin:20250302T090000
DTEND;TZID=Europe/Berlin:20250302T110000
LOCATION:Sportovní hala Horní Počernice TěloCvič!\, Jívanská 3226 Praha - H
 orní Počernice
SUMMARY:PP-U20Z-5-B: Střešovice C-Lvi Praha B
END:VEVENT
BEGIN:VEVENT
UID:32373338-3662-4263-a535-363238383166
DTSTAMP:20260422T052743Z
DESCRIPTION:3/5 Střešovice C - Mikulova B 1:2 (-19\,20\,-9)
DTSTART;TZID=Europe/Berlin:20250302T110000
DTEND;TZID=Europe/Berlin:20250302T130000
LOCATION:Sportovní hala Horní Počernice TěloCvič!\, Jívanská 3226 Praha - H
 orní Počernice
SUMMARY:PP-U20Z-5-B: Střešovice C-Mikulova B
END:VEVENT
BEGIN:VEVENT
UID:62316639-3164-4565-a434-346533623565
DTSTAMP:20260422T052743Z
DESCRIPTION:2/4 Horní Počernice - Střešovice C 2:1 (-23\,23\,11)
DTSTART;TZID=Europe/Berlin:20250302T100000
DTEND;TZID=Europe/Berlin:20250302T120000
LOCATION:Sportovní hala Horní Počernice TěloCvič!\, Jívanská 3226 Praha - H
 orní Počernice
SUMMARY:PP-U20Z-5-B: Horní Počernice-Střešovice C
END:VEVENT
BEGIN:VEVENT
UID:36616538-6635-4833-b235-613139633037
DTSTAMP:20260422T052743Z
DESCRIPTION:6/6 Střešovice C - Meteor Praha B 0:2 (-21\,-24)
DTSTART;TZID=Europe/Berlin:20250330T140000
DTEND;TZID=Europe/Berlin:20250330T160000
LOCATION:Tělocvična ZŠ\, Španielova 1111 Praha - Řepy
SUMMARY:PP-U20Z-6-B: Střešovice C-Meteor Praha B
END:VEVENT
BEGIN:VEVENT
UID:33353761-6561-4464-b335-383035366362
DTSTAMP:20260422T052743Z
DESCRIPTION:2/2 Mikulova B - Střešovice C 1:2 (-20\,23\,-6)
DTSTART;TZID=Europe/Berlin:20250330T100000
DTEND;TZID=Europe/Berlin:20250330T120000
LOCATION:Tělocvična ZŠ\, Španielova 1111 Praha - Řepy
SUMMARY:PP-U20Z-6-B: Mikulova B-Střešovice C
END:VEVENT
BEGIN:VEVENT
UID:62616461-6633-4138-a562-396261636263
DTSTAMP:20260422T052743Z
DESCRIPTION:3/3 Španielka A - Střešovice C 0:2 (-16\,-26)
DTSTART;TZID=Europe/Berlin:20250330T110000
DTEND;TZID=Europe/Berlin:20250330T130000
LOCATION:Tělocvična ZŠ\, Španielova 1111 Praha - Řepy
SUMMARY:PP-U20Z-6-B: Španielka A-Střešovice C
END:VEVENT
END:VCALENDAR
