BEGIN:VCALENDAR
VERSION:2.0
PRODID:-//Lvi Praha B87116//NONSGML kigkonsult.se iCalcreator 2.41.80//
CALSCALE:GREGORIAN
UID:37386533-3865-4762-b232-346562366632
BEGIN:VEVENT
UID:62376638-3363-4832-b766-363336386262
DTSTAMP:20260422T033941Z
DESCRIPTION:2/4 Lvi Praha B - Kometa Praha C 2:0 (14\,20)
DTSTART;TZID=Europe/Berlin:20240915T100000
DTEND;TZID=Europe/Berlin:20240915T120000
LOCATION:Tělocvična ZŠ\, Španielova 1111 Praha - Řepy
SUMMARY:PP-U20Z-Q-B: Lvi Praha B-Kometa Praha C
END:VEVENT
BEGIN:VEVENT
UID:32343732-6566-4936-b434-643365626138
DTSTAMP:20260422T033941Z
DESCRIPTION:5/10 Lvi Praha B - ABC Braník 0:2 (-11\,-11)
DTSTART;TZID=Europe/Berlin:20240915T130000
DTEND;TZID=Europe/Berlin:20240915T150000
LOCATION:Tělocvična ZŠ\, Španielova 1111 Praha - Řepy
SUMMARY:PP-U20Z-Q-B: Lvi Praha B-ABC Braník
END:VEVENT
BEGIN:VEVENT
UID:32383037-3363-4666-a661-353334373632
DTSTAMP:20260422T033941Z
DESCRIPTION:1/1 Španielka A - Lvi Praha B 2:0 (18\,21)
DTSTART;TZID=Europe/Berlin:20240915T090000
DTEND;TZID=Europe/Berlin:20240915T110000
LOCATION:Tělocvična ZŠ\, Španielova 1111 Praha - Řepy
SUMMARY:PP-U20Z-Q-B: Španielka A-Lvi Praha B
END:VEVENT
BEGIN:VEVENT
UID:63316330-6537-4663-a237-353162393835
DTSTAMP:20260422T033941Z
DESCRIPTION:4/7 Volejbal Vršovice - Lvi Praha B 0:2 (-8\,-11)
DTSTART;TZID=Europe/Berlin:20240915T120000
DTEND;TZID=Europe/Berlin:20240915T140000
LOCATION:Tělocvična ZŠ\, Španielova 1111 Praha - Řepy
SUMMARY:PP-U20Z-Q-B: Volejbal Vršovice-Lvi Praha B
END:VEVENT
BEGIN:VEVENT
UID:37396234-3462-4361-b766-323532616631
DTSTAMP:20260422T033941Z
DESCRIPTION:1/2 Lvi Praha B - Kometa Praha B 2:0 (11\,22)
DTSTART;TZID=Europe/Berlin:20241006T123000
DTEND;TZID=Europe/Berlin:20241006T143000
LOCATION:tělocvičny ZŠ Mikulova\, Mikulova 1594 Praha - Chodov
SUMMARY:PP-U20Z-1-C: Lvi Praha B-Kometa Praha B
END:VEVENT
BEGIN:VEVENT
UID:64323632-3233-4339-b763-616265373631
DTSTAMP:20260422T033941Z
DESCRIPTION:3/5 Lvi Praha B - Střešovice B 0:2 (-14\,-14)
DTSTART;TZID=Europe/Berlin:20241006T143000
DTEND;TZID=Europe/Berlin:20241006T163000
LOCATION:tělocvičny ZŠ Mikulova\, Mikulova 1594 Praha - Chodov
SUMMARY:PP-U20Z-1-C: Lvi Praha B-Střešovice B
END:VEVENT
BEGIN:VEVENT
UID:65306663-3431-4263-b163-366161643061
DTSTAMP:20260422T033941Z
DESCRIPTION:2/4 Mikulova C - Lvi Praha B 2:0 (22\,13)
DTSTART;TZID=Europe/Berlin:20241006T133000
DTEND;TZID=Europe/Berlin:20241006T153000
LOCATION:tělocvičny ZŠ Mikulova\, Mikulova 1594 Praha - Chodov
SUMMARY:PP-U20Z-1-C: Mikulova C-Lvi Praha B
END:VEVENT
BEGIN:VEVENT
UID:39633866-3636-4161-a134-333333303936
DTSTAMP:20260422T033941Z
DESCRIPTION:6/6 Lvi Praha B - Orion Praha B 1:2 (-21\,25\,-10)
DTSTART;TZID=Europe/Berlin:20241103T140000
DTEND;TZID=Europe/Berlin:20241103T160000
LOCATION:TJ Sokol Horní Počernice\, Chvalkovická 2031 Praha - Horní Počerni
 ce
SUMMARY:PP-U20Z-2-C: Lvi Praha B-Orion Praha B
END:VEVENT
BEGIN:VEVENT
UID:63333430-3837-4263-a561-643335303262
DTSTAMP:20260422T033941Z
DESCRIPTION:2/2 Mikulova C - Lvi Praha B 1:2 (-20\,24\,-5)
DTSTART;TZID=Europe/Berlin:20241103T100000
DTEND;TZID=Europe/Berlin:20241103T120000
LOCATION:TJ Sokol Horní Počernice\, Chvalkovická 2031 Praha - Horní Počerni
 ce
SUMMARY:PP-U20Z-2-C: Mikulova C-Lvi Praha B
END:VEVENT
BEGIN:VEVENT
UID:61633931-3231-4866-b765-336434366163
DTSTAMP:20260422T033941Z
DESCRIPTION:3/3 Horní Počernice - Lvi Praha B 2:0 (16\,13)
DTSTART;TZID=Europe/Berlin:20241103T110000
DTEND;TZID=Europe/Berlin:20241103T130000
LOCATION:TJ Sokol Horní Počernice\, Chvalkovická 2031 Praha - Horní Počerni
 ce
SUMMARY:PP-U20Z-2-C: Horní Počernice-Lvi Praha B
END:VEVENT
BEGIN:VEVENT
UID:33623863-6563-4465-b936-303365396661
DTSTAMP:20260422T033941Z
DESCRIPTION:3/6 Lvi Praha B - Mikulova B 1:2 (18\,-18\,-11)
DTSTART;TZID=Europe/Berlin:20241208T143000
DTEND;TZID=Europe/Berlin:20241208T163000
LOCATION:SKŠ ZŠ Mikulova Praha\, Mikulova 1594 Praha - Chodov
SUMMARY:PP-U20Z-3-C: Lvi Praha B-Mikulova B
END:VEVENT
BEGIN:VEVENT
UID:38336436-3563-4232-a433-356364323266
DTSTAMP:20260422T033941Z
DESCRIPTION:1/2 Orion Praha B - Lvi Praha B 0:2 (-22\,-26)
DTSTART;TZID=Europe/Berlin:20241208T123000
DTEND;TZID=Europe/Berlin:20241208T143000
LOCATION:SKŠ ZŠ Mikulova Praha\, Mikulova 1594 Praha - Chodov
SUMMARY:PP-U20Z-3-C: Orion Praha B-Lvi Praha B
END:VEVENT
BEGIN:VEVENT
UID:38303365-6366-4333-b463-623663653030
DTSTAMP:20260422T033941Z
DESCRIPTION:2/3 Meteor Praha C - Lvi Praha B 0:2 (-22\,-13)
DTSTART;TZID=Europe/Berlin:20241208T133000
DTEND;TZID=Europe/Berlin:20241208T153000
LOCATION:SKŠ ZŠ Mikulova Praha\, Mikulova 1594 Praha - Chodov
SUMMARY:PP-U20Z-3-C: Meteor Praha C-Lvi Praha B
END:VEVENT
BEGIN:VEVENT
UID:33643535-3639-4164-b761-316439616534
DTSTAMP:20260422T033941Z
DESCRIPTION:3/3 Lvi Praha B - Španielka A 2:0 (21\,23)
DTSTART;TZID=Europe/Berlin:20250112T110000
DTEND;TZID=Europe/Berlin:20250112T130000
LOCATION:FZŠ Brdičkova\, Brdičkova 1878 Praha - Stodůlky
SUMMARY:PP-U20Z-4-B: Lvi Praha B-Španielka A
END:VEVENT
BEGIN:VEVENT
UID:32323162-3037-4238-a630-613466656538
DTSTAMP:20260422T033941Z
DESCRIPTION:1/1 SK HAMR - Lvi Praha B 2:0 (14\,10)
DTSTART;TZID=Europe/Berlin:20250112T090000
DTEND;TZID=Europe/Berlin:20250112T110000
LOCATION:FZŠ Brdičkova\, Brdičkova 1878 Praha - Stodůlky
SUMMARY:PP-U20Z-4-B: SK HAMR-Lvi Praha B
END:VEVENT
BEGIN:VEVENT
UID:63353133-3230-4636-a333-623735613738
DTSTAMP:20260422T033941Z
DESCRIPTION:5/5 Střešovice C - Lvi Praha B 2:0 (18\,12)
DTSTART;TZID=Europe/Berlin:20250112T130000
DTEND;TZID=Europe/Berlin:20250112T150000
LOCATION:FZŠ Brdičkova\, Brdičkova 1878 Praha - Stodůlky
SUMMARY:PP-U20Z-4-B: Střešovice C-Lvi Praha B
END:VEVENT
BEGIN:VEVENT
UID:63636236-6232-4666-b235-323932343832
DTSTAMP:20260422T033941Z
DESCRIPTION:3/6 Lvi Praha B - Horní Počernice 0:2 (-17\,-25)
DTSTART;TZID=Europe/Berlin:20250302T110000
DTEND;TZID=Europe/Berlin:20250302T130000
LOCATION:Sportovní hala Horní Počernice TěloCvič!\, Jívanská 3226 Praha - H
 orní Počernice
SUMMARY:PP-U20Z-5-B: Lvi Praha B-Horní Počernice
END:VEVENT
BEGIN:VEVENT
UID:31366336-3865-4565-a366-376434666537
DTSTAMP:20260422T033941Z
DESCRIPTION:1/2 Střešovice C - Lvi Praha B 2:0 (15\,17)
DTSTART;TZID=Europe/Berlin:20250302T090000
DTEND;TZID=Europe/Berlin:20250302T110000
LOCATION:Sportovní hala Horní Počernice TěloCvič!\, Jívanská 3226 Praha - H
 orní Počernice
SUMMARY:PP-U20Z-5-B: Střešovice C-Lvi Praha B
END:VEVENT
BEGIN:VEVENT
UID:36383565-6463-4434-a439-646637383937
DTSTAMP:20260422T033941Z
DESCRIPTION:2/3 Mikulova B - Lvi Praha B 2:0 (14\,25)
DTSTART;TZID=Europe/Berlin:20250302T100000
DTEND;TZID=Europe/Berlin:20250302T120000
LOCATION:Sportovní hala Horní Počernice TěloCvič!\, Jívanská 3226 Praha - H
 orní Počernice
SUMMARY:PP-U20Z-5-B: Mikulova B-Lvi Praha B
END:VEVENT
BEGIN:VEVENT
UID:39386231-6662-4437-b531-346462386431
DTSTAMP:20260422T033941Z
DESCRIPTION:1/1 Lvi Praha B - Mikulova C 2:0 (19\,13)
DTSTART;TZID=Europe/Berlin:20250330T090000
DTEND;TZID=Europe/Berlin:20250330T110000
LOCATION:SKŠ ZŠ Mikulova Praha\, Mikulova 1594 Praha - Chodov
SUMMARY:PP-U20Z-6-C: Lvi Praha B-Mikulova C
END:VEVENT
BEGIN:VEVENT
UID:65393534-3133-4234-b164-366630336534
DTSTAMP:20260422T033941Z
DESCRIPTION:2/4 Lvi Praha B - Střešovice B 2:1 (-24\,19\,13)
DTSTART;TZID=Europe/Berlin:20250330T100000
DTEND;TZID=Europe/Berlin:20250330T120000
LOCATION:SKŠ ZŠ Mikulova Praha\, Mikulova 1594 Praha - Chodov
SUMMARY:PP-U20Z-6-C: Lvi Praha B-Střešovice B
END:VEVENT
BEGIN:VEVENT
UID:66303862-3965-4666-b030-646262613235
DTSTAMP:20260422T033941Z
DESCRIPTION:3/6 Orion Praha B - Lvi Praha B 2:1 (-24\,22\,11)
DTSTART;TZID=Europe/Berlin:20250330T110000
DTEND;TZID=Europe/Berlin:20250330T130000
LOCATION:SKŠ ZŠ Mikulova Praha\, Mikulova 1594 Praha - Chodov
SUMMARY:PP-U20Z-6-C: Orion Praha B-Lvi Praha B
END:VEVENT
END:VCALENDAR
