BEGIN:VCALENDAR
VERSION:2.0
PRODID:-//Mikulova A87129//NONSGML kigkonsult.se iCalcreator 2.41.80//
CALSCALE:GREGORIAN
UID:35626334-3934-4235-a564-613735613336
BEGIN:VEVENT
UID:30323365-6233-4463-a364-373665356531
DTSTAMP:20260422T231846Z
DESCRIPTION:2/3 Mikulova A - TŘEBÍN 2:0 (23\,17)
DTSTART;TZID=Europe/Berlin:20240921T111000
DTEND;TZID=Europe/Berlin:20240921T131000
LOCATION:Sportovní Hala Mír\, U Stadionu Míru 1579 Tábor
SUMMARY:CP-U16Z-Z1E: Mikulova A-TŘEBÍN
END:VEVENT
BEGIN:VEVENT
UID:62303932-3432-4933-b038-613932393136
DTSTAMP:20260422T231846Z
DESCRIPTION:3/5 Mikulova A - Příbram A 0:2 (-21\,-18)
DTSTART;TZID=Europe/Berlin:20240921T122000
DTEND;TZID=Europe/Berlin:20240921T142000
LOCATION:Sportovní Hala Mír\, U Stadionu Míru 1579 Tábor
SUMMARY:CP-U16Z-Z1E: Mikulova A-Příbram A
END:VEVENT
BEGIN:VEVENT
UID:61653332-6263-4837-b536-363461383965
DTSTAMP:20260422T231846Z
DESCRIPTION:5/11 Mikulova A - Volejbal Tábor A 2:0 (14\,12)
DTSTART;TZID=Europe/Berlin:20240921T150000
DTEND;TZID=Europe/Berlin:20240921T170000
LOCATION:Sportovní Hala Mír\, U Stadionu Míru 1579 Tábor
SUMMARY:CP-U16Z-Z1E: Mikulova A-Volejbal Tábor A
END:VEVENT
BEGIN:VEVENT
UID:35643736-3130-4366-a161-336266663461
DTSTAMP:20260422T231846Z
DESCRIPTION:7/19 Mikulova A - VSK Český Krumlov 2:0 (17\,15)
DTSTART;TZID=Europe/Berlin:20240922T090000
DTEND;TZID=Europe/Berlin:20240922T110000
LOCATION:Sportovní Hala Mír\, U Stadionu Míru 1579 Tábor
SUMMARY:CP-U16Z-Z1E: Mikulova A-VSK Český Krumlov
END:VEVENT
BEGIN:VEVENT
UID:32653032-6261-4166-a137-353264363963
DTSTAMP:20260422T231846Z
DESCRIPTION:6/15 Komárov - Mikulova A 0:2 (-18\,-22)
DTSTART;TZID=Europe/Berlin:20240921T161000
DTEND;TZID=Europe/Berlin:20240921T181000
LOCATION:Sportovní Hala Mír\, U Stadionu Míru 1579 Tábor
SUMMARY:CP-U16Z-Z1E: Komárov-Mikulova A
END:VEVENT
BEGIN:VEVENT
UID:37653534-3932-4232-b038-353366613263
DTSTAMP:20260422T231846Z
DESCRIPTION:9/25 Kunice - Mikulova A 0:2 (-13\,-6)
DTSTART;TZID=Europe/Berlin:20240922T112000
DTEND;TZID=Europe/Berlin:20240922T132000
LOCATION:Sportovní Hala Mír\, U Stadionu Míru 1579 Tábor
SUMMARY:CP-U16Z-Z1E: Kunice-Mikulova A
END:VEVENT
BEGIN:VEVENT
UID:66616434-3262-4339-b038-353038333934
DTSTAMP:20260422T231846Z
DESCRIPTION:10/27 Střešovice - Mikulova A 2:0 (17\,25)
DTSTART;TZID=Europe/Berlin:20240922T123000
DTEND;TZID=Europe/Berlin:20240922T143000
LOCATION:Sportovní Hala Mír\, U Stadionu Míru 1579 Tábor
SUMMARY:CP-U16Z-Z1E: Střešovice-Mikulova A
END:VEVENT
BEGIN:VEVENT
UID:36346432-6363-4331-b763-633830363165
DTSTAMP:20260422T231846Z
DESCRIPTION:7/7 Mikulova A - Střešovice B 2:0 (11\,8)
DTSTART;TZID=Europe/Berlin:20240908T150000
DTEND;TZID=Europe/Berlin:20240908T170000
LOCATION:SKŠ ZŠ Mikulova Praha\, Mikulova 1594 Praha - Chodov
SUMMARY:PP-U16Z-Q1-F: Mikulova A-Střešovice B
END:VEVENT
BEGIN:VEVENT
UID:61376638-3734-4938-a633-386431656664
DTSTAMP:20260422T231846Z
DESCRIPTION:10/10 Mikulova A - VK Lvi Praha A 1:2 (-18\,11\,-14)
DTSTART;TZID=Europe/Berlin:20240908T180000
DTEND;TZID=Europe/Berlin:20240908T200000
LOCATION:SKŠ ZŠ Mikulova Praha\, Mikulova 1594 Praha - Chodov
SUMMARY:PP-U16Z-Q1-F: Mikulova A-VK Lvi Praha A
END:VEVENT
BEGIN:VEVENT
UID:30393531-3533-4166-b161-343135396332
DTSTAMP:20260422T231846Z
DESCRIPTION:4/4 Mikulova D - Mikulova A 0:2 (-11\,-14)
DTSTART;TZID=Europe/Berlin:20240908T120000
DTEND;TZID=Europe/Berlin:20240908T140000
LOCATION:SKŠ ZŠ Mikulova Praha\, Mikulova 1594 Praha - Chodov
SUMMARY:PP-U16Z-Q1-F: Mikulova D-Mikulova A
END:VEVENT
BEGIN:VEVENT
UID:64356536-6331-4331-b434-383738663938
DTSTAMP:20260422T231846Z
DESCRIPTION:9/9 SK Dansport Praha - Mikulova A 1:2 (-16\,17\,-8)
DTSTART;TZID=Europe/Berlin:20240908T170000
DTEND;TZID=Europe/Berlin:20240908T190000
LOCATION:SKŠ ZŠ Mikulova Praha\, Mikulova 1594 Praha - Chodov
SUMMARY:PP-U16Z-Q1-F: SK Dansport Praha-Mikulova A
END:VEVENT
BEGIN:VEVENT
UID:39656130-6338-4736-b131-333837383032
DTSTAMP:20260422T231846Z
DESCRIPTION:3/3 Mikulova A - Orion Praha A 0:2 (-19\,-17)
DTSTART;TZID=Europe/Berlin:20240929T120000
DTEND;TZID=Europe/Berlin:20240929T140000
LOCATION:ZŠ Dolní Břežany\, Na Vršku 290 Dolní Břežany
SUMMARY:PP-U16Z-Q2-A: Mikulova A-Orion Praha A
END:VEVENT
BEGIN:VEVENT
UID:32356131-3261-4334-b739-346537663562
DTSTAMP:20260422T231846Z
DESCRIPTION:1/1 Horní Počernice A - Mikulova A 0:2 (-23\,-11)
DTSTART;TZID=Europe/Berlin:20240929T100000
DTEND;TZID=Europe/Berlin:20240929T120000
LOCATION:ZŠ Dolní Břežany\, Na Vršku 290 Dolní Břežany
SUMMARY:PP-U16Z-Q2-A: Horní Počernice A-Mikulova A
END:VEVENT
BEGIN:VEVENT
UID:63653235-6366-4265-b464-353034653731
DTSTAMP:20260422T231846Z
DESCRIPTION:1/1 Mikulova A - Střešovice 2:1 (-13\,16\,13)
DTSTART;TZID=Europe/Berlin:20241102T090000
DTEND;TZID=Europe/Berlin:20241102T110000
LOCATION:SKŠ ZŠ Mikulova Praha\, Mikulova 1594 Praha - Chodov
SUMMARY:CP-U16Z-Z2B: Mikulova A-Střešovice
END:VEVENT
BEGIN:VEVENT
UID:39356633-3134-4363-b337-326439323336
DTSTAMP:20260422T231846Z
DESCRIPTION:6/11 Mikulova A - TJ Kralupy 1:2 (20\,-20\,-8)
DTSTART;TZID=Europe/Berlin:20241102T145000
DTEND;TZID=Europe/Berlin:20241102T165000
LOCATION:SKŠ ZŠ Mikulova Praha\, Mikulova 1594 Praha - Chodov
SUMMARY:CP-U16Z-Z2B: Mikulova A-TJ Kralupy
END:VEVENT
BEGIN:VEVENT
UID:62316336-3565-4162-b434-393563316633
DTSTAMP:20260422T231846Z
DESCRIPTION:10/18 Mikulova A - ABC Braník 0:2 (-20\,-18)
DTSTART;TZID=Europe/Berlin:20241103T100000
DTEND;TZID=Europe/Berlin:20241103T120000
LOCATION:SKŠ ZŠ Mikulova Praha\, Mikulova 1594 Praha - Chodov
SUMMARY:CP-U16Z-Z2B: Mikulova A-ABC Braník
END:VEVENT
BEGIN:VEVENT
UID:33643237-3064-4166-b135-303339336665
DTSTAMP:20260422T231846Z
DESCRIPTION:12/24 Mikulova A - Radotín 2:0 (10\,27)
DTSTART;TZID=Europe/Berlin:20241103T120000
DTEND;TZID=Europe/Berlin:20241103T140000
LOCATION:SKŠ ZŠ Mikulova Praha\, Mikulova 1594 Praha - Chodov
SUMMARY:CP-U16Z-Z2B: Mikulova A-Radotín
END:VEVENT
BEGIN:VEVENT
UID:33396138-6666-4564-b330-663163643030
DTSTAMP:20260422T231846Z
DESCRIPTION:2/3 VK Lvi Praha - Mikulova A 2:0 (17\,24)
DTSTART;TZID=Europe/Berlin:20241102T101000
DTEND;TZID=Europe/Berlin:20241102T121000
LOCATION:SKŠ ZŠ Mikulova Praha\, Mikulova 1594 Praha - Chodov
SUMMARY:CP-U16Z-Z2B: VK Lvi Praha-Mikulova A
END:VEVENT
BEGIN:VEVENT
UID:63356666-3363-4464-b262-323764643930
DTSTAMP:20260422T231846Z
DESCRIPTION:5/9 SK Slavia Praha  A - Mikulova A 2:0 (22\,14)
DTSTART;TZID=Europe/Berlin:20241102T134000
DTEND;TZID=Europe/Berlin:20241102T154000
LOCATION:SKŠ ZŠ Mikulova Praha\, Mikulova 1594 Praha - Chodov
SUMMARY:CP-U16Z-Z2B: SK Slavia Praha  A-Mikulova A
END:VEVENT
BEGIN:VEVENT
UID:37616231-6433-4366-b764-326165643532
DTSTAMP:20260422T231847Z
DESCRIPTION:11/21 SK Volejbal Ústí n. Labem - Mikulova A 2:1 (-14\,20\,6)
DTSTART;TZID=Europe/Berlin:20241103T110000
DTEND;TZID=Europe/Berlin:20241103T130000
LOCATION:SKŠ ZŠ Mikulova Praha\, Mikulova 1594 Praha - Chodov
SUMMARY:CP-U16Z-Z2B: SK Volejbal Ústí n. Labem-Mikulova A
END:VEVENT
BEGIN:VEVENT
UID:64636635-6365-4933-a663-623066643966
DTSTAMP:20260422T231847Z
DESCRIPTION:1/1 Mikulova A - ABC Braník A 0:2 (-10\,-20)
DTSTART;TZID=Europe/Berlin:20241013T090000
DTEND;TZID=Europe/Berlin:20241013T110000
LOCATION:SKŠ ZŠ Mikulova Praha\, Mikulova 1594 Praha - Chodov
SUMMARY:PP-U16Z-1-B: Mikulova A-ABC Braník A
END:VEVENT
BEGIN:VEVENT
UID:37343962-6232-4632-b632-613836383439
DTSTAMP:20260422T231847Z
DESCRIPTION:4/4 Mikulova A - Mikulova B 0:2 (-19\,-22)
DTSTART;TZID=Europe/Berlin:20241013T100000
DTEND;TZID=Europe/Berlin:20241013T120000
LOCATION:SKŠ ZŠ Mikulova Praha\, Mikulova 1594 Praha - Chodov
SUMMARY:PP-U16Z-1-B: Mikulova A-Mikulova B
END:VEVENT
BEGIN:VEVENT
UID:61313334-6636-4561-b437-396437313138
DTSTAMP:20260422T231847Z
DESCRIPTION:6/6 VK Lvi Praha A - Mikulova A 2:0 (19\,17)
DTSTART;TZID=Europe/Berlin:20241013T110000
DTEND;TZID=Europe/Berlin:20241013T130000
LOCATION:SKŠ ZŠ Mikulova Praha\, Mikulova 1594 Praha - Chodov
SUMMARY:PP-U16Z-1-B: VK Lvi Praha A-Mikulova A
END:VEVENT
BEGIN:VEVENT
UID:35666366-6463-4332-b635-366465333162
DTSTAMP:20260422T231847Z
DESCRIPTION:1/1 Mikulova A - JOKY Újezd 2:0 (19\,18)
DTSTART;TZID=Europe/Berlin:20241110T090000
DTEND;TZID=Europe/Berlin:20241110T110000
LOCATION:MZŠ Polesná 1690\, Praha 21\, Polesná 1690 Praha - Újezd nad Lesy
SUMMARY:PP-U16Z-2-C: Mikulova A-JOKY Újezd
END:VEVENT
BEGIN:VEVENT
UID:65626231-6336-4765-b434-366430323265
DTSTAMP:20260422T231847Z
DESCRIPTION:4/4 Mikulova A - Horní Počernice A 2:0 (17\,20)
DTSTART;TZID=Europe/Berlin:20241110T120000
DTEND;TZID=Europe/Berlin:20241110T140000
LOCATION:MZŠ Polesná 1690\, Praha 21\, Polesná 1690 Praha - Újezd nad Lesy
SUMMARY:PP-U16Z-2-C: Mikulova A-Horní Počernice A
END:VEVENT
BEGIN:VEVENT
UID:65333133-3866-4761-b233-316138643732
DTSTAMP:20260422T231847Z
DESCRIPTION:6/6 Střešovice A - Mikulova A 2:1 (-13\,21\,7)
DTSTART;TZID=Europe/Berlin:20241110T140000
DTEND;TZID=Europe/Berlin:20241110T160000
LOCATION:MZŠ Polesná 1690\, Praha 21\, Polesná 1690 Praha - Újezd nad Lesy
SUMMARY:PP-U16Z-2-C: Střešovice A-Mikulova A
END:VEVENT
BEGIN:VEVENT
UID:35336662-6634-4731-b861-373936303962
DTSTAMP:20260422T231847Z
DESCRIPTION:7/14 Mikulova A - Příbram A 0:2 (-15\,-14)
DTSTART;TZID=Europe/Berlin:20241123T170000
DTEND;TZID=Europe/Berlin:20241123T190000
LOCATION:Sportovní hala - SG Plzeň\, Vejprnická 663 Plzeň - Skvrňany
SUMMARY:CP-U16Z-Z3B: Mikulova A-Příbram A
END:VEVENT
BEGIN:VEVENT
UID:61613735-3162-4737-b335-333334616332
DTSTAMP:20260422T231847Z
DESCRIPTION:8/15 Mikulova A - VK Lvi Praha 0:2 (-17\,-16)
DTSTART;TZID=Europe/Berlin:20241124T090000
DTEND;TZID=Europe/Berlin:20241124T110000
LOCATION:Sportovní hala - SG Plzeň\, Vejprnická 663 Plzeň - Skvrňany
SUMMARY:CP-U16Z-Z3B: Mikulova A-VK Lvi Praha
END:VEVENT
BEGIN:VEVENT
UID:64323735-6534-4533-b866-616337623933
DTSTAMP:20260422T231847Z
DESCRIPTION:10/19 Mikulova A - BVC CHODOV 2:1 (-21\,16\,13)
DTSTART;TZID=Europe/Berlin:20241124T113000
DTEND;TZID=Europe/Berlin:20241124T133000
LOCATION:Sportovní hala - SG Plzeň\, Vejprnická 663 Plzeň - Skvrňany
SUMMARY:CP-U16Z-Z3B: Mikulova A-BVC CHODOV
END:VEVENT
BEGIN:VEVENT
UID:35306137-6637-4839-a134-626239626633
DTSTAMP:20260422T231847Z
DESCRIPTION:12/23 Mikulova A - Lokomotiva Plzeň 0:2 (-10\,-22)
DTSTART;TZID=Europe/Berlin:20241124T140000
DTEND;TZID=Europe/Berlin:20241124T160000
LOCATION:Sportovní hala - SG Plzeň\, Vejprnická 663 Plzeň - Skvrňany
SUMMARY:CP-U16Z-Z3B: Mikulova A-Lokomotiva Plzeň
END:VEVENT
BEGIN:VEVENT
UID:36353538-3465-4130-a630-646530623836
DTSTAMP:20260422T231847Z
DESCRIPTION:2/4 SK Volejbal Ústí n. Labem - Mikulova A 2:0 (27\,19)
DTSTART;TZID=Europe/Berlin:20241123T104500
DTEND;TZID=Europe/Berlin:20241123T124500
LOCATION:Sportovní hala - SG Plzeň\, Vejprnická 663 Plzeň - Skvrňany
SUMMARY:CP-U16Z-Z3B: SK Volejbal Ústí n. Labem-Mikulova A
END:VEVENT
BEGIN:VEVENT
UID:30386331-3564-4130-b632-346237313832
DTSTAMP:20260422T231847Z
DESCRIPTION:4/8 TJ Kralupy - Mikulova A 2:0 (17\,13)
DTSTART;TZID=Europe/Berlin:20241123T131500
DTEND;TZID=Europe/Berlin:20241123T151500
LOCATION:Sportovní hala - SG Plzeň\, Vejprnická 663 Plzeň - Skvrňany
SUMMARY:CP-U16Z-Z3B: TJ Kralupy-Mikulova A
END:VEVENT
BEGIN:VEVENT
UID:39303031-6663-4532-b939-633362376133
DTSTAMP:20260422T231847Z
DESCRIPTION:14/28 Kometa Praha - Mikulova A 2:1 (15\,-20\,15)
DTSTART;TZID=Europe/Berlin:20241121T163000
DTEND;TZID=Europe/Berlin:20241121T183000
LOCATION:Sportovní hala - SG Plzeň\, Vejprnická 663 Plzeň - Skvrňany
SUMMARY:CP-U16Z-Z3B: Kometa Praha-Mikulova A
END:VEVENT
BEGIN:VEVENT
UID:39343132-3435-4631-b164-393166343638
DTSTAMP:20260422T231847Z
DESCRIPTION:1/2 Mikulova A - JOKY Újezd 0:2 (-18\,-18)
DTSTART;TZID=Europe/Berlin:20241201T090000
DTEND;TZID=Europe/Berlin:20241201T110000
LOCATION:SKŠ ZŠ Mikulova Praha\, Mikulova 1594 Praha - Chodov
SUMMARY:PP-U16Z-3-C: Mikulova A-JOKY Újezd
END:VEVENT
BEGIN:VEVENT
UID:64623435-3838-4835-b836-343138643637
DTSTAMP:20260422T231847Z
DESCRIPTION:3/5 Mikulova A - SK Meteor Praha A 1:2 (14\,-20\,-10)
DTSTART;TZID=Europe/Berlin:20241201T110000
DTEND;TZID=Europe/Berlin:20241201T130000
LOCATION:SKŠ ZŠ Mikulova Praha\, Mikulova 1594 Praha - Chodov
SUMMARY:PP-U16Z-3-C: Mikulova A-SK Meteor Praha A
END:VEVENT
BEGIN:VEVENT
UID:35313863-6537-4866-b534-373532343366
DTSTAMP:20260422T231847Z
DESCRIPTION:2/4 SK Kometa Praha A - Mikulova A 2:0 (16\,26)
DTSTART;TZID=Europe/Berlin:20241201T100000
DTEND;TZID=Europe/Berlin:20241201T120000
LOCATION:SKŠ ZŠ Mikulova Praha\, Mikulova 1594 Praha - Chodov
SUMMARY:PP-U16Z-3-C: SK Kometa Praha A-Mikulova A
END:VEVENT
BEGIN:VEVENT
UID:39373131-6436-4161-b464-373336653037
DTSTAMP:20260422T231847Z
DESCRIPTION:1/1 Mikulova A - Kometa Praha 2:1 (-23\,18\,9)
DTSTART;TZID=Europe/Berlin:20250123T170000
DTEND;TZID=Europe/Berlin:20250123T190000
LOCATION:Hala ZŠ Komenského\, Komenského 701 Bílovec
SUMMARY:CP-U16Z-F1C: Mikulova A-Kometa Praha
END:VEVENT
BEGIN:VEVENT
UID:38353263-3032-4738-a437-633562313538
DTSTAMP:20260422T231847Z
DESCRIPTION:7/13 Mikulova A - Přerov A 1:2 (23\,-15\,-2)
DTSTART;TZID=Europe/Berlin:20250125T151500
DTEND;TZID=Europe/Berlin:20250125T171500
LOCATION:Hala ZŠ Komenského\, Komenského 701 Bílovec
SUMMARY:CP-U16Z-F1C: Mikulova A-Přerov A
END:VEVENT
BEGIN:VEVENT
UID:32626166-3361-4834-a164-326437373439
DTSTAMP:20260422T231847Z
DESCRIPTION:10/18 Mikulova A - TJ Kralupy 0:2 (-11\,-15)
DTSTART;TZID=Europe/Berlin:20250126T083000
DTEND;TZID=Europe/Berlin:20250126T103000
LOCATION:Hala ZŠ Komenského\, Komenského 701 Bílovec
SUMMARY:CP-U16Z-F1C: Mikulova A-TJ Kralupy
END:VEVENT
BEGIN:VEVENT
UID:66333566-3530-4338-b335-336535643461
DTSTAMP:20260422T231847Z
DESCRIPTION:3/4 ŠSK Bílovec - Mikulova A 2:0 (23\,10)
DTSTART;TZID=Europe/Berlin:20250125T101500
DTEND;TZID=Europe/Berlin:20250125T121500
LOCATION:Hala ZŠ Komenského\, Komenského 701 Bílovec
SUMMARY:CP-U16Z-F1C: ŠSK Bílovec-Mikulova A
END:VEVENT
BEGIN:VEVENT
UID:65303164-6564-4535-b837-656438383965
DTSTAMP:20260422T231847Z
DESCRIPTION:4/7 SK Volejbal Ústí n. Labem - Mikulova A 2:0 (16\,17)
DTSTART;TZID=Europe/Berlin:20250125T113000
DTEND;TZID=Europe/Berlin:20250125T133000
LOCATION:Hala ZŠ Komenského\, Komenského 701 Bílovec
SUMMARY:CP-U16Z-F1C: SK Volejbal Ústí n. Labem-Mikulova A
END:VEVENT
BEGIN:VEVENT
UID:63373562-6337-4134-b266-396637393032
DTSTAMP:20260422T231847Z
DESCRIPTION:8/15 Sokol Pardubice I. A - Mikulova A 2:0 (22\,15)
DTSTART;TZID=Europe/Berlin:20250125T163000
DTEND;TZID=Europe/Berlin:20250125T183000
LOCATION:Hala ZŠ Komenského\, Komenského 701 Bílovec
SUMMARY:CP-U16Z-F1C: Sokol Pardubice I. A-Mikulova A
END:VEVENT
BEGIN:VEVENT
UID:35383731-6439-4362-b765-343239356164
DTSTAMP:20260422T231847Z
DESCRIPTION:12/25 VK Lvi Praha - Mikulova A 2:0 (14\,16)
DTSTART;TZID=Europe/Berlin:20250126T111500
DTEND;TZID=Europe/Berlin:20250126T131500
LOCATION:Hala ZŠ Komenského\, Komenského 701 Bílovec
SUMMARY:CP-U16Z-F1C: VK Lvi Praha-Mikulova A
END:VEVENT
BEGIN:VEVENT
UID:61616639-3231-4930-a434-663333633733
DTSTAMP:20260422T231847Z
DESCRIPTION:1/1 Mikulova A - Orion Praha C 2:1 (19\,-21\,11)
DTSTART;TZID=Europe/Berlin:20250119T100000
DTEND;TZID=Europe/Berlin:20250119T120000
LOCATION:SKŠ ZŠ Mikulova Praha\, Mikulova 1594 Praha - Chodov
SUMMARY:PP-U16Z-4-D: Mikulova A-Orion Praha C
END:VEVENT
BEGIN:VEVENT
UID:31336232-3365-4037-b365-663434353833
DTSTAMP:20260422T231847Z
DESCRIPTION:2/4 Mikulova A - Radotín 2:0 (12\,10)
DTSTART;TZID=Europe/Berlin:20250119T110000
DTEND;TZID=Europe/Berlin:20250119T130000
LOCATION:SKŠ ZŠ Mikulova Praha\, Mikulova 1594 Praha - Chodov
SUMMARY:PP-U16Z-4-D: Mikulova A-Radotín
END:VEVENT
BEGIN:VEVENT
UID:64356266-6136-4131-a265-623132323765
DTSTAMP:20260422T231847Z
DESCRIPTION:3/6 Volejbal Vršovice - Mikulova A 0:2 (-19\,-18)
DTSTART;TZID=Europe/Berlin:20250119T120000
DTEND;TZID=Europe/Berlin:20250119T140000
LOCATION:SKŠ ZŠ Mikulova Praha\, Mikulova 1594 Praha - Chodov
SUMMARY:PP-U16Z-4-D: Volejbal Vršovice-Mikulova A
END:VEVENT
BEGIN:VEVENT
UID:64303131-3264-4364-b462-316233633261
DTSTAMP:20260422T231847Z
DESCRIPTION:3/3 Mikulova A - SK Meteor Praha A 0:2 (-8\,-18)
DTSTART;TZID=Europe/Berlin:20250316T110000
DTEND;TZID=Europe/Berlin:20250316T130000
LOCATION:MZŠ Polesná 1690\, Praha 21\, Polesná 1690 Praha - Újezd nad Lesy
SUMMARY:PP-U16Z-5-C: Mikulova A-SK Meteor Praha A
END:VEVENT
BEGIN:VEVENT
UID:65353138-6236-4166-a638-633432613536
DTSTAMP:20260422T231847Z
DESCRIPTION:1/1 JOKY Újezd - Mikulova A 0:2 (-20\,-22)
DTSTART;TZID=Europe/Berlin:20250316T090000
DTEND;TZID=Europe/Berlin:20250316T110000
LOCATION:MZŠ Polesná 1690\, Praha 21\, Polesná 1690 Praha - Újezd nad Lesy
SUMMARY:PP-U16Z-5-C: JOKY Újezd-Mikulova A
END:VEVENT
BEGIN:VEVENT
UID:36393733-3939-4564-a234-333665643864
DTSTAMP:20260422T231847Z
DESCRIPTION:5/5 SK Kometa Praha A - Mikulova A 0:2 (-23\,-18)
DTSTART;TZID=Europe/Berlin:20250316T130000
DTEND;TZID=Europe/Berlin:20250316T150000
LOCATION:MZŠ Polesná 1690\, Praha 21\, Polesná 1690 Praha - Újezd nad Lesy
SUMMARY:PP-U16Z-5-C: SK Kometa Praha A-Mikulova A
END:VEVENT
BEGIN:VEVENT
UID:62356231-3161-4639-b333-613362306436
DTSTAMP:20260422T231847Z
DESCRIPTION:2/3 Mikulova A - ABC Braník A 0:2 (-19\,-20)
DTSTART;TZID=Europe/Berlin:20250406T100000
DTEND;TZID=Europe/Berlin:20250406T120000
LOCATION:SKŠ ZŠ Mikulova Praha\, Mikulova 1594 Praha - Chodov
SUMMARY:PP-U16Z-6-B: Mikulova A-ABC Braník A
END:VEVENT
BEGIN:VEVENT
UID:33663561-3730-4066-b332-393037623530
DTSTAMP:20260422T231847Z
DESCRIPTION:1/1 PVK Olymp Praha B - Mikulova A 2:0 (21\,22)
DTSTART;TZID=Europe/Berlin:20250406T090000
DTEND;TZID=Europe/Berlin:20250406T110000
LOCATION:SKŠ ZŠ Mikulova Praha\, Mikulova 1594 Praha - Chodov
SUMMARY:PP-U16Z-6-B: PVK Olymp Praha B-Mikulova A
END:VEVENT
BEGIN:VEVENT
UID:62656361-6565-4735-a465-353337663336
DTSTAMP:20260422T231847Z
DESCRIPTION:3/5 VK Lvi Praha A - Mikulova A 2:0 (25\,19)
DTSTART;TZID=Europe/Berlin:20250406T110000
DTEND;TZID=Europe/Berlin:20250406T130000
LOCATION:SKŠ ZŠ Mikulova Praha\, Mikulova 1594 Praha - Chodov
SUMMARY:PP-U16Z-6-B: VK Lvi Praha A-Mikulova A
END:VEVENT
END:VCALENDAR
