BEGIN:VCALENDAR
VERSION:2.0
PRODID:-//JOKY Újezd87143//NONSGML kigkonsult.se iCalcreator 2.41.80//
CALSCALE:GREGORIAN
UID:38306533-3336-4836-a539-356539643463
BEGIN:VEVENT
UID:66373831-3534-4535-a339-653736633136
DTSTAMP:20260422T014835Z
DESCRIPTION:2/2 JOKY Újezd - ABC Braník B 2:0 (20\,15)
DTSTART;TZID=Europe/Berlin:20240908T100000
DTEND;TZID=Europe/Berlin:20240908T120000
LOCATION:Tělocvična ZŠ\, Španielova 1111 Praha - Řepy
SUMMARY:PP-U16Z-Q1-E: JOKY Újezd-ABC Braník B
END:VEVENT
BEGIN:VEVENT
UID:38393539-3661-4638-b436-393930633635
DTSTAMP:20260422T014835Z
DESCRIPTION:9/9 JOKY Újezd - PVK Olymp Praha B 0:2 (-15\,-22)
DTSTART;TZID=Europe/Berlin:20240908T170000
DTEND;TZID=Europe/Berlin:20240908T190000
LOCATION:Tělocvična ZŠ\, Španielova 1111 Praha - Řepy
SUMMARY:PP-U16Z-Q1-E: JOKY Újezd-PVK Olymp Praha B
END:VEVENT
BEGIN:VEVENT
UID:33323235-3438-4663-b130-336138613938
DTSTAMP:20260422T014835Z
DESCRIPTION:5/5 Radotín - JOKY Újezd 1:2 (-19\,21\,-9)
DTSTART;TZID=Europe/Berlin:20240908T130000
DTEND;TZID=Europe/Berlin:20240908T150000
LOCATION:Tělocvična ZŠ\, Španielova 1111 Praha - Řepy
SUMMARY:PP-U16Z-Q1-E: Radotín-JOKY Újezd
END:VEVENT
BEGIN:VEVENT
UID:64623565-3734-4232-a263-313764393733
DTSTAMP:20260422T014835Z
DESCRIPTION:8/8 SK Meteor Praha A - JOKY Újezd 2:1 (-10\,15\,7)
DTSTART;TZID=Europe/Berlin:20240908T160000
DTEND;TZID=Europe/Berlin:20240908T180000
LOCATION:Tělocvična ZŠ\, Španielova 1111 Praha - Řepy
SUMMARY:PP-U16Z-Q1-E: SK Meteor Praha A-JOKY Újezd
END:VEVENT
BEGIN:VEVENT
UID:38373064-3463-4437-b565-303963643033
DTSTAMP:20260422T014835Z
DESCRIPTION:2/2 JOKY Újezd - Orion Praha B 2:0 (15\,7)
DTSTART;TZID=Europe/Berlin:20240929T090000
DTEND;TZID=Europe/Berlin:20240929T110000
LOCATION:tělocvičny ZŠ Mikulova\, Mikulova 1594 Praha - Chodov
SUMMARY:PP-U16Z-Q2-F: JOKY Újezd-Orion Praha B
END:VEVENT
BEGIN:VEVENT
UID:32626631-3432-4031-b838-366437613335
DTSTAMP:20260422T014835Z
DESCRIPTION:4/4 JOKY Újezd - SK Kometa Praha C 2:0 (4\,8)
DTSTART;TZID=Europe/Berlin:20240929T110000
DTEND;TZID=Europe/Berlin:20240929T130000
LOCATION:tělocvičny ZŠ Mikulova\, Mikulova 1594 Praha - Chodov
SUMMARY:PP-U16Z-Q2-F: JOKY Újezd-SK Kometa Praha C
END:VEVENT
BEGIN:VEVENT
UID:36393132-3138-4136-a632-363161663230
DTSTAMP:20260422T014835Z
DESCRIPTION:6/6 VK Lvi Praha B - JOKY Újezd 0:2 (-24\,-11)
DTSTART;TZID=Europe/Berlin:20240929T130000
DTEND;TZID=Europe/Berlin:20240929T150000
LOCATION:tělocvičny ZŠ Mikulova\, Mikulova 1594 Praha - Chodov
SUMMARY:PP-U16Z-Q2-F: VK Lvi Praha B-JOKY Újezd
END:VEVENT
BEGIN:VEVENT
UID:62623530-3664-4531-a239-343539663561
DTSTAMP:20260422T014835Z
DESCRIPTION:6/6 JOKY Újezd - Orion Praha C 2:0 (15\,13)
DTSTART;TZID=Europe/Berlin:20241013T140000
DTEND;TZID=Europe/Berlin:20241013T160000
LOCATION:ZŠ Dolní Břežany\, Na Vršku 290 Dolní Břežany
SUMMARY:PP-U16Z-1-D: JOKY Újezd-Orion Praha C
END:VEVENT
BEGIN:VEVENT
UID:37616264-6264-4231-a436-373038646561
DTSTAMP:20260422T014835Z
DESCRIPTION:2/2 Španielka Řepy - JOKY Újezd 0:2 (-12\,-7)
DTSTART;TZID=Europe/Berlin:20241013T100000
DTEND;TZID=Europe/Berlin:20241013T120000
LOCATION:ZŠ Dolní Břežany\, Na Vršku 290 Dolní Břežany
SUMMARY:PP-U16Z-1-D: Španielka Řepy-JOKY Újezd
END:VEVENT
BEGIN:VEVENT
UID:34666661-3066-4337-b961-383563353565
DTSTAMP:20260422T014835Z
DESCRIPTION:3/3 SK Meteor Praha A - JOKY Újezd 0:2 (-22\,-15)
DTSTART;TZID=Europe/Berlin:20241013T110000
DTEND;TZID=Europe/Berlin:20241013T130000
LOCATION:ZŠ Dolní Břežany\, Na Vršku 290 Dolní Břežany
SUMMARY:PP-U16Z-1-D: SK Meteor Praha A-JOKY Újezd
END:VEVENT
BEGIN:VEVENT
UID:36633063-6262-4863-b462-393934313937
DTSTAMP:20260422T014835Z
DESCRIPTION:3/3 JOKY Újezd - Střešovice A 0:2 (-22\,-23)
DTSTART;TZID=Europe/Berlin:20241110T110000
DTEND;TZID=Europe/Berlin:20241110T130000
LOCATION:MZŠ Polesná 1690\, Praha 21\, Polesná 1690 Praha - Újezd nad Lesy
SUMMARY:PP-U16Z-2-C: JOKY Újezd-Střešovice A
END:VEVENT
BEGIN:VEVENT
UID:61346132-6632-4530-b431-363664343063
DTSTAMP:20260422T014835Z
DESCRIPTION:1/1 Mikulova A - JOKY Újezd 2:0 (19\,18)
DTSTART;TZID=Europe/Berlin:20241110T090000
DTEND;TZID=Europe/Berlin:20241110T110000
LOCATION:MZŠ Polesná 1690\, Praha 21\, Polesná 1690 Praha - Újezd nad Lesy
SUMMARY:PP-U16Z-2-C: Mikulova A-JOKY Újezd
END:VEVENT
BEGIN:VEVENT
UID:33303263-6561-4163-a432-643438323966
DTSTAMP:20260422T014835Z
DESCRIPTION:5/5 Horní Počernice A - JOKY Újezd 0:2 (-16\,-29)
DTSTART;TZID=Europe/Berlin:20241110T130000
DTEND;TZID=Europe/Berlin:20241110T150000
LOCATION:MZŠ Polesná 1690\, Praha 21\, Polesná 1690 Praha - Újezd nad Lesy
SUMMARY:PP-U16Z-2-C: Horní Počernice A-JOKY Újezd
END:VEVENT
BEGIN:VEVENT
UID:36373363-6337-4263-b935-386632653264
DTSTAMP:20260422T014835Z
DESCRIPTION:3/6 JOKY Újezd - SK Kometa Praha A 2:0 (19\,19)
DTSTART;TZID=Europe/Berlin:20241201T110000
DTEND;TZID=Europe/Berlin:20241201T130000
LOCATION:SKŠ ZŠ Mikulova Praha\, Mikulova 1594 Praha - Chodov
SUMMARY:PP-U16Z-3-C: JOKY Újezd-SK Kometa Praha A
END:VEVENT
BEGIN:VEVENT
UID:35323165-3466-4165-b330-633730356333
DTSTAMP:20260422T014835Z
DESCRIPTION:1/2 Mikulova A - JOKY Újezd 0:2 (-18\,-18)
DTSTART;TZID=Europe/Berlin:20241201T090000
DTEND;TZID=Europe/Berlin:20241201T110000
LOCATION:SKŠ ZŠ Mikulova Praha\, Mikulova 1594 Praha - Chodov
SUMMARY:PP-U16Z-3-C: Mikulova A-JOKY Újezd
END:VEVENT
BEGIN:VEVENT
UID:31343536-6535-4533-b035-616365363335
DTSTAMP:20260422T014835Z
DESCRIPTION:2/3 SK Meteor Praha A - JOKY Újezd 0:2 (-18\,-14)
DTSTART;TZID=Europe/Berlin:20241201T100000
DTEND;TZID=Europe/Berlin:20241201T120000
LOCATION:SKŠ ZŠ Mikulova Praha\, Mikulova 1594 Praha - Chodov
SUMMARY:PP-U16Z-3-C: SK Meteor Praha A-JOKY Újezd
END:VEVENT
BEGIN:VEVENT
UID:34333961-3035-4232-b533-656231383534
DTSTAMP:20260422T014835Z
DESCRIPTION:3/3 JOKY Újezd - ABC Braník A 0:2 (-17\,-23)
DTSTART;TZID=Europe/Berlin:20250119T110000
DTEND;TZID=Europe/Berlin:20250119T130000
LOCATION:VCM OLYMP PRAHA \, Radlická 115 Praha - Radlice
SUMMARY:PP-U16Z-4-B: JOKY Újezd-ABC Braník A
END:VEVENT
BEGIN:VEVENT
UID:30393830-3936-4531-b232-656336303132
DTSTAMP:20260422T014835Z
DESCRIPTION:1/1 PVK Olymp Praha B - JOKY Újezd 2:0 (19\,10)
DTSTART;TZID=Europe/Berlin:20250119T090000
DTEND;TZID=Europe/Berlin:20250119T110000
LOCATION:VCM OLYMP PRAHA \, Radlická 115 Praha - Radlice
SUMMARY:PP-U16Z-4-B: PVK Olymp Praha B-JOKY Újezd
END:VEVENT
BEGIN:VEVENT
UID:32393536-3466-4466-a161-643131363837
DTSTAMP:20260422T014835Z
DESCRIPTION:5/5 SK Slavia Praha  A - JOKY Újezd 2:1 (21\,-22\,9)
DTSTART;TZID=Europe/Berlin:20250119T130000
DTEND;TZID=Europe/Berlin:20250119T150000
LOCATION:VCM OLYMP PRAHA \, Radlická 115 Praha - Radlice
SUMMARY:PP-U16Z-4-B: SK Slavia Praha  A-JOKY Újezd
END:VEVENT
BEGIN:VEVENT
UID:36636231-6334-4435-a232-326439306462
DTSTAMP:20260422T014835Z
DESCRIPTION:1/1 JOKY Újezd - Mikulova A 0:2 (-20\,-22)
DTSTART;TZID=Europe/Berlin:20250316T090000
DTEND;TZID=Europe/Berlin:20250316T110000
LOCATION:MZŠ Polesná 1690\, Praha 21\, Polesná 1690 Praha - Újezd nad Lesy
SUMMARY:PP-U16Z-5-C: JOKY Újezd-Mikulova A
END:VEVENT
BEGIN:VEVENT
UID:63333430-6433-4365-b937-343535366339
DTSTAMP:20260422T014835Z
DESCRIPTION:4/4 JOKY Újezd - SK Kometa Praha A 2:0 (22\,23)
DTSTART;TZID=Europe/Berlin:20250316T120000
DTEND;TZID=Europe/Berlin:20250316T140000
LOCATION:MZŠ Polesná 1690\, Praha 21\, Polesná 1690 Praha - Újezd nad Lesy
SUMMARY:PP-U16Z-5-C: JOKY Újezd-SK Kometa Praha A
END:VEVENT
BEGIN:VEVENT
UID:64636134-3232-4532-b436-656433393139
DTSTAMP:20260422T014835Z
DESCRIPTION:6/6 SK Meteor Praha A - JOKY Újezd 2:1 (23\,-23\,13)
DTSTART;TZID=Europe/Berlin:20250316T140000
DTEND;TZID=Europe/Berlin:20250316T160000
LOCATION:MZŠ Polesná 1690\, Praha 21\, Polesná 1690 Praha - Újezd nad Lesy
SUMMARY:PP-U16Z-5-C: SK Meteor Praha A-JOKY Újezd
END:VEVENT
BEGIN:VEVENT
UID:65373464-3636-4233-a532-396530366131
DTSTAMP:20260422T014835Z
DESCRIPTION:6/6 JOKY Újezd - Střešovice A 2:0 (23\,21)
DTSTART;TZID=Europe/Berlin:20250406T140000
DTEND;TZID=Europe/Berlin:20250406T160000
LOCATION:MZŠ Polesná 1690\, Praha 21\, Polesná 1690 Praha - Újezd nad Lesy
SUMMARY:PP-U16Z-6-C: JOKY Újezd-Střešovice A
END:VEVENT
BEGIN:VEVENT
UID:32336137-6134-4663-a338-643665653539
DTSTAMP:20260422T014835Z
DESCRIPTION:2/2 SK Meteor Praha A - JOKY Újezd 0:2 (-23\,-14)
DTSTART;TZID=Europe/Berlin:20250406T100000
DTEND;TZID=Europe/Berlin:20250406T120000
LOCATION:MZŠ Polesná 1690\, Praha 21\, Polesná 1690 Praha - Újezd nad Lesy
SUMMARY:PP-U16Z-6-C: SK Meteor Praha A-JOKY Újezd
END:VEVENT
BEGIN:VEVENT
UID:32306261-3866-4163-a237-356534616333
DTSTAMP:20260422T014835Z
DESCRIPTION:3/3 Volejbal Vršovice - JOKY Újezd 0:2 (-17\,-18)
DTSTART;TZID=Europe/Berlin:20250406T110000
DTEND;TZID=Europe/Berlin:20250406T130000
LOCATION:MZŠ Polesná 1690\, Praha 21\, Polesná 1690 Praha - Újezd nad Lesy
SUMMARY:PP-U16Z-6-C: Volejbal Vršovice-JOKY Újezd
END:VEVENT
END:VCALENDAR
