BEGIN:VCALENDAR
VERSION:2.0
PRODID:-//VK Lvi Praha B87151//NONSGML kigkonsult.se iCalcreator 2.41.80//
CALSCALE:GREGORIAN
UID:31313837-3264-4439-a332-623061386132
BEGIN:VEVENT
UID:33343539-3664-4465-b434-333834316134
DTSTAMP:20260421T230145Z
DESCRIPTION:3/3 VK Lvi Praha B - Horní Počernice A 1:2 (22\,-14\,-7)
DTSTART;TZID=Europe/Berlin:20240908T110000
DTEND;TZID=Europe/Berlin:20240908T130000
LOCATION:SKŠ ZŠ Mikulova Praha\, Mikulova 1594 Praha - Chodov
SUMMARY:PP-U16Z-Q1-D: VK Lvi Praha B-Horní Počernice A
END:VEVENT
BEGIN:VEVENT
UID:34323331-3463-4232-b065-366637316632
DTSTAMP:20260421T230145Z
DESCRIPTION:5/5 VK Lvi Praha B - Mikulova C 2:1 (-22\,16\,12)
DTSTART;TZID=Europe/Berlin:20240908T130000
DTEND;TZID=Europe/Berlin:20240908T150000
LOCATION:SKŠ ZŠ Mikulova Praha\, Mikulova 1594 Praha - Chodov
SUMMARY:PP-U16Z-Q1-D: VK Lvi Praha B-Mikulova C
END:VEVENT
BEGIN:VEVENT
UID:64333035-3532-4138-b161-646366633732
DTSTAMP:20260421T230145Z
DESCRIPTION:1/1 SK Kometa Praha D - VK Lvi Praha B 0:2 (-12\,-12)
DTSTART;TZID=Europe/Berlin:20240908T090000
DTEND;TZID=Europe/Berlin:20240908T110000
LOCATION:SKŠ ZŠ Mikulova Praha\, Mikulova 1594 Praha - Chodov
SUMMARY:PP-U16Z-Q1-D: SK Kometa Praha D-VK Lvi Praha B
END:VEVENT
BEGIN:VEVENT
UID:31303735-3764-4338-a136-666663376566
DTSTAMP:20260421T230145Z
DESCRIPTION:7/7 Mikulova B - VK Lvi Praha B 2:0 (15\,14)
DTSTART;TZID=Europe/Berlin:20240908T150000
DTEND;TZID=Europe/Berlin:20240908T170000
LOCATION:SKŠ ZŠ Mikulova Praha\, Mikulova 1594 Praha - Chodov
SUMMARY:PP-U16Z-Q1-D: Mikulova B-VK Lvi Praha B
END:VEVENT
BEGIN:VEVENT
UID:30373833-3061-4566-a336-656432383837
DTSTAMP:20260421T230145Z
DESCRIPTION:1/1 VK Lvi Praha B - SK Kometa Praha C 2:0 (17\,28)
DTSTART;TZID=Europe/Berlin:20240929T090000
DTEND;TZID=Europe/Berlin:20240929T110000
LOCATION:tělocvičny ZŠ Mikulova\, Mikulova 1594 Praha - Chodov
SUMMARY:PP-U16Z-Q2-F: VK Lvi Praha B-SK Kometa Praha C
END:VEVENT
BEGIN:VEVENT
UID:39313065-6234-4339-b033-303232323432
DTSTAMP:20260421T230145Z
DESCRIPTION:6/6 VK Lvi Praha B - JOKY Újezd 0:2 (-24\,-11)
DTSTART;TZID=Europe/Berlin:20240929T130000
DTEND;TZID=Europe/Berlin:20240929T150000
LOCATION:tělocvičny ZŠ Mikulova\, Mikulova 1594 Praha - Chodov
SUMMARY:PP-U16Z-Q2-F: VK Lvi Praha B-JOKY Újezd
END:VEVENT
BEGIN:VEVENT
UID:63376565-3538-4637-a430-303862616630
DTSTAMP:20260421T230145Z
DESCRIPTION:3/3 Orion Praha B - VK Lvi Praha B 2:1 (-14\,24\,10)
DTSTART;TZID=Europe/Berlin:20240929T100000
DTEND;TZID=Europe/Berlin:20240929T120000
LOCATION:tělocvičny ZŠ Mikulova\, Mikulova 1594 Praha - Chodov
SUMMARY:PP-U16Z-Q2-F: Orion Praha B-VK Lvi Praha B
END:VEVENT
BEGIN:VEVENT
UID:36313730-3836-4336-b165-333932396334
DTSTAMP:20260421T230145Z
DESCRIPTION:1/1 VK Lvi Praha B - Studio Sport 0:2 (-23\,-16)
DTSTART;TZID=Europe/Berlin:20241013T090000
DTEND;TZID=Europe/Berlin:20241013T110000
LOCATION:ZŠ Dolní Břežany\, Na Vršku 290 Dolní Břežany
SUMMARY:PP-U16Z-1-E: VK Lvi Praha B-Studio Sport
END:VEVENT
BEGIN:VEVENT
UID:61386634-3834-4666-b165-316463623162
DTSTAMP:20260421T230145Z
DESCRIPTION:4/4 VK Lvi Praha B - Volejbal Vršovice 0:2 (-17\,-23)
DTSTART;TZID=Europe/Berlin:20241013T120000
DTEND;TZID=Europe/Berlin:20241013T140000
LOCATION:ZŠ Dolní Břežany\, Na Vršku 290 Dolní Břežany
SUMMARY:PP-U16Z-1-E: VK Lvi Praha B-Volejbal Vršovice
END:VEVENT
BEGIN:VEVENT
UID:32643736-6536-4231-a264-336138303234
DTSTAMP:20260421T230145Z
DESCRIPTION:6/6 Mikulova C - VK Lvi Praha B 2:0 (18\,19)
DTSTART;TZID=Europe/Berlin:20241013T140000
DTEND;TZID=Europe/Berlin:20241013T160000
LOCATION:ZŠ Dolní Břežany\, Na Vršku 290 Dolní Břežany
SUMMARY:PP-U16Z-1-E: Mikulova C-VK Lvi Praha B
END:VEVENT
BEGIN:VEVENT
UID:66303165-6334-4466-b835-333234376434
DTSTAMP:20260421T230145Z
DESCRIPTION:1/1 VK Lvi Praha B - Mikulova D 1:2 (-16\,13\,-11)
DTSTART;TZID=Europe/Berlin:20241110T090000
DTEND;TZID=Europe/Berlin:20241110T110000
LOCATION:Tělocvična ZŠ Na Šutce\, Na Šutce 440 Praha - Troja
SUMMARY:PP-U16Z-2-F: VK Lvi Praha B-Mikulova D
END:VEVENT
BEGIN:VEVENT
UID:64653530-3562-4266-b535-663864373365
DTSTAMP:20260421T230145Z
DESCRIPTION:4/4 VK Lvi Praha B - SK Kometa Praha B 1:2 (-21\,11\,-12)
DTSTART;TZID=Europe/Berlin:20241110T120000
DTEND;TZID=Europe/Berlin:20241110T140000
LOCATION:Tělocvična ZŠ Na Šutce\, Na Šutce 440 Praha - Troja
SUMMARY:PP-U16Z-2-F: VK Lvi Praha B-SK Kometa Praha B
END:VEVENT
BEGIN:VEVENT
UID:64346535-3665-4732-b532-366265326463
DTSTAMP:20260421T230145Z
DESCRIPTION:6/6 SK Kometa Praha C - VK Lvi Praha B 0:2 (-5\,-12)
DTSTART;TZID=Europe/Berlin:20241110T140000
DTEND;TZID=Europe/Berlin:20241110T160000
LOCATION:Tělocvična ZŠ Na Šutce\, Na Šutce 440 Praha - Troja
SUMMARY:PP-U16Z-2-F: SK Kometa Praha C-VK Lvi Praha B
END:VEVENT
BEGIN:VEVENT
UID:64303164-6264-4537-b961-306563303735
DTSTAMP:20260421T230145Z
DESCRIPTION:2/2 VK Lvi Praha B - SK Kometa Praha C 2:0 (13\,10)
DTSTART;TZID=Europe/Berlin:20241201T100000
DTEND;TZID=Europe/Berlin:20241201T120000
LOCATION:FZŠ Brdičkova\, Brdičkova 1878 Praha - Stodůlky
SUMMARY:PP-U16Z-3-F: VK Lvi Praha B-SK Kometa Praha C
END:VEVENT
BEGIN:VEVENT
UID:31663533-3161-4437-a630-656162633165
DTSTAMP:20260421T230145Z
DESCRIPTION:5/5 VK Lvi Praha B - Orion Praha B 2:0 (18\,16)
DTSTART;TZID=Europe/Berlin:20241201T130000
DTEND;TZID=Europe/Berlin:20241201T150000
LOCATION:FZŠ Brdičkova\, Brdičkova 1878 Praha - Stodůlky
SUMMARY:PP-U16Z-3-F: VK Lvi Praha B-Orion Praha B
END:VEVENT
BEGIN:VEVENT
UID:32626434-3236-4364-b062-383735613930
DTSTAMP:20260421T230145Z
DESCRIPTION:4/4 SK Dansport Praha - VK Lvi Praha B 0:2 (-10\,-18)
DTSTART;TZID=Europe/Berlin:20241201T120000
DTEND;TZID=Europe/Berlin:20241201T140000
LOCATION:FZŠ Brdičkova\, Brdičkova 1878 Praha - Stodůlky
SUMMARY:PP-U16Z-3-F: SK Dansport Praha-VK Lvi Praha B
END:VEVENT
BEGIN:VEVENT
UID:33316131-3162-4562-b735-633630613030
DTSTAMP:20260421T230145Z
DESCRIPTION:3/3 VK Lvi Praha B - Mikulova C 2:1 (-20\,24\,9)
DTSTART;TZID=Europe/Berlin:20250119T110000
DTEND;TZID=Europe/Berlin:20250119T130000
LOCATION:Tělocvična ZŠ\, Španielova 1111 Praha - Řepy
SUMMARY:PP-U16Z-4-E: VK Lvi Praha B-Mikulova C
END:VEVENT
BEGIN:VEVENT
UID:33666532-3064-4638-a461-376339373632
DTSTAMP:20260421T230145Z
DESCRIPTION:1/1 Studio Sport - VK Lvi Praha B 1:2 (-11\,23\,-11)
DTSTART;TZID=Europe/Berlin:20250119T090000
DTEND;TZID=Europe/Berlin:20250119T110000
LOCATION:Tělocvična ZŠ\, Španielova 1111 Praha - Řepy
SUMMARY:PP-U16Z-4-E: Studio Sport-VK Lvi Praha B
END:VEVENT
BEGIN:VEVENT
UID:39376133-3266-4562-a163-353939653335
DTSTAMP:20260421T230145Z
DESCRIPTION:5/5 Španielka Řepy - VK Lvi Praha B 1:2 (-23\,18\,-14)
DTSTART;TZID=Europe/Berlin:20250119T130000
DTEND;TZID=Europe/Berlin:20250119T150000
LOCATION:Tělocvična ZŠ\, Španielova 1111 Praha - Řepy
SUMMARY:PP-U16Z-4-E: Španielka Řepy-VK Lvi Praha B
END:VEVENT
BEGIN:VEVENT
UID:65343364-6130-4439-b063-376264373261
DTSTAMP:20260421T230145Z
DESCRIPTION:2/3 VK Lvi Praha B - Radotín 0:2 (-22\,-16)
DTSTART;TZID=Europe/Berlin:20250316T100000
DTEND;TZID=Europe/Berlin:20250316T120000
LOCATION:Sportovní hala Radotín\, U starého stadiónu 1585 Praha - Radotín
SUMMARY:PP-U16Z-5-D: VK Lvi Praha B-Radotín
END:VEVENT
BEGIN:VEVENT
UID:38396662-6465-4037-a334-646135386165
DTSTAMP:20260421T230145Z
DESCRIPTION:1/1 Horní Počernice A - VK Lvi Praha B 2:0 (24\,21)
DTSTART;TZID=Europe/Berlin:20250316T090000
DTEND;TZID=Europe/Berlin:20250316T110000
LOCATION:Sportovní hala Radotín\, U starého stadiónu 1585 Praha - Radotín
SUMMARY:PP-U16Z-5-D: Horní Počernice A-VK Lvi Praha B
END:VEVENT
BEGIN:VEVENT
UID:66333663-3030-4231-b463-666435313461
DTSTAMP:20260421T230145Z
DESCRIPTION:3/5 Volejbal Vršovice - VK Lvi Praha B 2:1 (-23\,10\,12)
DTSTART;TZID=Europe/Berlin:20250316T110000
DTEND;TZID=Europe/Berlin:20250316T130000
LOCATION:Sportovní hala Radotín\, U starého stadiónu 1585 Praha - Radotín
SUMMARY:PP-U16Z-5-D: Volejbal Vršovice-VK Lvi Praha B
END:VEVENT
BEGIN:VEVENT
UID:65366234-3461-4661-b634-396233663933
DTSTAMP:20260421T230145Z
DESCRIPTION:1/1 VK Lvi Praha B - Španielka Řepy 2:1 (16\,-21\,11)
DTSTART;TZID=Europe/Berlin:20250406T090000
DTEND;TZID=Europe/Berlin:20250406T110000
LOCATION:Tělocvična ZŠ\, Španielova 1111 Praha - Řepy
SUMMARY:PP-U16Z-6-E: VK Lvi Praha B-Španielka Řepy
END:VEVENT
BEGIN:VEVENT
UID:66643938-6361-4131-b136-663430613365
DTSTAMP:20260421T230145Z
DESCRIPTION:4/4 VK Lvi Praha B - SK Dansport Praha 1:2 (-22\,25\,-3)
DTSTART;TZID=Europe/Berlin:20250406T120000
DTEND;TZID=Europe/Berlin:20250406T140000
LOCATION:Tělocvična ZŠ\, Španielova 1111 Praha - Řepy
SUMMARY:PP-U16Z-6-E: VK Lvi Praha B-SK Dansport Praha
END:VEVENT
BEGIN:VEVENT
UID:30323533-6261-4333-b263-353562316338
DTSTAMP:20260421T230145Z
DESCRIPTION:6/6 Studio Sport - VK Lvi Praha B 0:2 (-23\,-20)
DTSTART;TZID=Europe/Berlin:20250406T140000
DTEND;TZID=Europe/Berlin:20250406T160000
LOCATION:Tělocvična ZŠ\, Španielova 1111 Praha - Řepy
SUMMARY:PP-U16Z-6-E: Studio Sport-VK Lvi Praha B
END:VEVENT
END:VCALENDAR
