BEGIN:VCALENDAR
VERSION:2.0
PRODID:-//Orion Praha B87154//NONSGML kigkonsult.se iCalcreator 2.41.80//
CALSCALE:GREGORIAN
UID:39666130-3039-4166-a532-616334323334
BEGIN:VEVENT
UID:30323135-3365-4330-b330-376562623236
DTSTAMP:20260422T211507Z
DESCRIPTION:6/6 Orion Praha B - Horní Počernice B 2:1 (12\,-22\,10)
DTSTART;TZID=Europe/Berlin:20240908T140000
DTEND;TZID=Europe/Berlin:20240908T160000
LOCATION:ZŠ Dolní Břežany\, Na Vršku 290 Dolní Břežany
SUMMARY:PP-U16Z-Q1-C: Orion Praha B-Horní Počernice B
END:VEVENT
BEGIN:VEVENT
UID:63313230-3336-4538-b437-366437363532
DTSTAMP:20260422T211507Z
DESCRIPTION:8/8 Orion Praha B - SK Slavia Praha  A 0:2 (-12\,-12)
DTSTART;TZID=Europe/Berlin:20240908T160000
DTEND;TZID=Europe/Berlin:20240908T180000
LOCATION:ZŠ Dolní Břežany\, Na Vršku 290 Dolní Břežany
SUMMARY:PP-U16Z-Q1-C: Orion Praha B-SK Slavia Praha  A
END:VEVENT
BEGIN:VEVENT
UID:62613530-6333-4836-a230-303333636632
DTSTAMP:20260422T211507Z
DESCRIPTION:3/3 SK Meteor Praha B - Orion Praha B 2:1 (-15\,20\,11)
DTSTART;TZID=Europe/Berlin:20240908T110000
DTEND;TZID=Europe/Berlin:20240908T130000
LOCATION:ZŠ Dolní Břežany\, Na Vršku 290 Dolní Břežany
SUMMARY:PP-U16Z-Q1-C: SK Meteor Praha B-Orion Praha B
END:VEVENT
BEGIN:VEVENT
UID:62303838-3839-4364-b736-643237376436
DTSTAMP:20260422T211507Z
DESCRIPTION:10/10 SK Kometa Praha A - Orion Praha B 2:0 (9\,11)
DTSTART;TZID=Europe/Berlin:20240908T170000
DTEND;TZID=Europe/Berlin:20240908T190000
LOCATION:ZŠ Dolní Břežany\, Na Vršku 290 Dolní Břežany
SUMMARY:PP-U16Z-Q1-C: SK Kometa Praha A-Orion Praha B
END:VEVENT
BEGIN:VEVENT
UID:64663831-3237-4730-b831-306532366366
DTSTAMP:20260422T211507Z
DESCRIPTION:3/3 Orion Praha B - VK Lvi Praha B 2:1 (-14\,24\,10)
DTSTART;TZID=Europe/Berlin:20240929T100000
DTEND;TZID=Europe/Berlin:20240929T120000
LOCATION:tělocvičny ZŠ Mikulova\, Mikulova 1594 Praha - Chodov
SUMMARY:PP-U16Z-Q2-F: Orion Praha B-VK Lvi Praha B
END:VEVENT
BEGIN:VEVENT
UID:37663962-3862-4232-a561-653466613936
DTSTAMP:20260422T211507Z
DESCRIPTION:2/2 JOKY Újezd - Orion Praha B 2:0 (15\,7)
DTSTART;TZID=Europe/Berlin:20240929T090000
DTEND;TZID=Europe/Berlin:20240929T110000
LOCATION:tělocvičny ZŠ Mikulova\, Mikulova 1594 Praha - Chodov
SUMMARY:PP-U16Z-Q2-F: JOKY Újezd-Orion Praha B
END:VEVENT
BEGIN:VEVENT
UID:32326462-6665-4564-b033-396639393566
DTSTAMP:20260422T211507Z
DESCRIPTION:5/5 SK Kometa Praha C - Orion Praha B 2:0 (22\,21)
DTSTART;TZID=Europe/Berlin:20240929T120000
DTEND;TZID=Europe/Berlin:20240929T140000
LOCATION:tělocvičny ZŠ Mikulova\, Mikulova 1594 Praha - Chodov
SUMMARY:PP-U16Z-Q2-F: SK Kometa Praha C-Orion Praha B
END:VEVENT
BEGIN:VEVENT
UID:65366462-6330-4131-a639-623764336563
DTSTAMP:20260422T211507Z
DESCRIPTION:1/1 Orion Praha B - SK Slavia Praha B 0:2 (-21\,-20)
DTSTART;TZID=Europe/Berlin:20241013T123000
DTEND;TZID=Europe/Berlin:20241013T143000
LOCATION:SKŠ ZŠ Mikulova Praha\, Mikulova 1594 Praha - Chodov
SUMMARY:PP-U16Z-1-G: Orion Praha B-SK Slavia Praha B
END:VEVENT
BEGIN:VEVENT
UID:66333637-6163-4261-a665-616462643966
DTSTAMP:20260422T211507Z
DESCRIPTION:4/4 Orion Praha B - Mikulova D 1:2 (-16\,18\,-4)
DTSTART;TZID=Europe/Berlin:20241013T133000
DTEND;TZID=Europe/Berlin:20241013T153000
LOCATION:SKŠ ZŠ Mikulova Praha\, Mikulova 1594 Praha - Chodov
SUMMARY:PP-U16Z-1-G: Orion Praha B-Mikulova D
END:VEVENT
BEGIN:VEVENT
UID:62613461-6265-4266-a364-666665353437
DTSTAMP:20260422T211507Z
DESCRIPTION:6/6 Horní Počernice B - Orion Praha B 0:2 (-20\,-15)
DTSTART;TZID=Europe/Berlin:20241013T143000
DTEND;TZID=Europe/Berlin:20241013T163000
LOCATION:SKŠ ZŠ Mikulova Praha\, Mikulova 1594 Praha - Chodov
SUMMARY:PP-U16Z-1-G: Horní Počernice B-Orion Praha B
END:VEVENT
BEGIN:VEVENT
UID:35346639-6334-4132-b738-363865376535
DTSTAMP:20260422T211507Z
DESCRIPTION:6/6 Orion Praha B - SAVO Praha 2:1 (19\,-22\,11)
DTSTART;TZID=Europe/Berlin:20241110T140000
DTEND;TZID=Europe/Berlin:20241110T160000
LOCATION:Hala v areálu VOŠSP Jahodovka\, Jahodová 2800 Praha - Záběhlice
SUMMARY:PP-U16Z-2-G: Orion Praha B-SAVO Praha
END:VEVENT
BEGIN:VEVENT
UID:32643332-6338-4465-a466-313666346366
DTSTAMP:20260422T211507Z
DESCRIPTION:2/2 SK Slavia Praha B - Orion Praha B 0:2 (-18\,-19)
DTSTART;TZID=Europe/Berlin:20241110T100000
DTEND;TZID=Europe/Berlin:20241110T120000
LOCATION:Hala v areálu VOŠSP Jahodovka\, Jahodová 2800 Praha - Záběhlice
SUMMARY:PP-U16Z-2-G: SK Slavia Praha B-Orion Praha B
END:VEVENT
BEGIN:VEVENT
UID:30393165-6132-4032-a634-306133376364
DTSTAMP:20260422T211507Z
DESCRIPTION:3/3 Wizards DDM - Orion Praha B 0:2 (-23\,-22)
DTSTART;TZID=Europe/Berlin:20241110T110000
DTEND;TZID=Europe/Berlin:20241110T130000
LOCATION:Hala v areálu VOŠSP Jahodovka\, Jahodová 2800 Praha - Záběhlice
SUMMARY:PP-U16Z-2-G: Wizards DDM-Orion Praha B
END:VEVENT
BEGIN:VEVENT
UID:39626265-6663-4463-b333-313737303961
DTSTAMP:20260422T211507Z
DESCRIPTION:3/3 Orion Praha B - SK Kometa Praha C 2:1 (13\,-11\,17)
DTSTART;TZID=Europe/Berlin:20241201T110000
DTEND;TZID=Europe/Berlin:20241201T130000
LOCATION:FZŠ Brdičkova\, Brdičkova 1878 Praha - Stodůlky
SUMMARY:PP-U16Z-3-F: Orion Praha B-SK Kometa Praha C
END:VEVENT
BEGIN:VEVENT
UID:35366539-3934-4336-a636-383438316363
DTSTAMP:20260422T211507Z
DESCRIPTION:1/1 SK Dansport Praha - Orion Praha B 2:1 (-18\,13\,14)
DTSTART;TZID=Europe/Berlin:20241201T090000
DTEND;TZID=Europe/Berlin:20241201T110000
LOCATION:FZŠ Brdičkova\, Brdičkova 1878 Praha - Stodůlky
SUMMARY:PP-U16Z-3-F: SK Dansport Praha-Orion Praha B
END:VEVENT
BEGIN:VEVENT
UID:32616661-6632-4432-a530-653261633236
DTSTAMP:20260422T211507Z
DESCRIPTION:5/5 VK Lvi Praha B - Orion Praha B 2:0 (18\,16)
DTSTART;TZID=Europe/Berlin:20241201T130000
DTEND;TZID=Europe/Berlin:20241201T150000
LOCATION:FZŠ Brdičkova\, Brdičkova 1878 Praha - Stodůlky
SUMMARY:PP-U16Z-3-F: VK Lvi Praha B-Orion Praha B
END:VEVENT
BEGIN:VEVENT
UID:36383437-3562-4065-a264-613361366265
DTSTAMP:20260422T211507Z
DESCRIPTION:6/6 Orion Praha B - SK Kometa Praha B 2:0 (16\,23)
DTSTART;TZID=Europe/Berlin:20250119T140000
DTEND;TZID=Europe/Berlin:20250119T160000
LOCATION:ZŠ Dolní Břežany\, Na Vršku 290 Dolní Břežany
SUMMARY:PP-U16Z-4-F: Orion Praha B-SK Kometa Praha B
END:VEVENT
BEGIN:VEVENT
UID:37396263-3835-4163-b866-663865336362
DTSTAMP:20260422T211507Z
DESCRIPTION:2/2 SK Dansport Praha - Orion Praha B 2:0 (17\,20)
DTSTART;TZID=Europe/Berlin:20250119T100000
DTEND;TZID=Europe/Berlin:20250119T120000
LOCATION:ZŠ Dolní Břežany\, Na Vršku 290 Dolní Břežany
SUMMARY:PP-U16Z-4-F: SK Dansport Praha-Orion Praha B
END:VEVENT
BEGIN:VEVENT
UID:34336366-6435-4131-a537-656636613461
DTSTAMP:20260422T211507Z
DESCRIPTION:3/3 ABC Braník B - Orion Praha B 2:0 (23\,22)
DTSTART;TZID=Europe/Berlin:20250119T110000
DTEND;TZID=Europe/Berlin:20250119T130000
LOCATION:ZŠ Dolní Břežany\, Na Vršku 290 Dolní Břežany
SUMMARY:PP-U16Z-4-F: ABC Braník B-Orion Praha B
END:VEVENT
BEGIN:VEVENT
UID:31383833-3362-4561-b461-613239366636
DTSTAMP:20260422T211507Z
DESCRIPTION:6/6 Orion Praha B - Španielka Řepy 0:2 (-20\,-17)
DTSTART;TZID=Europe/Berlin:20250316T140000
DTEND;TZID=Europe/Berlin:20250316T160000
LOCATION:Tělocvična ZŠ\, Španielova 1111 Praha - Řepy
SUMMARY:PP-U16Z-5-F: Orion Praha B-Španielka Řepy
END:VEVENT
BEGIN:VEVENT
UID:30613664-3130-4636-b838-613132376632
DTSTAMP:20260422T211507Z
DESCRIPTION:2/2 ABC Braník B - Orion Praha B 1:2 (25\,-22\,-13)
DTSTART;TZID=Europe/Berlin:20250316T100000
DTEND;TZID=Europe/Berlin:20250316T120000
LOCATION:Tělocvična ZŠ\, Španielova 1111 Praha - Řepy
SUMMARY:PP-U16Z-5-F: ABC Braník B-Orion Praha B
END:VEVENT
BEGIN:VEVENT
UID:64373036-3338-4139-b134-393032393331
DTSTAMP:20260422T211507Z
DESCRIPTION:3/3 Mikulova D - Orion Praha B 1:2 (19\,-23\,-14)
DTSTART;TZID=Europe/Berlin:20250316T110000
DTEND;TZID=Europe/Berlin:20250316T130000
LOCATION:Tělocvična ZŠ\, Španielova 1111 Praha - Řepy
SUMMARY:PP-U16Z-5-F: Mikulova D-Orion Praha B
END:VEVENT
BEGIN:VEVENT
UID:65316138-3763-4431-a237-383735656537
DTSTAMP:20260422T211507Z
DESCRIPTION:2/2 Orion Praha B - ABC Braník B 2:0 (20\,25)
DTSTART;TZID=Europe/Berlin:20250406T100000
DTEND;TZID=Europe/Berlin:20250406T120000
LOCATION:ZŠ Dolní Břežany\, Na Vršku 290 Dolní Břežany
SUMMARY:PP-U16Z-6-F: Orion Praha B-ABC Braník B
END:VEVENT
BEGIN:VEVENT
UID:61653638-6639-4632-b530-333734323237
DTSTAMP:20260422T211507Z
DESCRIPTION:5/5 Orion Praha B - SK Kometa Praha B 1:2 (16\,-21\,-12)
DTSTART;TZID=Europe/Berlin:20250406T130000
DTEND;TZID=Europe/Berlin:20250406T150000
LOCATION:ZŠ Dolní Břežany\, Na Vršku 290 Dolní Břežany
SUMMARY:PP-U16Z-6-F: Orion Praha B-SK Kometa Praha B
END:VEVENT
BEGIN:VEVENT
UID:37316135-3435-4736-b761-623534316430
DTSTAMP:20260422T211507Z
DESCRIPTION:4/4 Orion Praha C - Orion Praha B 1:2 (-22\,26\,-16)
DTSTART;TZID=Europe/Berlin:20250406T120000
DTEND;TZID=Europe/Berlin:20250406T140000
LOCATION:ZŠ Dolní Břežany\, Na Vršku 290 Dolní Břežany
SUMMARY:PP-U16Z-6-F: Orion Praha C-Orion Praha B
END:VEVENT
END:VCALENDAR
