BEGIN:VCALENDAR
VERSION:2.0
PRODID:-//Volejbal Vršovice A87170//NONSGML kigkonsult.se iCalcreator 2.41.80//
CALSCALE:GREGORIAN
UID:37643234-6530-4065-a561-383539386665
BEGIN:VEVENT
UID:35373833-3262-4338-a162-356236613561
DTSTAMP:20260422T033940Z
DESCRIPTION:3/3 Volejbal Vršovice A - SK Španielka Řepy 0:2 (-14\,-8)
DTSTART;TZID=Europe/Berlin:20240914T110000
DTEND;TZID=Europe/Berlin:20240914T130000
LOCATION:Tělocvična ZŠ\, Španielova 1111 Praha - Řepy
SUMMARY:PP-U18Z-Q-B1: Volejbal Vršovice A-SK Španielka Řepy
END:VEVENT
BEGIN:VEVENT
UID:39353531-3862-4562-a265-353261636363
DTSTAMP:20260422T033940Z
DESCRIPTION:1/1 Policejní volejbalový klub Olymp Praha z.s. C - Volejbal Vr
 šovice A 2:0 (16\,14)
DTSTART;TZID=Europe/Berlin:20240914T090000
DTEND;TZID=Europe/Berlin:20240914T110000
LOCATION:Tělocvična ZŠ\, Španielova 1111 Praha - Řepy
SUMMARY:PP-U18Z-Q-B1: Policejní volejbalový klub Olymp Praha z.s. C-Volejba
 l Vršovice A
END:VEVENT
BEGIN:VEVENT
UID:37393439-3334-4031-b636-393964646235
DTSTAMP:20260422T033940Z
DESCRIPTION:3/3 Volejbal Vršovice A - SAVO Praha 2:0 (23\,14)
DTSTART;TZID=Europe/Berlin:20241005T110000
DTEND;TZID=Europe/Berlin:20241005T130000
LOCATION:MZŠ Polesná 1690\, Praha 21\, Polesná 1690 Praha - Újezd nad Lesy
SUMMARY:PP-U18Z-1-F: Volejbal Vršovice A-SAVO Praha
END:VEVENT
BEGIN:VEVENT
UID:61393266-3333-4336-b236-396139656364
DTSTAMP:20260422T033940Z
DESCRIPTION:1/1 SK JOKY Běchovice - Volejbal Vršovice A 2:1 (22\,-17\,14)
DTSTART;TZID=Europe/Berlin:20241005T090000
DTEND;TZID=Europe/Berlin:20241005T110000
LOCATION:MZŠ Polesná 1690\, Praha 21\, Polesná 1690 Praha - Újezd nad Lesy
SUMMARY:PP-U18Z-1-F: SK JOKY Běchovice-Volejbal Vršovice A
END:VEVENT
BEGIN:VEVENT
UID:36656463-3338-4661-b963-623565316437
DTSTAMP:20260422T033940Z
DESCRIPTION:5/5 SK Kometa Praha C - Volejbal Vršovice A 0:2 (-4\,-10)
DTSTART;TZID=Europe/Berlin:20241005T130000
DTEND;TZID=Europe/Berlin:20241005T150000
LOCATION:MZŠ Polesná 1690\, Praha 21\, Polesná 1690 Praha - Újezd nad Lesy
SUMMARY:PP-U18Z-1-F: SK Kometa Praha C-Volejbal Vršovice A
END:VEVENT
BEGIN:VEVENT
UID:63613035-6134-4161-a233-396339363731
DTSTAMP:20260422T033940Z
DESCRIPTION:2/2 Volejbal Vršovice A - SAVO Praha 2:0 (16\,14)
DTSTART;TZID=Europe/Berlin:20241109T090000
DTEND;TZID=Europe/Berlin:20241109T110000
LOCATION:Sportovní hala Radotín\, U starého stadiónu 1585 Praha - Radotín
SUMMARY:PP-U18Z-2-F: Volejbal Vršovice A-SAVO Praha
END:VEVENT
BEGIN:VEVENT
UID:32623263-3230-4636-a235-333131306366
DTSTAMP:20260422T033940Z
DESCRIPTION:5/5 Volejbal Vršovice A - SK Kometa Praha C 2:0 (14\,9)
DTSTART;TZID=Europe/Berlin:20241109T110000
DTEND;TZID=Europe/Berlin:20241109T130000
LOCATION:Sportovní hala Radotín\, U starého stadiónu 1585 Praha - Radotín
SUMMARY:PP-U18Z-2-F: Volejbal Vršovice A-SK Kometa Praha C
END:VEVENT
BEGIN:VEVENT
UID:39333364-6665-4039-b139-333266323032
DTSTAMP:20260422T033940Z
DESCRIPTION:4/4 Radotín - Volejbal Vršovice A 0:2 (-20\,-22)
DTSTART;TZID=Europe/Berlin:20241109T100000
DTEND;TZID=Europe/Berlin:20241109T120000
LOCATION:Sportovní hala Radotín\, U starého stadiónu 1585 Praha - Radotín
SUMMARY:PP-U18Z-2-F: Radotín-Volejbal Vršovice A
END:VEVENT
BEGIN:VEVENT
UID:65396461-6636-4062-a561-633564623434
DTSTAMP:20260422T033940Z
DESCRIPTION:3/3 Volejbal Vršovice A - Mikulova C 2:0 (9\,12)
DTSTART;TZID=Europe/Berlin:20241207T110000
DTEND;TZID=Europe/Berlin:20241207T130000
LOCATION:ZŠ Na Líše\, Na líše 936 Praha - Michle
SUMMARY:PP-U18Z-3-E: Volejbal Vršovice A-Mikulova C
END:VEVENT
BEGIN:VEVENT
UID:66653731-3136-4136-b733-653931356465
DTSTAMP:20260422T033940Z
DESCRIPTION:1/1 Wizards DDM Praha 10 - Volejbal Vršovice A 0:2 (-19\,-16)
DTSTART;TZID=Europe/Berlin:20241207T090000
DTEND;TZID=Europe/Berlin:20241207T110000
LOCATION:ZŠ Na Líše\, Na líše 936 Praha - Michle
SUMMARY:PP-U18Z-3-E: Wizards DDM Praha 10-Volejbal Vršovice A
END:VEVENT
BEGIN:VEVENT
UID:35303436-3965-4638-b261-656130353130
DTSTAMP:20260422T033940Z
DESCRIPTION:5/5 SK Kometa Praha B - Volejbal Vršovice A 2:0 (18\,25)
DTSTART;TZID=Europe/Berlin:20241207T130000
DTEND;TZID=Europe/Berlin:20241207T150000
LOCATION:ZŠ Na Líše\, Na líše 936 Praha - Michle
SUMMARY:PP-U18Z-3-E: SK Kometa Praha B-Volejbal Vršovice A
END:VEVENT
BEGIN:VEVENT
UID:38383237-6231-4633-b964-663062646639
DTSTAMP:20260422T033940Z
DESCRIPTION:2/2 Volejbal Vršovice A - Mikulova C 2:0 (5\,10)
DTSTART;TZID=Europe/Berlin:20250111T100000
DTEND;TZID=Europe/Berlin:20250111T120000
LOCATION:MZŠ Polesná 1690\, Praha 21\, Polesná 1690 Praha - Újezd nad Lesy
SUMMARY:PP-U18Z-4-E: Volejbal Vršovice A-Mikulova C
END:VEVENT
BEGIN:VEVENT
UID:66656336-6230-4261-a162-616166343139
DTSTAMP:20260422T033940Z
DESCRIPTION:5/5 Volejbal Vršovice A - SAVO Praha 2:0 (9\,24)
DTSTART;TZID=Europe/Berlin:20250111T130000
DTEND;TZID=Europe/Berlin:20250111T150000
LOCATION:MZŠ Polesná 1690\, Praha 21\, Polesná 1690 Praha - Újezd nad Lesy
SUMMARY:PP-U18Z-4-E: Volejbal Vršovice A-SAVO Praha
END:VEVENT
BEGIN:VEVENT
UID:62353230-6436-4162-b731-373630333933
DTSTAMP:20260422T033940Z
DESCRIPTION:4/4 SK JOKY Běchovice - Volejbal Vršovice A 0:2 (-17\,-19)
DTSTART;TZID=Europe/Berlin:20250111T120000
DTEND;TZID=Europe/Berlin:20250111T140000
LOCATION:MZŠ Polesná 1690\, Praha 21\, Polesná 1690 Praha - Újezd nad Lesy
SUMMARY:PP-U18Z-4-E: SK JOKY Běchovice-Volejbal Vršovice A
END:VEVENT
BEGIN:VEVENT
UID:66643138-6336-4938-a466-316365346233
DTSTAMP:20260422T033940Z
DESCRIPTION:3/3 Volejbal Vršovice A - SK Kometa Praha B 2:0 (24\,21)
DTSTART;TZID=Europe/Berlin:20250301T110000
DTEND;TZID=Europe/Berlin:20250301T130000
LOCATION:Tělocvična ZŠ U Obory\, Vachkova 630 Praha - Uhříněves
SUMMARY:PP-U18Z-5-D: Volejbal Vršovice A-SK Kometa Praha B
END:VEVENT
BEGIN:VEVENT
UID:65376639-3130-4034-b431-303334363362
DTSTAMP:20260422T033940Z
DESCRIPTION:1/1 SK Dansport Praha - Volejbal Vršovice A 2:0 (18\,23)
DTSTART;TZID=Europe/Berlin:20250301T090000
DTEND;TZID=Europe/Berlin:20250301T110000
LOCATION:Tělocvična ZŠ U Obory\, Vachkova 630 Praha - Uhříněves
SUMMARY:PP-U18Z-5-D: SK Dansport Praha-Volejbal Vršovice A
END:VEVENT
BEGIN:VEVENT
UID:37383636-6436-4234-a664-363065646631
DTSTAMP:20260422T033940Z
DESCRIPTION:5/5 Studio Sport - Volejbal Vršovice A 2:0 (19\,19)
DTSTART;TZID=Europe/Berlin:20250301T130000
DTEND;TZID=Europe/Berlin:20250301T150000
LOCATION:Tělocvična ZŠ U Obory\, Vachkova 630 Praha - Uhříněves
SUMMARY:PP-U18Z-5-D: Studio Sport-Volejbal Vršovice A
END:VEVENT
BEGIN:VEVENT
UID:37666661-3434-4334-b935-616135306662
DTSTAMP:20260422T033940Z
DESCRIPTION:6/6 Volejbal Vršovice A - Mikulova B 0:2 (-14\,-17)
DTSTART;TZID=Europe/Berlin:20250329T110000
DTEND;TZID=Europe/Berlin:20250329T130000
LOCATION:tělocvičny ZŠ Mikulova\, Mikulova 1594 Praha - Chodov
SUMMARY:PP-U18Z-6-D: Volejbal Vršovice A-Mikulova B
END:VEVENT
BEGIN:VEVENT
UID:63656536-3637-4335-a462-353166316266
DTSTAMP:20260422T033940Z
DESCRIPTION:2/2 SK Dansport Praha - Volejbal Vršovice A 2:1 (-21\,21\,9)
DTSTART;TZID=Europe/Berlin:20250329T090000
DTEND;TZID=Europe/Berlin:20250329T110000
LOCATION:tělocvičny ZŠ Mikulova\, Mikulova 1594 Praha - Chodov
SUMMARY:PP-U18Z-6-D: SK Dansport Praha-Volejbal Vršovice A
END:VEVENT
BEGIN:VEVENT
UID:61333535-6261-4066-b161-363163303634
DTSTAMP:20260422T033940Z
DESCRIPTION:3/3 Horní Počernice - Volejbal Vršovice A 1:2 (29\,-17\,-18)
DTSTART;TZID=Europe/Berlin:20250329T100000
DTEND;TZID=Europe/Berlin:20250329T120000
LOCATION:tělocvičny ZŠ Mikulova\, Mikulova 1594 Praha - Chodov
SUMMARY:PP-U18Z-6-D: Horní Počernice-Volejbal Vršovice A
END:VEVENT
END:VCALENDAR
