BEGIN:VCALENDAR
VERSION:2.0
PRODID:-//SK Dansport Praha87176//NONSGML kigkonsult.se iCalcreator 2.41.80//
CALSCALE:GREGORIAN
UID:33383462-3461-4437-b934-383461396431
BEGIN:VEVENT
UID:31363462-3436-4533-b161-346139613765
DTSTAMP:20260422T052737Z
DESCRIPTION:2/2 SK Dansport Praha - Studio Sport 2:1 (8\,-19\,11)
DTSTART;TZID=Europe/Berlin:20240914T100000
DTEND;TZID=Europe/Berlin:20240914T120000
LOCATION:SKŠ ZŠ Mikulova Praha\, Mikulova 1594 Praha - Chodov
SUMMARY:PP-U18Z-Q-A1: SK Dansport Praha-Studio Sport
END:VEVENT
BEGIN:VEVENT
UID:64643630-3433-4038-a262-623464383236
DTSTAMP:20260422T052737Z
DESCRIPTION:3/3 SK Kometa Praha C - SK Dansport Praha 0:2 (-6\,-15)
DTSTART;TZID=Europe/Berlin:20240914T110000
DTEND;TZID=Europe/Berlin:20240914T130000
LOCATION:SKŠ ZŠ Mikulova Praha\, Mikulova 1594 Praha - Chodov
SUMMARY:PP-U18Z-Q-A1: SK Kometa Praha C-SK Dansport Praha
END:VEVENT
BEGIN:VEVENT
UID:65633561-3137-4130-b834-613631616363
DTSTAMP:20260422T052737Z
DESCRIPTION:2/2 SK Dansport Praha - SK Španielka Řepy 0:2 (-13\,-24)
DTSTART;TZID=Europe/Berlin:20241005T123000
DTEND;TZID=Europe/Berlin:20241005T143000
LOCATION:tělocvičny ZŠ Mikulova\, Mikulova 1594 Praha - Chodov
SUMMARY:PP-U18Z-1-B: SK Dansport Praha-SK Španielka Řepy
END:VEVENT
BEGIN:VEVENT
UID:39656638-6132-4666-b261-623866643431
DTSTAMP:20260422T052737Z
DESCRIPTION:5/5 SK Dansport Praha - Střešovice B 1:2 (18\,-20\,-9)
DTSTART;TZID=Europe/Berlin:20241005T143000
DTEND;TZID=Europe/Berlin:20241005T163000
LOCATION:tělocvičny ZŠ Mikulova\, Mikulova 1594 Praha - Chodov
SUMMARY:PP-U18Z-1-B: SK Dansport Praha-Střešovice B
END:VEVENT
BEGIN:VEVENT
UID:36663533-6534-4265-b937-316334633464
DTSTAMP:20260422T052737Z
DESCRIPTION:4/4 Mikulova D - SK Dansport Praha 2:0 (17\,18)
DTSTART;TZID=Europe/Berlin:20241005T133000
DTEND;TZID=Europe/Berlin:20241005T153000
LOCATION:tělocvičny ZŠ Mikulova\, Mikulova 1594 Praha - Chodov
SUMMARY:PP-U18Z-1-B: Mikulova D-SK Dansport Praha
END:VEVENT
BEGIN:VEVENT
UID:32663166-3237-4436-a166-643831346534
DTSTAMP:20260422T052737Z
DESCRIPTION:1/1 SK Dansport Praha - SK JOKY Újezd 1:2 (20\,-21\,-8)
DTSTART;TZID=Europe/Berlin:20241109T090000
DTEND;TZID=Europe/Berlin:20241109T110000
LOCATION:tělocvičny ZŠ Mikulova\, Mikulova 1594 Praha - Chodov
SUMMARY:PP-U18Z-2-C: SK Dansport Praha-SK JOKY Újezd
END:VEVENT
BEGIN:VEVENT
UID:36316165-6230-4864-b937-643533353462
DTSTAMP:20260422T052737Z
DESCRIPTION:4/4 SK Dansport Praha - TJ ABC Braník\, z.s. 1:2 (-23\,20\,-7)
DTSTART;TZID=Europe/Berlin:20241109T100000
DTEND;TZID=Europe/Berlin:20241109T120000
LOCATION:tělocvičny ZŠ Mikulova\, Mikulova 1594 Praha - Chodov
SUMMARY:PP-U18Z-2-C: SK Dansport Praha-TJ ABC Braník\, z.s.
END:VEVENT
BEGIN:VEVENT
UID:64643632-3533-4535-b866-646631646134
DTSTAMP:20260422T052737Z
DESCRIPTION:6/6 Mikulova B - SK Dansport Praha 0:2 (-22\,-21)
DTSTART;TZID=Europe/Berlin:20241109T110000
DTEND;TZID=Europe/Berlin:20241109T130000
LOCATION:tělocvičny ZŠ Mikulova\, Mikulova 1594 Praha - Chodov
SUMMARY:PP-U18Z-2-C: Mikulova B-SK Dansport Praha
END:VEVENT
BEGIN:VEVENT
UID:31336433-6132-4262-a336-613732656162
DTSTAMP:20260422T052737Z
DESCRIPTION:6/6 SK Dansport Praha - Studio Sport 2:1 (21\,-24\,13)
DTSTART;TZID=Europe/Berlin:20241207T140000
DTEND;TZID=Europe/Berlin:20241207T160000
LOCATION:MZŠ Polesná 1690\, Praha 21\, Polesná 1690 Praha - Újezd nad Lesy
SUMMARY:PP-U18Z-3-C: SK Dansport Praha-Studio Sport
END:VEVENT
BEGIN:VEVENT
UID:36333534-3664-4336-b734-646132353537
DTSTAMP:20260422T052737Z
DESCRIPTION:2/2 SK JOKY Újezd - SK Dansport Praha 2:0 (17\,5)
DTSTART;TZID=Europe/Berlin:20241207T100000
DTEND;TZID=Europe/Berlin:20241207T120000
LOCATION:MZŠ Polesná 1690\, Praha 21\, Polesná 1690 Praha - Újezd nad Lesy
SUMMARY:PP-U18Z-3-C: SK JOKY Újezd-SK Dansport Praha
END:VEVENT
BEGIN:VEVENT
UID:66633161-3739-4536-a638-303934636363
DTSTAMP:20260422T052737Z
DESCRIPTION:3/3 VK Lvi Praha\, z.s. - SK Dansport Praha 2:1 (-20\,22\,11)
DTSTART;TZID=Europe/Berlin:20241207T110000
DTEND;TZID=Europe/Berlin:20241207T130000
LOCATION:MZŠ Polesná 1690\, Praha 21\, Polesná 1690 Praha - Újezd nad Lesy
SUMMARY:PP-U18Z-3-C: VK Lvi Praha\, z.s.-SK Dansport Praha
END:VEVENT
BEGIN:VEVENT
UID:39623335-3837-4234-b662-623631396161
DTSTAMP:20260422T052737Z
DESCRIPTION:6/6 SK Dansport Praha - Střešovice B 1:2 (-24\,21\,-9)
DTSTART;TZID=Europe/Berlin:20250111T110000
DTEND;TZID=Europe/Berlin:20250111T130000
LOCATION:FZŠ Brdičkova\, Brdičkova 1878 Praha - Stodůlky
SUMMARY:PP-U18Z-4-C: SK Dansport Praha-Střešovice B
END:VEVENT
BEGIN:VEVENT
UID:35633136-6664-4361-b539-366265613033
DTSTAMP:20260422T052737Z
DESCRIPTION:2/2 VK Lvi Praha\, z.s. - SK Dansport Praha 1:2 (-16\,16\,-13)
DTSTART;TZID=Europe/Berlin:20250111T090000
DTEND;TZID=Europe/Berlin:20250111T110000
LOCATION:FZŠ Brdičkova\, Brdičkova 1878 Praha - Stodůlky
SUMMARY:PP-U18Z-4-C: VK Lvi Praha\, z.s.-SK Dansport Praha
END:VEVENT
BEGIN:VEVENT
UID:35626430-6466-4662-a437-366366343061
DTSTAMP:20260422T052737Z
DESCRIPTION:3/3 Volejbal Vršovice B - SK Dansport Praha 2:1 (22\,-20\,9)
DTSTART;TZID=Europe/Berlin:20250111T100000
DTEND;TZID=Europe/Berlin:20250111T120000
LOCATION:FZŠ Brdičkova\, Brdičkova 1878 Praha - Stodůlky
SUMMARY:PP-U18Z-4-C: Volejbal Vršovice B-SK Dansport Praha
END:VEVENT
BEGIN:VEVENT
UID:63663230-6230-4265-a538-633238326237
DTSTAMP:20260422T052737Z
DESCRIPTION:1/1 SK Dansport Praha - Volejbal Vršovice A 2:0 (18\,23)
DTSTART;TZID=Europe/Berlin:20250301T090000
DTEND;TZID=Europe/Berlin:20250301T110000
LOCATION:Tělocvična ZŠ U Obory\, Vachkova 630 Praha - Uhříněves
SUMMARY:PP-U18Z-5-D: SK Dansport Praha-Volejbal Vršovice A
END:VEVENT
BEGIN:VEVENT
UID:38616533-6361-4438-a463-393138363131
DTSTAMP:20260422T052737Z
DESCRIPTION:4/4 SK Dansport Praha - Studio Sport 0:2 (-18\,-15)
DTSTART;TZID=Europe/Berlin:20250301T120000
DTEND;TZID=Europe/Berlin:20250301T140000
LOCATION:Tělocvična ZŠ U Obory\, Vachkova 630 Praha - Uhříněves
SUMMARY:PP-U18Z-5-D: SK Dansport Praha-Studio Sport
END:VEVENT
BEGIN:VEVENT
UID:61616361-6637-4137-b634-643531366435
DTSTAMP:20260422T052737Z
DESCRIPTION:6/6 SK Kometa Praha B - SK Dansport Praha 0:2 (-21\,-18)
DTSTART;TZID=Europe/Berlin:20250301T140000
DTEND;TZID=Europe/Berlin:20250301T160000
LOCATION:Tělocvična ZŠ U Obory\, Vachkova 630 Praha - Uhříněves
SUMMARY:PP-U18Z-5-D: SK Kometa Praha B-SK Dansport Praha
END:VEVENT
BEGIN:VEVENT
UID:39336635-3765-4733-b932-353365663265
DTSTAMP:20260422T052737Z
DESCRIPTION:2/2 SK Dansport Praha - Volejbal Vršovice A 2:1 (-21\,21\,9)
DTSTART;TZID=Europe/Berlin:20250329T090000
DTEND;TZID=Europe/Berlin:20250329T110000
LOCATION:tělocvičny ZŠ Mikulova\, Mikulova 1594 Praha - Chodov
SUMMARY:PP-U18Z-6-D: SK Dansport Praha-Volejbal Vršovice A
END:VEVENT
BEGIN:VEVENT
UID:66383238-6363-4433-a532-343735323965
DTSTAMP:20260422T052737Z
DESCRIPTION:5/5 SK Dansport Praha - Horní Počernice 2:1 (-18\,11\,12)
DTSTART;TZID=Europe/Berlin:20250329T110000
DTEND;TZID=Europe/Berlin:20250329T130000
LOCATION:tělocvičny ZŠ Mikulova\, Mikulova 1594 Praha - Chodov
SUMMARY:PP-U18Z-6-D: SK Dansport Praha-Horní Počernice
END:VEVENT
BEGIN:VEVENT
UID:65336164-6139-4838-a161-633566643565
DTSTAMP:20260422T052737Z
DESCRIPTION:4/4 Mikulova B - SK Dansport Praha 2:0 (13\,19)
DTSTART;TZID=Europe/Berlin:20250329T100000
DTEND;TZID=Europe/Berlin:20250329T120000
LOCATION:tělocvičny ZŠ Mikulova\, Mikulova 1594 Praha - Chodov
SUMMARY:PP-U18Z-6-D: Mikulova B-SK Dansport Praha
END:VEVENT
END:VCALENDAR
