BEGIN:VCALENDAR
VERSION:2.0
PRODID:-//Super amatérský volejbalový oddíl Praha z.s.87180//NONSGML kigkonsult.se iCalcreator 2.41.80//
CALSCALE:GREGORIAN
UID:36626364-6665-4235-a565-633535623863
BEGIN:VEVENT
UID:34393266-3630-4234-b233-303332363635
DTSTAMP:20260422T230109Z
DESCRIPTION:1/1 SAVO Praha - Střešovice C 0:2 (-15\,-17)
DTSTART;TZID=Europe/Berlin:20240914T090000
DTEND;TZID=Europe/Berlin:20240914T110000
LOCATION:FZŠ Mezi Školami\, Mezi školami 2322 Praha - Stodůlky
SUMMARY:PP-U18Z-Q-D2: SAVO Praha-Střešovice C
END:VEVENT
BEGIN:VEVENT
UID:63343235-6531-4937-b136-336161323431
DTSTAMP:20260422T230109Z
DESCRIPTION:2/2 Horní Počernice - SAVO Praha 2:0 (16\,13)
DTSTART;TZID=Europe/Berlin:20240914T100000
DTEND;TZID=Europe/Berlin:20240914T120000
LOCATION:FZŠ Mezi Školami\, Mezi školami 2322 Praha - Stodůlky
SUMMARY:PP-U18Z-Q-D2: Horní Počernice-SAVO Praha
END:VEVENT
BEGIN:VEVENT
UID:37343531-6364-4266-b964-656266343365
DTSTAMP:20260422T230109Z
DESCRIPTION:6/6 SAVO Praha - SK JOKY Běchovice 0:2 (-20\,-19)
DTSTART;TZID=Europe/Berlin:20241005T140000
DTEND;TZID=Europe/Berlin:20241005T160000
LOCATION:MZŠ Polesná 1690\, Praha 21\, Polesná 1690 Praha - Újezd nad Lesy
SUMMARY:PP-U18Z-1-F: SAVO Praha-SK JOKY Běchovice
END:VEVENT
BEGIN:VEVENT
UID:35316137-3832-4861-b839-636339653732
DTSTAMP:20260422T230109Z
DESCRIPTION:2/2 SK Kometa Praha C - SAVO Praha 0:2 (-12\,-10)
DTSTART;TZID=Europe/Berlin:20241005T100000
DTEND;TZID=Europe/Berlin:20241005T120000
LOCATION:MZŠ Polesná 1690\, Praha 21\, Polesná 1690 Praha - Újezd nad Lesy
SUMMARY:PP-U18Z-1-F: SK Kometa Praha C-SAVO Praha
END:VEVENT
BEGIN:VEVENT
UID:34363064-3138-4266-b961-326330343637
DTSTAMP:20260422T230109Z
DESCRIPTION:3/3 Volejbal Vršovice A - SAVO Praha 2:0 (23\,14)
DTSTART;TZID=Europe/Berlin:20241005T110000
DTEND;TZID=Europe/Berlin:20241005T130000
LOCATION:MZŠ Polesná 1690\, Praha 21\, Polesná 1690 Praha - Újezd nad Lesy
SUMMARY:PP-U18Z-1-F: Volejbal Vršovice A-SAVO Praha
END:VEVENT
BEGIN:VEVENT
UID:37316166-6232-4232-a636-613236666538
DTSTAMP:20260422T230109Z
DESCRIPTION:6/6 SAVO Praha - Radotín 0:2 (-19\,-18)
DTSTART;TZID=Europe/Berlin:20241109T110000
DTEND;TZID=Europe/Berlin:20241109T130000
LOCATION:Sportovní hala Radotín\, U starého stadiónu 1585 Praha - Radotín
SUMMARY:PP-U18Z-2-F: SAVO Praha-Radotín
END:VEVENT
BEGIN:VEVENT
UID:63326166-3738-4763-b635-616666643462
DTSTAMP:20260422T230109Z
DESCRIPTION:2/2 Volejbal Vršovice A - SAVO Praha 2:0 (16\,14)
DTSTART;TZID=Europe/Berlin:20241109T090000
DTEND;TZID=Europe/Berlin:20241109T110000
LOCATION:Sportovní hala Radotín\, U starého stadiónu 1585 Praha - Radotín
SUMMARY:PP-U18Z-2-F: Volejbal Vršovice A-SAVO Praha
END:VEVENT
BEGIN:VEVENT
UID:62303638-3837-4838-b138-373132313962
DTSTAMP:20260422T230109Z
DESCRIPTION:3/3 SK Kometa Praha C - SAVO Praha 0:2 (-8\,-29)
DTSTART;TZID=Europe/Berlin:20241109T100000
DTEND;TZID=Europe/Berlin:20241109T120000
LOCATION:Sportovní hala Radotín\, U starého stadiónu 1585 Praha - Radotín
SUMMARY:PP-U18Z-2-F: SK Kometa Praha C-SAVO Praha
END:VEVENT
BEGIN:VEVENT
UID:66633436-6365-4939-a139-326435646366
DTSTAMP:20260422T230109Z
DESCRIPTION:6/6 SAVO Praha - Střešovice C 2:0 (25\,20)\ntělocvična
DTSTART;TZID=Europe/Berlin:20241207T163000
DTEND;TZID=Europe/Berlin:20241207T183000
LOCATION:TJ Tatran Střešovice - tělocvična\, Sibeliova 368 Praha - Střešovi
 ce
SUMMARY:PP-U18Z-3-F: SAVO Praha-Střešovice C
END:VEVENT
BEGIN:VEVENT
UID:31666531-3932-4336-a566-333339636336
DTSTAMP:20260422T230109Z
DESCRIPTION:2/2 Radotín - SAVO Praha 0:2 (-17\,-21)\ntělocvična
DTSTART;TZID=Europe/Berlin:20241207T123000
DTEND;TZID=Europe/Berlin:20241207T143000
LOCATION:TJ Tatran Střešovice - tělocvična\, Sibeliova 368 Praha - Střešovi
 ce
SUMMARY:PP-U18Z-3-F: Radotín-SAVO Praha
END:VEVENT
BEGIN:VEVENT
UID:61663862-3937-4061-a232-333933386434
DTSTAMP:20260422T230109Z
DESCRIPTION:3/3 SK Kometa Praha C - SAVO Praha 0:2 (-12\,-4)\ntělocvična
DTSTART;TZID=Europe/Berlin:20241207T133000
DTEND;TZID=Europe/Berlin:20241207T153000
LOCATION:TJ Tatran Střešovice - tělocvična\, Sibeliova 368 Praha - Střešovi
 ce
SUMMARY:PP-U18Z-3-F: SK Kometa Praha C-SAVO Praha
END:VEVENT
BEGIN:VEVENT
UID:30626566-3637-4833-a663-363634346434
DTSTAMP:20260422T230109Z
DESCRIPTION:3/3 SAVO Praha - Mikulova C 2:0 (13\,17)
DTSTART;TZID=Europe/Berlin:20250111T110000
DTEND;TZID=Europe/Berlin:20250111T130000
LOCATION:MZŠ Polesná 1690\, Praha 21\, Polesná 1690 Praha - Újezd nad Lesy
SUMMARY:PP-U18Z-4-E: SAVO Praha-Mikulova C
END:VEVENT
BEGIN:VEVENT
UID:34323531-3433-4261-b833-613538373934
DTSTAMP:20260422T230109Z
DESCRIPTION:1/1 SK JOKY Běchovice - SAVO Praha 1:2 (-19\,23\,-13)
DTSTART;TZID=Europe/Berlin:20250111T090000
DTEND;TZID=Europe/Berlin:20250111T110000
LOCATION:MZŠ Polesná 1690\, Praha 21\, Polesná 1690 Praha - Újezd nad Lesy
SUMMARY:PP-U18Z-4-E: SK JOKY Běchovice-SAVO Praha
END:VEVENT
BEGIN:VEVENT
UID:33353434-6362-4635-b239-643833636138
DTSTAMP:20260422T230109Z
DESCRIPTION:5/5 Volejbal Vršovice A - SAVO Praha 2:0 (9\,24)
DTSTART;TZID=Europe/Berlin:20250111T130000
DTEND;TZID=Europe/Berlin:20250111T150000
LOCATION:MZŠ Polesná 1690\, Praha 21\, Polesná 1690 Praha - Újezd nad Lesy
SUMMARY:PP-U18Z-4-E: Volejbal Vršovice A-SAVO Praha
END:VEVENT
BEGIN:VEVENT
UID:30356233-3134-4135-a436-353639393563
DTSTAMP:20260422T230109Z
DESCRIPTION:2/2 SAVO Praha - SK JOKY Běchovice 0:2 (-15\,-19)
DTSTART;TZID=Europe/Berlin:20250301T100000
DTEND;TZID=Europe/Berlin:20250301T120000
LOCATION:TJ Tatran Střešovice - tělocvična\, Sibeliova 368 Praha - Střešovi
 ce
SUMMARY:PP-U18Z-5-E: SAVO Praha-SK JOKY Běchovice
END:VEVENT
BEGIN:VEVENT
UID:61343665-3332-4662-b334-646366376531
DTSTAMP:20260422T230109Z
DESCRIPTION:5/5 SAVO Praha - Střešovice C 1:2 (-21\,21\,-10)
DTSTART;TZID=Europe/Berlin:20250301T130000
DTEND;TZID=Europe/Berlin:20250301T150000
LOCATION:TJ Tatran Střešovice - tělocvična\, Sibeliova 368 Praha - Střešovi
 ce
SUMMARY:PP-U18Z-5-E: SAVO Praha-Střešovice C
END:VEVENT
BEGIN:VEVENT
UID:62386532-6561-4733-a365-353739663935
DTSTAMP:20260422T230109Z
DESCRIPTION:4/4 Horní Počernice - SAVO Praha 2:0 (20\,14)
DTSTART;TZID=Europe/Berlin:20250301T120000
DTEND;TZID=Europe/Berlin:20250301T140000
LOCATION:TJ Tatran Střešovice - tělocvična\, Sibeliova 368 Praha - Střešovi
 ce
SUMMARY:PP-U18Z-5-E: Horní Počernice-SAVO Praha
END:VEVENT
BEGIN:VEVENT
UID:62326631-3033-4663-a339-646635376664
DTSTAMP:20260422T230109Z
DESCRIPTION:1/1 SAVO Praha - SK Kometa Praha C 2:0 (17\,18)
DTSTART;TZID=Europe/Berlin:20250329T100000
DTEND;TZID=Europe/Berlin:20250329T120000
LOCATION:FZŠ Mezi Školami\, Mezi školami 2322 Praha - Stodůlky
SUMMARY:PP-U18Z-6-F: SAVO Praha-SK Kometa Praha C
END:VEVENT
BEGIN:VEVENT
UID:30303030-6364-4733-b366-323932333632
DTSTAMP:20260422T230109Z
DESCRIPTION:4/4 SAVO Praha - Radotín 2:0 (23\,20)
DTSTART;TZID=Europe/Berlin:20250329T110000
DTEND;TZID=Europe/Berlin:20250329T130000
LOCATION:FZŠ Mezi Školami\, Mezi školami 2322 Praha - Stodůlky
SUMMARY:PP-U18Z-6-F: SAVO Praha-Radotín
END:VEVENT
BEGIN:VEVENT
UID:30663338-6333-4365-a435-636638366634
DTSTAMP:20260422T230109Z
DESCRIPTION:6/6 Mikulova C - SAVO Praha 1:2 (-13\,23\,-12)
DTSTART;TZID=Europe/Berlin:20250329T120000
DTEND;TZID=Europe/Berlin:20250329T140000
LOCATION:FZŠ Mezi Školami\, Mezi školami 2322 Praha - Stodůlky
SUMMARY:PP-U18Z-6-F: Mikulova C-SAVO Praha
END:VEVENT
END:VCALENDAR
