BEGIN:VCALENDAR
VERSION:2.0
PRODID:-//Kometa Praha C87188//NONSGML kigkonsult.se iCalcreator 2.41.80//
CALSCALE:GREGORIAN
UID:63343431-3739-4365-b665-326165653738
BEGIN:VEVENT
UID:62623032-6239-4133-b930-663432663266
DTSTAMP:20260422T001300Z
DESCRIPTION:5/5 SK Kometa Praha C - SK Dansport Praha 0:2 (-9\,-2)
DTSTART;TZID=Europe/Berlin:20240907T130000
DTEND;TZID=Europe/Berlin:20240907T150000
LOCATION:SKŠ ZŠ Mikulova Praha\, Mikulova 1594 Praha - Chodov
SUMMARY:PP-U14Z-Q-A: SK Kometa Praha C-SK Dansport Praha
END:VEVENT
BEGIN:VEVENT
UID:37313963-6538-4462-b035-363134663431
DTSTAMP:20260422T001300Z
DESCRIPTION:1/1 PVK Olymp Praha - SK Kometa Praha C 2:0 (4\,16)
DTSTART;TZID=Europe/Berlin:20240907T090000
DTEND;TZID=Europe/Berlin:20240907T110000
LOCATION:SKŠ ZŠ Mikulova Praha\, Mikulova 1594 Praha - Chodov
SUMMARY:PP-U14Z-Q-A: PVK Olymp Praha-SK Kometa Praha C
END:VEVENT
BEGIN:VEVENT
UID:35626239-3636-4662-b637-396365613661
DTSTAMP:20260422T001300Z
DESCRIPTION:4/4 Mikulova A - SK Kometa Praha C 2:0 (9\,9)
DTSTART;TZID=Europe/Berlin:20240907T120000
DTEND;TZID=Europe/Berlin:20240907T140000
LOCATION:SKŠ ZŠ Mikulova Praha\, Mikulova 1594 Praha - Chodov
SUMMARY:PP-U14Z-Q-A: Mikulova A-SK Kometa Praha C
END:VEVENT
BEGIN:VEVENT
UID:66366266-3533-4461-a664-343537626631
DTSTAMP:20260422T001300Z
DESCRIPTION:1/1 SK Kometa Praha C - Orion Praha B 2:1 (-26\,24\,9)
DTSTART;TZID=Europe/Berlin:20240928T090000
DTEND;TZID=Europe/Berlin:20240928T110000
LOCATION:ZŠ Dolní Břežany\, Na Vršku 290 Dolní Břežany
SUMMARY:PP-U14Z-1-D: SK Kometa Praha C-Orion Praha B
END:VEVENT
BEGIN:VEVENT
UID:30663735-3236-4664-b964-343339386464
DTSTAMP:20260422T001300Z
DESCRIPTION:3/6 SK Kometa Praha C - ABC Braník 0:2 (-11\,-21)
DTSTART;TZID=Europe/Berlin:20240928T110000
DTEND;TZID=Europe/Berlin:20240928T130000
LOCATION:ZŠ Dolní Břežany\, Na Vršku 290 Dolní Břežany
SUMMARY:PP-U14Z-1-D: SK Kometa Praha C-ABC Braník
END:VEVENT
BEGIN:VEVENT
UID:36383837-3136-4765-a638-306666333830
DTSTAMP:20260422T001300Z
DESCRIPTION:2/3 Horní Počernice - SK Kometa Praha C 2:0 (17\,15)
DTSTART;TZID=Europe/Berlin:20240928T100000
DTEND;TZID=Europe/Berlin:20240928T120000
LOCATION:ZŠ Dolní Břežany\, Na Vršku 290 Dolní Břežany
SUMMARY:PP-U14Z-1-D: Horní Počernice-SK Kometa Praha C
END:VEVENT
BEGIN:VEVENT
UID:38376133-3762-4136-b738-626330393635
DTSTAMP:20260422T001300Z
DESCRIPTION:5/9 SK Meteor Praha B - SK Kometa Praha C 2:1 (17\,-22\,13)
DTSTART;TZID=Europe/Berlin:20240928T130000
DTEND;TZID=Europe/Berlin:20240928T150000
LOCATION:ZŠ Dolní Břežany\, Na Vršku 290 Dolní Břežany
SUMMARY:PP-U14Z-1-D: SK Meteor Praha B-SK Kometa Praha C
END:VEVENT
BEGIN:VEVENT
UID:33323564-3933-4961-b135-353836353866
DTSTAMP:20260422T001300Z
DESCRIPTION:2/4 SK Kometa Praha C - Horní Počernice 2:0 (20\,9)
DTSTART;TZID=Europe/Berlin:20241012T100000
DTEND;TZID=Europe/Berlin:20241012T120000
LOCATION:ZŠ Dolní Břežany\, Na Vršku 290 Dolní Břežany
SUMMARY:PP-U14Z-2-D: SK Kometa Praha C-Horní Počernice
END:VEVENT
BEGIN:VEVENT
UID:36636639-3633-4631-a565-666331663735
DTSTAMP:20260422T001300Z
DESCRIPTION:5/10 SK Kometa Praha C - SK Kometa Praha B 2:1 (22\,-17\,10)
DTSTART;TZID=Europe/Berlin:20241012T130000
DTEND;TZID=Europe/Berlin:20241012T150000
LOCATION:ZŠ Dolní Břežany\, Na Vršku 290 Dolní Břežany
SUMMARY:PP-U14Z-2-D: SK Kometa Praha C-SK Kometa Praha B
END:VEVENT
BEGIN:VEVENT
UID:63616462-3162-4437-b735-393463626266
DTSTAMP:20260422T001300Z
DESCRIPTION:1/1 Orion Praha B - SK Kometa Praha C 2:0 (19\,23)
DTSTART;TZID=Europe/Berlin:20241012T090000
DTEND;TZID=Europe/Berlin:20241012T110000
LOCATION:ZŠ Dolní Břežany\, Na Vršku 290 Dolní Břežany
SUMMARY:PP-U14Z-2-D: Orion Praha B-SK Kometa Praha C
END:VEVENT
BEGIN:VEVENT
UID:32663362-3138-4339-b438-336436313836
DTSTAMP:20260422T001300Z
DESCRIPTION:4/7 SK Meteor Praha B - SK Kometa Praha C 0:2 (-20\,-21)
DTSTART;TZID=Europe/Berlin:20241012T120000
DTEND;TZID=Europe/Berlin:20241012T140000
LOCATION:ZŠ Dolní Břežany\, Na Vršku 290 Dolní Břežany
SUMMARY:PP-U14Z-2-D: SK Meteor Praha B-SK Kometa Praha C
END:VEVENT
BEGIN:VEVENT
UID:65623361-3163-4634-b437-303732333462
DTSTAMP:20260422T001300Z
DESCRIPTION:1/1 SK Kometa Praha C - SK Meteor Praha B 2:1 (-18\,20\,12)
DTSTART;TZID=Europe/Berlin:20241109T090000
DTEND;TZID=Europe/Berlin:20241109T110000
LOCATION:Sokol Bubeneč\, Korunovační 630 Praha - Bubeneč
SUMMARY:PP-U14Z-3-D: SK Kometa Praha C-SK Meteor Praha B
END:VEVENT
BEGIN:VEVENT
UID:36313061-6239-4330-b331-646561656239
DTSTAMP:20260422T001300Z
DESCRIPTION:3/5 SK Kometa Praha C - SK Kometa Praha B 2:1 (19\,-18\,15)
DTSTART;TZID=Europe/Berlin:20241109T110000
DTEND;TZID=Europe/Berlin:20241109T130000
LOCATION:Sokol Bubeneč\, Korunovační 630 Praha - Bubeneč
SUMMARY:PP-U14Z-3-D: SK Kometa Praha C-SK Kometa Praha B
END:VEVENT
BEGIN:VEVENT
UID:34373939-6637-4630-b637-613737353464
DTSTAMP:20260422T001300Z
DESCRIPTION:2/3 ABC Braník - SK Kometa Praha C 0:2 (-25\,-13)
DTSTART;TZID=Europe/Berlin:20241109T100000
DTEND;TZID=Europe/Berlin:20241109T120000
LOCATION:Sokol Bubeneč\, Korunovační 630 Praha - Bubeneč
SUMMARY:PP-U14Z-3-D: ABC Braník-SK Kometa Praha C
END:VEVENT
BEGIN:VEVENT
UID:38303630-3632-4361-b036-626431626139
DTSTAMP:20260422T001300Z
DESCRIPTION:5/9 Horní Počernice - SK Kometa Praha C 1:2 (18\,-12\,-16)
DTSTART;TZID=Europe/Berlin:20241109T130000
DTEND;TZID=Europe/Berlin:20241109T150000
LOCATION:Sokol Bubeneč\, Korunovační 630 Praha - Bubeneč
SUMMARY:PP-U14Z-3-D: Horní Počernice-SK Kometa Praha C
END:VEVENT
BEGIN:VEVENT
UID:37313237-3930-4661-b163-333139656439
DTSTAMP:20260422T001300Z
DESCRIPTION:3/3 SK Kometa Praha C - SAVO 0:2 (-19\,-11)
DTSTART;TZID=Europe/Berlin:20241130T110000
DTEND;TZID=Europe/Berlin:20241130T130000
LOCATION:FZŠ Brdičkova\, Brdičkova 1878 Praha - Stodůlky
SUMMARY:PP-U14Z-4-C: SK Kometa Praha C-SAVO
END:VEVENT
BEGIN:VEVENT
UID:39653933-3131-4166-b166-333239633961
DTSTAMP:20260422T001300Z
DESCRIPTION:1/1 VK Lvi Praha A - SK Kometa Praha C 2:0 (5\,6)
DTSTART;TZID=Europe/Berlin:20241130T090000
DTEND;TZID=Europe/Berlin:20241130T110000
LOCATION:FZŠ Brdičkova\, Brdičkova 1878 Praha - Stodůlky
SUMMARY:PP-U14Z-4-C: VK Lvi Praha A-SK Kometa Praha C
END:VEVENT
BEGIN:VEVENT
UID:35306638-3866-4261-b664-303538643634
DTSTAMP:20260422T001300Z
DESCRIPTION:5/5 Orion Praha B - SK Kometa Praha C 2:1 (-17\,13\,7)
DTSTART;TZID=Europe/Berlin:20241130T130000
DTEND;TZID=Europe/Berlin:20241130T150000
LOCATION:FZŠ Brdičkova\, Brdičkova 1878 Praha - Stodůlky
SUMMARY:PP-U14Z-4-C: Orion Praha B-SK Kometa Praha C
END:VEVENT
BEGIN:VEVENT
UID:66623038-6534-4063-b831-396136306364
DTSTAMP:20260422T001300Z
DESCRIPTION:2/3 SK Kometa Praha C - Mikulova B 0:2 (-10\,-9)
DTSTART;TZID=Europe/Berlin:20250118T100000
DTEND;TZID=Europe/Berlin:20250118T120000
LOCATION:SKŠ ZŠ Mikulova Praha\, Mikulova 1594 Praha - Chodov
SUMMARY:PP-U14Z-5-D: SK Kometa Praha C-Mikulova B
END:VEVENT
BEGIN:VEVENT
UID:30376433-3531-4133-b839-303165386637
DTSTAMP:20260422T001300Z
DESCRIPTION:3/5 SK Kometa Praha C - SK Meteor Praha B 2:0 (13\,24)
DTSTART;TZID=Europe/Berlin:20250118T110000
DTEND;TZID=Europe/Berlin:20250118T130000
LOCATION:SKŠ ZŠ Mikulova Praha\, Mikulova 1594 Praha - Chodov
SUMMARY:PP-U14Z-5-D: SK Kometa Praha C-SK Meteor Praha B
END:VEVENT
BEGIN:VEVENT
UID:37306231-3031-4430-b066-393632306138
DTSTAMP:20260422T001300Z
DESCRIPTION:4/8 SK Kometa Praha B - SK Kometa Praha C 1:2 (17\,-19\,-6)
DTSTART;TZID=Europe/Berlin:20250118T120000
DTEND;TZID=Europe/Berlin:20250118T140000
LOCATION:SKŠ ZŠ Mikulova Praha\, Mikulova 1594 Praha - Chodov
SUMMARY:PP-U14Z-5-D: SK Kometa Praha B-SK Kometa Praha C
END:VEVENT
BEGIN:VEVENT
UID:64363633-3064-4538-a365-393530623366
DTSTAMP:20260422T001300Z
DESCRIPTION:5/10 Horní Počernice - SK Kometa Praha C 2:0 (18\,17)
DTSTART;TZID=Europe/Berlin:20250118T130000
DTEND;TZID=Europe/Berlin:20250118T150000
LOCATION:SKŠ ZŠ Mikulova Praha\, Mikulova 1594 Praha - Chodov
SUMMARY:PP-U14Z-5-D: Horní Počernice-SK Kometa Praha C
END:VEVENT
BEGIN:VEVENT
UID:64623532-6164-4738-a637-376632366661
DTSTAMP:20260422T001300Z
DESCRIPTION:4/7 SK Kometa Praha C - SK Meteor Praha B 0:2 (-12\,-21)
DTSTART;TZID=Europe/Berlin:20250315T120000
DTEND;TZID=Europe/Berlin:20250315T140000
LOCATION:FZŠ Mezi Školami\, Mezi školami 2322 Praha - Stodůlky
SUMMARY:PP-U14Z-6-D: SK Kometa Praha C-SK Meteor Praha B
END:VEVENT
BEGIN:VEVENT
UID:62346131-3365-4566-b337-613330396465
DTSTAMP:20260422T001300Z
DESCRIPTION:5/9 SK Kometa Praha C - Horní Počernice 0:2 (-26\,-21)
DTSTART;TZID=Europe/Berlin:20250315T130000
DTEND;TZID=Europe/Berlin:20250315T150000
LOCATION:FZŠ Mezi Školami\, Mezi školami 2322 Praha - Stodůlky
SUMMARY:PP-U14Z-6-D: SK Kometa Praha C-Horní Počernice
END:VEVENT
BEGIN:VEVENT
UID:63396334-3364-4438-b239-306432383135
DTSTAMP:20260422T001300Z
DESCRIPTION:1/2 SK Kometa Praha B - SK Kometa Praha C 2:0 (15\,5)
DTSTART;TZID=Europe/Berlin:20250315T090000
DTEND;TZID=Europe/Berlin:20250315T110000
LOCATION:FZŠ Mezi Školami\, Mezi školami 2322 Praha - Stodůlky
SUMMARY:PP-U14Z-6-D: SK Kometa Praha B-SK Kometa Praha C
END:VEVENT
BEGIN:VEVENT
UID:38616230-6439-4637-a532-303961666237
DTSTAMP:20260422T001300Z
DESCRIPTION:3/5 SAVO - SK Kometa Praha C 2:0 (12\,9)
DTSTART;TZID=Europe/Berlin:20250315T110000
DTEND;TZID=Europe/Berlin:20250315T130000
LOCATION:FZŠ Mezi Školami\, Mezi školami 2322 Praha - Stodůlky
SUMMARY:PP-U14Z-6-D: SAVO-SK Kometa Praha C
END:VEVENT
BEGIN:VEVENT
UID:33363931-6261-4263-b739-313934363030
DTSTAMP:20260422T001300Z
DESCRIPTION:2/4 SK Kometa Praha C - SAVO 1:2 (-23\,16\,-11)
DTSTART;TZID=Europe/Berlin:20250405T100000
DTEND;TZID=Europe/Berlin:20250405T120000
LOCATION:Sokol Bubeneč\, Korunovační 630 Praha - Bubeneč
SUMMARY:PP-U14Z-7-D: SK Kometa Praha C-SAVO
END:VEVENT
BEGIN:VEVENT
UID:64373036-6365-4935-a135-633434393531
DTSTAMP:20260422T001300Z
DESCRIPTION:5/10 SK Kometa Praha C - Orion Praha B 0:2 (-18\,-12)
DTSTART;TZID=Europe/Berlin:20250405T130000
DTEND;TZID=Europe/Berlin:20250405T150000
LOCATION:Sokol Bubeneč\, Korunovační 630 Praha - Bubeneč
SUMMARY:PP-U14Z-7-D: SK Kometa Praha C-Orion Praha B
END:VEVENT
BEGIN:VEVENT
UID:64343635-3334-4661-b735-383337353664
DTSTAMP:20260422T001300Z
DESCRIPTION:1/1 Horní Počernice - SK Kometa Praha C 2:0 (7\,24)
DTSTART;TZID=Europe/Berlin:20250405T090000
DTEND;TZID=Europe/Berlin:20250405T110000
LOCATION:Sokol Bubeneč\, Korunovační 630 Praha - Bubeneč
SUMMARY:PP-U14Z-7-D: Horní Počernice-SK Kometa Praha C
END:VEVENT
BEGIN:VEVENT
UID:34373732-3337-4262-a230-336137326138
DTSTAMP:20260422T001300Z
DESCRIPTION:4/7 SK Meteor Praha B - SK Kometa Praha C 2:0 (17\,13)
DTSTART;TZID=Europe/Berlin:20250405T120000
DTEND;TZID=Europe/Berlin:20250405T140000
LOCATION:Sokol Bubeneč\, Korunovační 630 Praha - Bubeneč
SUMMARY:PP-U14Z-7-D: SK Meteor Praha B-SK Kometa Praha C
END:VEVENT
END:VCALENDAR
