BEGIN:VCALENDAR
VERSION:2.0
PRODID:-//Lvi Praha87196//NONSGML kigkonsult.se iCalcreator 2.41.80//
CALSCALE:GREGORIAN
UID:62653333-6537-4431-a363-396563306232
BEGIN:VEVENT
UID:31623231-3430-4538-a138-666639333535
DTSTAMP:20260422T010302Z
DESCRIPTION:6/6 VK Lvi Praha A - SK Kometa Praha B 2:0 (17\,11)
DTSTART;TZID=Europe/Berlin:20240907T120000
DTEND;TZID=Europe/Berlin:20240907T140000
LOCATION:ZŠ Dolní Břežany\, Na Vršku 290 Dolní Břežany
SUMMARY:PP-U14Z-Q-B: VK Lvi Praha A-SK Kometa Praha B
END:VEVENT
BEGIN:VEVENT
UID:65333963-6264-4531-a533-346634626433
DTSTAMP:20260422T010302Z
DESCRIPTION:7/7 VK Lvi Praha A - Orion Praha A 0:2 (-7\,-16)
DTSTART;TZID=Europe/Berlin:20240907T130000
DTEND;TZID=Europe/Berlin:20240907T150000
LOCATION:ZŠ Dolní Břežany\, Na Vršku 290 Dolní Břežany
SUMMARY:PP-U14Z-Q-B: VK Lvi Praha A-Orion Praha A
END:VEVENT
BEGIN:VEVENT
UID:30376130-6165-4438-b737-646463386133
DTSTAMP:20260422T010302Z
DESCRIPTION:3/3 SK Meteor Praha B - VK Lvi Praha A 0:2 (-7\,-16)
DTSTART;TZID=Europe/Berlin:20240907T100000
DTEND;TZID=Europe/Berlin:20240907T120000
LOCATION:ZŠ Dolní Břežany\, Na Vršku 290 Dolní Břežany
SUMMARY:PP-U14Z-Q-B: SK Meteor Praha B-VK Lvi Praha A
END:VEVENT
BEGIN:VEVENT
UID:61393339-3666-4861-b261-373962363362
DTSTAMP:20260422T010302Z
DESCRIPTION:9/9 ABC Braník - VK Lvi Praha A 0:2 (-10\,-15)
DTSTART;TZID=Europe/Berlin:20240907T140000
DTEND;TZID=Europe/Berlin:20240907T160000
LOCATION:ZŠ Dolní Břežany\, Na Vršku 290 Dolní Břežany
SUMMARY:PP-U14Z-Q-B: ABC Braník-VK Lvi Praha A
END:VEVENT
BEGIN:VEVENT
UID:36386562-3566-4539-b337-373163313866
DTSTAMP:20260422T010302Z
DESCRIPTION:1/1 VK Lvi Praha A - Volejbal Vršovice 0:2 (-13\,-21)
DTSTART;TZID=Europe/Berlin:20240928T090000
DTEND;TZID=Europe/Berlin:20240928T110000
LOCATION:TJ Tatran Střešovice\, Sibeliova 368 Praha - Střešovice
SUMMARY:PP-U14Z-1-B: VK Lvi Praha A-Volejbal Vršovice
END:VEVENT
BEGIN:VEVENT
UID:31323234-6639-4339-b830-353631333763
DTSTAMP:20260422T010302Z
DESCRIPTION:6/6 VK Lvi Praha A - Střešovice 0:2 (-15\,-15)
DTSTART;TZID=Europe/Berlin:20240928T130000
DTEND;TZID=Europe/Berlin:20240928T150000
LOCATION:TJ Tatran Střešovice\, Sibeliova 368 Praha - Střešovice
SUMMARY:PP-U14Z-1-B: VK Lvi Praha A-Střešovice
END:VEVENT
BEGIN:VEVENT
UID:36613332-3332-4535-a631-316137353132
DTSTAMP:20260422T010302Z
DESCRIPTION:3/3 Mikulova B - VK Lvi Praha A 2:1 (-21\,19\,9)
DTSTART;TZID=Europe/Berlin:20240928T110000
DTEND;TZID=Europe/Berlin:20240928T130000
LOCATION:TJ Tatran Střešovice\, Sibeliova 368 Praha - Střešovice
SUMMARY:PP-U14Z-1-B: Mikulova B-VK Lvi Praha A
END:VEVENT
BEGIN:VEVENT
UID:62653664-6165-4833-b538-313264613366
DTSTAMP:20260422T010302Z
DESCRIPTION:9/9 Španielka - VK Lvi Praha A 2:0 (21\,21)
DTSTART;TZID=Europe/Berlin:20240928T150000
DTEND;TZID=Europe/Berlin:20240928T170000
LOCATION:TJ Tatran Střešovice\, Sibeliova 368 Praha - Střešovice
SUMMARY:PP-U14Z-1-B: Španielka-VK Lvi Praha A
END:VEVENT
BEGIN:VEVENT
UID:32363737-3563-4563-b862-653337376633
DTSTAMP:20260422T010302Z
DESCRIPTION:1/1 VK Lvi Praha A - ABC Braník 2:0 (9\,18)
DTSTART;TZID=Europe/Berlin:20241012T090000
DTEND;TZID=Europe/Berlin:20241012T110000
LOCATION:Sokol Bubeneč\, Korunovační 630 Praha - Bubeneč
SUMMARY:PP-U14Z-2-C: VK Lvi Praha A-ABC Braník
END:VEVENT
BEGIN:VEVENT
UID:65663536-3665-4132-b033-316139316234
DTSTAMP:20260422T010302Z
DESCRIPTION:6/6 VK Lvi Praha A - SK Meteor Praha A 2:1 (-23\,13\,6)
DTSTART;TZID=Europe/Berlin:20241012T110000
DTEND;TZID=Europe/Berlin:20241012T130000
LOCATION:Sokol Bubeneč\, Korunovační 630 Praha - Bubeneč
SUMMARY:PP-U14Z-2-C: VK Lvi Praha A-SK Meteor Praha A
END:VEVENT
BEGIN:VEVENT
UID:37313639-3164-4537-b136-373534626633
DTSTAMP:20260422T010302Z
DESCRIPTION:3/3 SAVO - VK Lvi Praha A 0:2 (-14\,-8)
DTSTART;TZID=Europe/Berlin:20241012T100000
DTEND;TZID=Europe/Berlin:20241012T120000
LOCATION:Sokol Bubeneč\, Korunovační 630 Praha - Bubeneč
SUMMARY:PP-U14Z-2-C: SAVO-VK Lvi Praha A
END:VEVENT
BEGIN:VEVENT
UID:32626431-3734-4666-b034-616661366364
DTSTAMP:20260422T010302Z
DESCRIPTION:3/3 VK Lvi Praha A - Střešovice 0:2 (-9\,-14)
DTSTART;TZID=Europe/Berlin:20241109T110000
DTEND;TZID=Europe/Berlin:20241109T130000
LOCATION:FZŠ Brdičkova\, Brdičkova 1878 Praha - Stodůlky
SUMMARY:PP-U14Z-3-B: VK Lvi Praha A-Střešovice
END:VEVENT
BEGIN:VEVENT
UID:33323837-3731-4336-a537-366333653664
DTSTAMP:20260422T010302Z
DESCRIPTION:1/1 Volejbal Vršovice - VK Lvi Praha A 2:0 (16\,23)
DTSTART;TZID=Europe/Berlin:20241109T090000
DTEND;TZID=Europe/Berlin:20241109T110000
LOCATION:FZŠ Brdičkova\, Brdičkova 1878 Praha - Stodůlky
SUMMARY:PP-U14Z-3-B: Volejbal Vršovice-VK Lvi Praha A
END:VEVENT
BEGIN:VEVENT
UID:61383066-3833-4465-b563-623463613335
DTSTAMP:20260422T010302Z
DESCRIPTION:5/5 SK Dansport Praha - VK Lvi Praha A 2:0 (14\,7)
DTSTART;TZID=Europe/Berlin:20241109T130000
DTEND;TZID=Europe/Berlin:20241109T150000
LOCATION:FZŠ Brdičkova\, Brdičkova 1878 Praha - Stodůlky
SUMMARY:PP-U14Z-3-B: SK Dansport Praha-VK Lvi Praha A
END:VEVENT
BEGIN:VEVENT
UID:32626534-3366-4065-b035-343661343533
DTSTAMP:20260422T010302Z
DESCRIPTION:1/1 VK Lvi Praha A - SK Kometa Praha C 2:0 (5\,6)
DTSTART;TZID=Europe/Berlin:20241130T090000
DTEND;TZID=Europe/Berlin:20241130T110000
LOCATION:FZŠ Brdičkova\, Brdičkova 1878 Praha - Stodůlky
SUMMARY:PP-U14Z-4-C: VK Lvi Praha A-SK Kometa Praha C
END:VEVENT
BEGIN:VEVENT
UID:35353530-3636-4530-b536-633538336365
DTSTAMP:20260422T010302Z
DESCRIPTION:4/4 VK Lvi Praha A - Orion Praha B 2:0 (24\,14)
DTSTART;TZID=Europe/Berlin:20241130T120000
DTEND;TZID=Europe/Berlin:20241130T140000
LOCATION:FZŠ Brdičkova\, Brdičkova 1878 Praha - Stodůlky
SUMMARY:PP-U14Z-4-C: VK Lvi Praha A-Orion Praha B
END:VEVENT
BEGIN:VEVENT
UID:35633934-3964-4133-a238-663561306566
DTSTAMP:20260422T010302Z
DESCRIPTION:6/6 SAVO - VK Lvi Praha A 0:2 (-10\,-17)
DTSTART;TZID=Europe/Berlin:20241130T140000
DTEND;TZID=Europe/Berlin:20241130T160000
LOCATION:FZŠ Brdičkova\, Brdičkova 1878 Praha - Stodůlky
SUMMARY:PP-U14Z-4-C: SAVO-VK Lvi Praha A
END:VEVENT
BEGIN:VEVENT
UID:62313831-3032-4531-a164-663933633836
DTSTAMP:20260422T010302Z
DESCRIPTION:2/3 VK Lvi Praha A - SK Dansport Praha 1:2 (24\,-19\,-6)
DTSTART;TZID=Europe/Berlin:20250118T100000
DTEND;TZID=Europe/Berlin:20250118T120000
LOCATION:Sokol Bubeneč\, Korunovační 630 Praha - Bubeneč
SUMMARY:PP-U14Z-5-B: VK Lvi Praha A-SK Dansport Praha
END:VEVENT
BEGIN:VEVENT
UID:34363534-3336-4330-b765-363635383838
DTSTAMP:20260422T010302Z
DESCRIPTION:1/1 Střešovice - VK Lvi Praha A 2:1 (14\,-18\,8)
DTSTART;TZID=Europe/Berlin:20250118T090000
DTEND;TZID=Europe/Berlin:20250118T110000
LOCATION:Sokol Bubeneč\, Korunovační 630 Praha - Bubeneč
SUMMARY:PP-U14Z-5-B: Střešovice-VK Lvi Praha A
END:VEVENT
BEGIN:VEVENT
UID:62323461-6636-4430-a433-646332343939
DTSTAMP:20260422T010302Z
DESCRIPTION:3/5 SK Meteor Praha A - VK Lvi Praha A 0:2 (-17\,-24)
DTSTART;TZID=Europe/Berlin:20250118T110000
DTEND;TZID=Europe/Berlin:20250118T130000
LOCATION:Sokol Bubeneč\, Korunovační 630 Praha - Bubeneč
SUMMARY:PP-U14Z-5-B: SK Meteor Praha A-VK Lvi Praha A
END:VEVENT
BEGIN:VEVENT
UID:61303566-3163-4538-b965-333439646539
DTSTAMP:20260422T010302Z
DESCRIPTION:2/3 VK Lvi Praha A - Orion Praha B 2:1 (23\,-22\,11)
DTSTART;TZID=Europe/Berlin:20250329T101500
DTEND;TZID=Europe/Berlin:20250329T121500
LOCATION:Sportovní hala TJ Sever Žatec\, Plzeňská 2787 Žatec
SUMMARY:MCR-U14Z-1C: VK Lvi Praha A-Orion Praha B
END:VEVENT
BEGIN:VEVENT
UID:35663832-6136-4464-b433-323236383935
DTSTAMP:20260422T010302Z
DESCRIPTION:8/16 VK Lvi Praha A - VK Jirkov 0:2 (-15\,-17)
DTSTART;TZID=Europe/Berlin:20250329T174500
DTEND;TZID=Europe/Berlin:20250329T194500
LOCATION:Sportovní hala TJ Sever Žatec\, Plzeňská 2787 Žatec
SUMMARY:MCR-U14Z-1C: VK Lvi Praha A-VK Jirkov
END:VEVENT
BEGIN:VEVENT
UID:34393662-3866-4133-b239-663534303832
DTSTAMP:20260422T010302Z
DESCRIPTION:9/17 VK Lvi Praha A - VK Sever Žatec 0:2 (-12\,-18)
DTSTART;TZID=Europe/Berlin:20250330T090000
DTEND;TZID=Europe/Berlin:20250330T110000
LOCATION:Sportovní hala TJ Sever Žatec\, Plzeňská 2787 Žatec
SUMMARY:MCR-U14Z-1C: VK Lvi Praha A-VK Sever Žatec
END:VEVENT
BEGIN:VEVENT
UID:37333331-6534-4232-a665-323765326464
DTSTAMP:20260422T010302Z
DESCRIPTION:11/22 VK Lvi Praha A - TJ KRALUPY 0:2 (-14\,-6)
DTSTART;TZID=Europe/Berlin:20250330T111500
DTEND;TZID=Europe/Berlin:20250330T131500
LOCATION:Sportovní hala TJ Sever Žatec\, Plzeňská 2787 Žatec
SUMMARY:MCR-U14Z-1C: VK Lvi Praha A-TJ KRALUPY
END:VEVENT
BEGIN:VEVENT
UID:32363265-3338-4732-b061-646433333364
DTSTAMP:20260422T010302Z
DESCRIPTION:4/7 VK Rokycany - VK Lvi Praha A 2:1 (23\,-23\,6)
DTSTART;TZID=Europe/Berlin:20250329T124500
DTEND;TZID=Europe/Berlin:20250329T144500
LOCATION:Sportovní hala TJ Sever Žatec\, Plzeňská 2787 Žatec
SUMMARY:MCR-U14Z-1C: VK Rokycany-VK Lvi Praha A
END:VEVENT
BEGIN:VEVENT
UID:35393132-6534-4336-b337-363361653639
DTSTAMP:20260422T010302Z
DESCRIPTION:6/11 Sokol Brandýs n.L. - VK Lvi Praha A 2:1 (-15\,20\,4)
DTSTART;TZID=Europe/Berlin:20250329T151500
DTEND;TZID=Europe/Berlin:20250329T171500
LOCATION:Sportovní hala TJ Sever Žatec\, Plzeňská 2787 Žatec
SUMMARY:MCR-U14Z-1C: Sokol Brandýs n.L.-VK Lvi Praha A
END:VEVENT
BEGIN:VEVENT
UID:34353130-3661-4135-b335-323735613937
DTSTAMP:20260422T010302Z
DESCRIPTION:13/25 VK Slavia Plzeň - VK Lvi Praha A 2:0 (9\,7)
DTSTART;TZID=Europe/Berlin:20250330T131500
DTEND;TZID=Europe/Berlin:20250330T151500
LOCATION:Sportovní hala TJ Sever Žatec\, Plzeňská 2787 Žatec
SUMMARY:MCR-U14Z-1C: VK Slavia Plzeň-VK Lvi Praha A
END:VEVENT
BEGIN:VEVENT
UID:32383439-3763-4539-b133-623738623466
DTSTAMP:20260422T010302Z
DESCRIPTION:6/6 VK Lvi Praha A - Volejbal Vršovice 2:1 (18\,-19\,15)
DTSTART;TZID=Europe/Berlin:20250315T140000
DTEND;TZID=Europe/Berlin:20250315T160000
LOCATION:Tělocvična ZŠ\, Španielova 1111 Praha - Řepy
SUMMARY:PP-U14Z-6-B: VK Lvi Praha A-Volejbal Vršovice
END:VEVENT
BEGIN:VEVENT
UID:62333664-3861-4132-b531-613965643463
DTSTAMP:20260422T010302Z
DESCRIPTION:2/2 Střešovice - VK Lvi Praha A 2:1 (19\,-21\,12)
DTSTART;TZID=Europe/Berlin:20250315T100000
DTEND;TZID=Europe/Berlin:20250315T120000
LOCATION:Tělocvična ZŠ\, Španielova 1111 Praha - Řepy
SUMMARY:PP-U14Z-6-B: Střešovice-VK Lvi Praha A
END:VEVENT
BEGIN:VEVENT
UID:64353036-3266-4163-a638-313464363330
DTSTAMP:20260422T010302Z
DESCRIPTION:3/3 Španielka - VK Lvi Praha A 0:2 (-14\,-19)
DTSTART;TZID=Europe/Berlin:20250315T110000
DTEND;TZID=Europe/Berlin:20250315T130000
LOCATION:Tělocvična ZŠ\, Španielova 1111 Praha - Řepy
SUMMARY:PP-U14Z-6-B: Španielka-VK Lvi Praha A
END:VEVENT
BEGIN:VEVENT
UID:64393639-3434-4166-b962-313737626238
DTSTAMP:20260422T010302Z
DESCRIPTION:2/4 VK Lvi Praha A - SK Kometa Praha A 0:2 (-12\,-14)
DTSTART;TZID=Europe/Berlin:20250405T103000
DTEND;TZID=Europe/Berlin:20250405T123000
LOCATION:ZŠ Dolní Břežany\, Na Vršku 290 Dolní Břežany
SUMMARY:PP-U14Z-7-A: VK Lvi Praha A-SK Kometa Praha A
END:VEVENT
BEGIN:VEVENT
UID:61333261-3439-4334-b862-336137346234
DTSTAMP:20260422T010302Z
DESCRIPTION:5/10 VK Lvi Praha A - Orion Praha A 0:2 (-16\,-24)
DTSTART;TZID=Europe/Berlin:20250405T133000
DTEND;TZID=Europe/Berlin:20250405T153000
LOCATION:ZŠ Dolní Břežany\, Na Vršku 290 Dolní Břežany
SUMMARY:PP-U14Z-7-A: VK Lvi Praha A-Orion Praha A
END:VEVENT
BEGIN:VEVENT
UID:65616561-6630-4663-b965-303338613138
DTSTAMP:20260422T010302Z
DESCRIPTION:1/1 SK Dansport Praha - VK Lvi Praha A 2:1 (-24\,22\,8)
DTSTART;TZID=Europe/Berlin:20250405T093000
DTEND;TZID=Europe/Berlin:20250405T113000
LOCATION:ZŠ Dolní Břežany\, Na Vršku 290 Dolní Břežany
SUMMARY:PP-U14Z-7-A: SK Dansport Praha-VK Lvi Praha A
END:VEVENT
BEGIN:VEVENT
UID:37663435-3161-4134-b866-323538656133
DTSTAMP:20260422T010302Z
DESCRIPTION:4/7 Mikulova A - VK Lvi Praha A 2:0 (10\,14)
DTSTART;TZID=Europe/Berlin:20250405T123000
DTEND;TZID=Europe/Berlin:20250405T143000
LOCATION:ZŠ Dolní Břežany\, Na Vršku 290 Dolní Břežany
SUMMARY:PP-U14Z-7-A: Mikulova A-VK Lvi Praha A
END:VEVENT
END:VCALENDAR
