BEGIN:VCALENDAR
VERSION:2.0
PRODID:-//Volejbal Vršovice87200//NONSGML kigkonsult.se iCalcreator 2.41.80//
CALSCALE:GREGORIAN
UID:65373162-3932-4030-b564-346462626538
BEGIN:VEVENT
UID:66323964-3435-4463-b531-366536613062
DTSTAMP:20260423T011111Z
DESCRIPTION:6/6 Volejbal Vršovice - SK PROSEK B 0:2 (-13\,-16)
DTSTART;TZID=Europe/Berlin:20240907T140000
DTEND;TZID=Europe/Berlin:20240907T160000
LOCATION:, U Meteoru 29 Praha - Libeň
SUMMARY:PP-U18M-1-A: Volejbal Vršovice-SK PROSEK B
END:VEVENT
BEGIN:VEVENT
UID:37313039-6264-4561-b562-383335306230
DTSTAMP:20260423T011111Z
DESCRIPTION:2/2 SK Meteor Praha A - Volejbal Vršovice 2:1 (16\,-20\,12)
DTSTART;TZID=Europe/Berlin:20240907T100000
DTEND;TZID=Europe/Berlin:20240907T120000
LOCATION:, U Meteoru 29 Praha - Libeň
SUMMARY:PP-U18M-1-A: SK Meteor Praha A-Volejbal Vršovice
END:VEVENT
BEGIN:VEVENT
UID:66666639-3833-4835-b361-323736393139
DTSTAMP:20260423T011111Z
DESCRIPTION:3/3 SK Meteor Praha B - Volejbal Vršovice 0:2 (-20\,-23)
DTSTART;TZID=Europe/Berlin:20240907T110000
DTEND;TZID=Europe/Berlin:20240907T130000
LOCATION:, U Meteoru 29 Praha - Libeň
SUMMARY:PP-U18M-1-A: SK Meteor Praha B-Volejbal Vršovice
END:VEVENT
BEGIN:VEVENT
UID:38336565-3866-4665-a264-343335346539
DTSTAMP:20260423T011111Z
DESCRIPTION:6/6 Volejbal Vršovice - SK Meteor Praha A 0:2 (-16\,-12)
DTSTART;TZID=Europe/Berlin:20241005T140000
DTEND;TZID=Europe/Berlin:20241005T160000
LOCATION:Sokol Bubeneč\, Korunovační 630 Praha - Bubeneč
SUMMARY:PP-U18M-2-A: Volejbal Vršovice-SK Meteor Praha A
END:VEVENT
BEGIN:VEVENT
UID:38356662-3234-4236-b639-646466336533
DTSTAMP:20260423T011111Z
DESCRIPTION:2/2 SK PROSEK B - Volejbal Vršovice 2:0 (18\,18)
DTSTART;TZID=Europe/Berlin:20241005T100000
DTEND;TZID=Europe/Berlin:20241005T120000
LOCATION:Sokol Bubeneč\, Korunovační 630 Praha - Bubeneč
SUMMARY:PP-U18M-2-A: SK PROSEK B-Volejbal Vršovice
END:VEVENT
BEGIN:VEVENT
UID:66323262-6231-4636-a231-616162646265
DTSTAMP:20260423T011111Z
DESCRIPTION:3/3 SK Meteor Praha B - Volejbal Vršovice 2:1 (-19\,18\,11)
DTSTART;TZID=Europe/Berlin:20241005T110000
DTEND;TZID=Europe/Berlin:20241005T130000
LOCATION:Sokol Bubeneč\, Korunovační 630 Praha - Bubeneč
SUMMARY:PP-U18M-2-A: SK Meteor Praha B-Volejbal Vršovice
END:VEVENT
BEGIN:VEVENT
UID:34666436-3464-4433-b035-396563323734
DTSTAMP:20260423T011111Z
DESCRIPTION:3/3 Volejbal Vršovice - SK Meteor Praha B 0:2 (-15\,-20)
DTSTART;TZID=Europe/Berlin:20241116T100000
DTEND;TZID=Europe/Berlin:20241116T120000
LOCATION:Sokol Bubeneč\, Korunovační 630 Praha - Bubeneč
SUMMARY:PP-U18M-3-A: Volejbal Vršovice-SK Meteor Praha B
END:VEVENT
BEGIN:VEVENT
UID:34363161-3733-4366-a236-333861633765
DTSTAMP:20260423T011111Z
DESCRIPTION:1/1 SK Meteor Praha A - Volejbal Vršovice 2:0 (20\,13)
DTSTART;TZID=Europe/Berlin:20241116T090000
DTEND;TZID=Europe/Berlin:20241116T110000
LOCATION:Sokol Bubeneč\, Korunovační 630 Praha - Bubeneč
SUMMARY:PP-U18M-3-A: SK Meteor Praha A-Volejbal Vršovice
END:VEVENT
BEGIN:VEVENT
UID:66373165-3264-4237-a135-393038303231
DTSTAMP:20260423T011111Z
DESCRIPTION:5/5 SK PROSEK B - Volejbal Vršovice 2:0 (21\,13)
DTSTART;TZID=Europe/Berlin:20241116T110000
DTEND;TZID=Europe/Berlin:20241116T130000
LOCATION:Sokol Bubeneč\, Korunovační 630 Praha - Bubeneč
SUMMARY:PP-U18M-3-A: SK PROSEK B-Volejbal Vršovice
END:VEVENT
BEGIN:VEVENT
UID:63343134-6362-4461-a163-326334613364
DTSTAMP:20260423T011111Z
DESCRIPTION:3/3 Volejbal Vršovice - SK Meteor Praha B 1:2 (16\,-20\,-9)
DTSTART;TZID=Europe/Berlin:20241221T100000
DTEND;TZID=Europe/Berlin:20241221T120000
LOCATION:Sokol Bubeneč\, Korunovační 630 Praha - Bubeneč
SUMMARY:PP-U18M-4-A: Volejbal Vršovice-SK Meteor Praha B
END:VEVENT
BEGIN:VEVENT
UID:34313235-3930-4837-b332-343136336538
DTSTAMP:20260423T011111Z
DESCRIPTION:1/1 SK Meteor Praha A - Volejbal Vršovice 2:0 (18\,23)
DTSTART;TZID=Europe/Berlin:20241221T090000
DTEND;TZID=Europe/Berlin:20241221T110000
LOCATION:Sokol Bubeneč\, Korunovační 630 Praha - Bubeneč
SUMMARY:PP-U18M-4-A: SK Meteor Praha A-Volejbal Vršovice
END:VEVENT
BEGIN:VEVENT
UID:31663366-3130-4634-a564-373831363835
DTSTAMP:20260423T011111Z
DESCRIPTION:5/5 SK PROSEK B - Volejbal Vršovice 2:0 (8\,24)
DTSTART;TZID=Europe/Berlin:20241221T110000
DTEND;TZID=Europe/Berlin:20241221T130000
LOCATION:Sokol Bubeneč\, Korunovační 630 Praha - Bubeneč
SUMMARY:PP-U18M-4-A: SK PROSEK B-Volejbal Vršovice
END:VEVENT
BEGIN:VEVENT
UID:64373764-3732-4435-b435-376432396231
DTSTAMP:20260423T011111Z
DESCRIPTION:3/3 Volejbal Vršovice - SK Meteor Praha B 2:0 (21\,24)
DTSTART;TZID=Europe/Berlin:20250125T100000
DTEND;TZID=Europe/Berlin:20250125T120000
LOCATION:Sokol Bubeneč\, Korunovační 630 Praha - Bubeneč
SUMMARY:PP-U18M-5-A: Volejbal Vršovice-SK Meteor Praha B
END:VEVENT
BEGIN:VEVENT
UID:33363432-6139-4638-b138-636365616634
DTSTAMP:20260423T011111Z
DESCRIPTION:1/1 SK PROSEK B - Volejbal Vršovice 2:0 (11\,19)
DTSTART;TZID=Europe/Berlin:20250125T090000
DTEND;TZID=Europe/Berlin:20250125T110000
LOCATION:Sokol Bubeneč\, Korunovační 630 Praha - Bubeneč
SUMMARY:PP-U18M-5-A: SK PROSEK B-Volejbal Vršovice
END:VEVENT
BEGIN:VEVENT
UID:34623366-3661-4330-b562-613639316136
DTSTAMP:20260423T011111Z
DESCRIPTION:5/5 SK Meteor Praha A - Volejbal Vršovice 2:1 (18\,-23\,8)
DTSTART;TZID=Europe/Berlin:20250125T110000
DTEND;TZID=Europe/Berlin:20250125T130000
LOCATION:Sokol Bubeneč\, Korunovační 630 Praha - Bubeneč
SUMMARY:PP-U18M-5-A: SK Meteor Praha A-Volejbal Vršovice
END:VEVENT
BEGIN:VEVENT
UID:35356564-3165-4830-a664-643663363966
DTSTAMP:20260423T011111Z
DESCRIPTION:6/6 Volejbal Vršovice - SK PROSEK B 0:2 (-22\,-12)
DTSTART;TZID=Europe/Berlin:20250315T110000
DTEND;TZID=Europe/Berlin:20250315T130000
LOCATION:Sokol Bubeneč\, Korunovační 630 Praha - Bubeneč
SUMMARY:PP-U18M-6-A: Volejbal Vršovice-SK PROSEK B
END:VEVENT
BEGIN:VEVENT
UID:64616332-3965-4532-a135-333262383538
DTSTAMP:20260423T011111Z
DESCRIPTION:2/2 SK Meteor Praha A - Volejbal Vršovice 2:0 (12\,23)
DTSTART;TZID=Europe/Berlin:20250315T090000
DTEND;TZID=Europe/Berlin:20250315T110000
LOCATION:Sokol Bubeneč\, Korunovační 630 Praha - Bubeneč
SUMMARY:PP-U18M-6-A: SK Meteor Praha A-Volejbal Vršovice
END:VEVENT
BEGIN:VEVENT
UID:36653638-3363-4538-a439-363861383030
DTSTAMP:20260423T011111Z
DESCRIPTION:3/3 SK Meteor Praha B - Volejbal Vršovice 2:1 (22\,-16\,11)
DTSTART;TZID=Europe/Berlin:20250315T100000
DTEND;TZID=Europe/Berlin:20250315T120000
LOCATION:Sokol Bubeneč\, Korunovační 630 Praha - Bubeneč
SUMMARY:PP-U18M-6-A: SK Meteor Praha B-Volejbal Vršovice
END:VEVENT
END:VCALENDAR
