BEGIN:VCALENDAR
VERSION:2.0
PRODID:-//SK PROSEK B87205//NONSGML kigkonsult.se iCalcreator 2.41.80//
CALSCALE:GREGORIAN
UID:62383436-3161-4262-a639-353530633335
BEGIN:VEVENT
UID:39636431-3537-4734-b332-373939303162
DTSTAMP:20260422T093623Z
DESCRIPTION:4/4 SK PROSEK B - Volejbal Vršovice 2:0 (11\,21)
DTSTART;TZID=Europe/Berlin:20240908T110000
DTEND;TZID=Europe/Berlin:20240908T130000
LOCATION:, U Meteoru 29 Praha - Libeň
SUMMARY:PP-U16M-Q-B: SK PROSEK B-Volejbal Vršovice
END:VEVENT
BEGIN:VEVENT
UID:65353564-3433-4139-b134-303637356364
DTSTAMP:20260422T093623Z
DESCRIPTION:6/6 SK PROSEK B - SK Meteor Praha B 2:0 (4\,5)
DTSTART;TZID=Europe/Berlin:20240908T120000
DTEND;TZID=Europe/Berlin:20240908T140000
LOCATION:, U Meteoru 29 Praha - Libeň
SUMMARY:PP-U16M-Q-B: SK PROSEK B-SK Meteor Praha B
END:VEVENT
BEGIN:VEVENT
UID:35353932-3466-4535-a338-633337633133
DTSTAMP:20260422T093623Z
DESCRIPTION:1/1 Prosek A - SK PROSEK B 2:0 (12\,13)
DTSTART;TZID=Europe/Berlin:20240908T090000
DTEND;TZID=Europe/Berlin:20240908T110000
LOCATION:, U Meteoru 29 Praha - Libeň
SUMMARY:PP-U16M-Q-B: Prosek A-SK PROSEK B
END:VEVENT
BEGIN:VEVENT
UID:33666138-6566-4632-b862-303933303665
DTSTAMP:20260422T093623Z
DESCRIPTION:2/4 SK PROSEK B - TJ ABC Braník\, z.s. 2:0 (16\,16)
DTSTART;TZID=Europe/Berlin:20240908T150000
DTEND;TZID=Europe/Berlin:20240908T170000
LOCATION:, U Meteoru 29 Praha - Libeň
SUMMARY:PP-U16M-Q-D: SK PROSEK B-TJ ABC Braník\, z.s.
END:VEVENT
BEGIN:VEVENT
UID:32383466-6434-4639-b133-643233306633
DTSTAMP:20260422T093623Z
DESCRIPTION:3/6 SK PROSEK B - SK Meteor Praha A 2:0 (11\,24)
DTSTART;TZID=Europe/Berlin:20240908T140000
DTEND;TZID=Europe/Berlin:20240908T160000
LOCATION:, U Meteoru 29 Praha - Libeň
SUMMARY:PP-U16M-Q-D: SK PROSEK B-SK Meteor Praha A
END:VEVENT
BEGIN:VEVENT
UID:66663638-3834-4765-b231-656630323934
DTSTAMP:20260422T093623Z
DESCRIPTION:1/1 SK Dansport Praha - SK PROSEK B 0:2 (-12\,-16)
DTSTART;TZID=Europe/Berlin:20240908T140000
DTEND;TZID=Europe/Berlin:20240908T160000
LOCATION:, U Meteoru 29 Praha - Libeň
SUMMARY:PP-U16M-Q-D: SK Dansport Praha-SK PROSEK B
END:VEVENT
BEGIN:VEVENT
UID:35373565-3134-4536-b465-323963613261
DTSTAMP:20260422T093623Z
DESCRIPTION:1/2 SK PROSEK B - Orion A 2:1 (21\,-17\,10)
DTSTART;TZID=Europe/Berlin:20241006T090000
DTEND;TZID=Europe/Berlin:20241006T110000
LOCATION:FZŠ Brdičkova\, Brdičkova 1878 Praha - Stodůlky
SUMMARY:PP-U16M-T1-1: SK PROSEK B-Orion A
END:VEVENT
BEGIN:VEVENT
UID:61366232-6131-4738-a637-663164613436
DTSTAMP:20260422T093623Z
DESCRIPTION:4/8 SK PROSEK B - Prosek A 0:2 (-15\,-10)
DTSTART;TZID=Europe/Berlin:20241006T120000
DTEND;TZID=Europe/Berlin:20241006T140000
LOCATION:FZŠ Brdičkova\, Brdičkova 1878 Praha - Stodůlky
SUMMARY:PP-U16M-T1-1: SK PROSEK B-Prosek A
END:VEVENT
BEGIN:VEVENT
UID:64613939-3337-4436-b936-383536323039
DTSTAMP:20260422T093623Z
DESCRIPTION:2/4 VK Lvi Praha A - SK PROSEK B 2:0 (14\,15)
DTSTART;TZID=Europe/Berlin:20241006T100000
DTEND;TZID=Europe/Berlin:20241006T120000
LOCATION:FZŠ Brdičkova\, Brdičkova 1878 Praha - Stodůlky
SUMMARY:PP-U16M-T1-1: VK Lvi Praha A-SK PROSEK B
END:VEVENT
BEGIN:VEVENT
UID:34666531-3935-4339-b066-636533323035
DTSTAMP:20260422T093623Z
DESCRIPTION:3/5 SK Dansport Praha - SK PROSEK B 2:0 (28\,8)
DTSTART;TZID=Europe/Berlin:20241006T110000
DTEND;TZID=Europe/Berlin:20241006T130000
LOCATION:FZŠ Brdičkova\, Brdičkova 1878 Praha - Stodůlky
SUMMARY:PP-U16M-T1-1: SK Dansport Praha-SK PROSEK B
END:VEVENT
BEGIN:VEVENT
UID:66366564-3434-4537-a365-626634383732
DTSTAMP:20260422T093623Z
DESCRIPTION:4/4 SK PROSEK B - SK Meteor Praha A 2:0 (18\,22)
DTSTART;TZID=Europe/Berlin:20241117T120000
DTEND;TZID=Europe/Berlin:20241117T140000
LOCATION:Sokol Bubeneč\, Korunovační 630 Praha - Bubeneč
SUMMARY:PP-U16M-T2-2: SK PROSEK B-SK Meteor Praha A
END:VEVENT
BEGIN:VEVENT
UID:32303563-3735-4232-a463-646164306166
DTSTAMP:20260422T093623Z
DESCRIPTION:5/5 SK PROSEK B - VK Lvi Praha B 2:0 (12\,20)
DTSTART;TZID=Europe/Berlin:20241117T130000
DTEND;TZID=Europe/Berlin:20241117T150000
LOCATION:Sokol Bubeneč\, Korunovační 630 Praha - Bubeneč
SUMMARY:PP-U16M-T2-2: SK PROSEK B-VK Lvi Praha B
END:VEVENT
BEGIN:VEVENT
UID:62326461-6135-4566-b835-323163333334
DTSTAMP:20260422T093623Z
DESCRIPTION:2/2 BVŠP - SK PROSEK B 0:2 (-21\,-19)
DTSTART;TZID=Europe/Berlin:20241117T100000
DTEND;TZID=Europe/Berlin:20241117T120000
LOCATION:Sokol Bubeneč\, Korunovační 630 Praha - Bubeneč
SUMMARY:PP-U16M-T2-2: BVŠP-SK PROSEK B
END:VEVENT
BEGIN:VEVENT
UID:35313733-6530-4462-b039-373535643966
DTSTAMP:20260422T093623Z
DESCRIPTION:1/2 SK PROSEK B - TJ ABC Braník\, z.s. 1:2 (-16\,16\,-5)
DTSTART;TZID=Europe/Berlin:20241215T090000
DTEND;TZID=Europe/Berlin:20241215T110000
LOCATION:FZŠ Brdičkova\, Brdičkova 1878 Praha - Stodůlky
SUMMARY:PP-U16M-T3-1: SK PROSEK B-TJ ABC Braník\, z.s.
END:VEVENT
BEGIN:VEVENT
UID:34396463-6661-4161-b332-396536363666
DTSTAMP:20260422T093623Z
DESCRIPTION:4/8 SK PROSEK B - Prosek A 1:2 (-13\,26\,-8)
DTSTART;TZID=Europe/Berlin:20241215T120000
DTEND;TZID=Europe/Berlin:20241215T140000
LOCATION:FZŠ Brdičkova\, Brdičkova 1878 Praha - Stodůlky
SUMMARY:PP-U16M-T3-1: SK PROSEK B-Prosek A
END:VEVENT
BEGIN:VEVENT
UID:66386466-3962-4139-b466-303530323463
DTSTAMP:20260422T093623Z
DESCRIPTION:2/4 VK Lvi Praha A - SK PROSEK B 2:0 (13\,20)
DTSTART;TZID=Europe/Berlin:20241215T100000
DTEND;TZID=Europe/Berlin:20241215T120000
LOCATION:FZŠ Brdičkova\, Brdičkova 1878 Praha - Stodůlky
SUMMARY:PP-U16M-T3-1: VK Lvi Praha A-SK PROSEK B
END:VEVENT
BEGIN:VEVENT
UID:34353834-6263-4837-a334-626531353939
DTSTAMP:20260422T093623Z
DESCRIPTION:3/5 Orion A - SK PROSEK B 2:0 (20\,15)
DTSTART;TZID=Europe/Berlin:20241215T110000
DTEND;TZID=Europe/Berlin:20241215T130000
LOCATION:FZŠ Brdičkova\, Brdičkova 1878 Praha - Stodůlky
SUMMARY:PP-U16M-T3-1: Orion A-SK PROSEK B
END:VEVENT
BEGIN:VEVENT
UID:65363736-6466-4137-a261-363362303536
DTSTAMP:20260422T093623Z
DESCRIPTION:4/4 SK PROSEK B - SK Meteor Praha A 2:0 (23\,12)
DTSTART;TZID=Europe/Berlin:20250126T120000
DTEND;TZID=Europe/Berlin:20250126T140000
LOCATION:Sokol Bubeneč\, Korunovační 630 Praha - Bubeneč
SUMMARY:PP-U16M-T4-2: SK PROSEK B-SK Meteor Praha A
END:VEVENT
BEGIN:VEVENT
UID:61613565-3835-4636-a337-663738636436
DTSTAMP:20260422T093623Z
DESCRIPTION:5/5 SK PROSEK B - SK PROSEK C 2:0 (12\,10)
DTSTART;TZID=Europe/Berlin:20250126T130000
DTEND;TZID=Europe/Berlin:20250126T150000
LOCATION:Sokol Bubeneč\, Korunovační 630 Praha - Bubeneč
SUMMARY:PP-U16M-T4-2: SK PROSEK B-SK PROSEK C
END:VEVENT
BEGIN:VEVENT
UID:38303436-3438-4539-b539-316332366165
DTSTAMP:20260422T093623Z
DESCRIPTION:2/2 BVŠP - SK PROSEK B 0:2 (-18\,-18)
DTSTART;TZID=Europe/Berlin:20250126T100000
DTEND;TZID=Europe/Berlin:20250126T120000
LOCATION:Sokol Bubeneč\, Korunovační 630 Praha - Bubeneč
SUMMARY:PP-U16M-T4-2: BVŠP-SK PROSEK B
END:VEVENT
BEGIN:VEVENT
UID:31333338-3266-4734-b335-386433663334
DTSTAMP:20260422T093623Z
DESCRIPTION:1/2 SK PROSEK B - SK Dansport Praha 0:2 (-23\,-13)
DTSTART;TZID=Europe/Berlin:20250316T090000
DTEND;TZID=Europe/Berlin:20250316T110000
LOCATION:FZŠ Brdičkova\, Brdičkova 1878 Praha - Stodůlky
SUMMARY:PP-U16M-T5-1: SK PROSEK B-SK Dansport Praha
END:VEVENT
BEGIN:VEVENT
UID:66323265-3730-4632-b932-396466373632
DTSTAMP:20260422T093623Z
DESCRIPTION:4/8 SK PROSEK B - Prosek A 0:2 (-13\,-15)
DTSTART;TZID=Europe/Berlin:20250316T120000
DTEND;TZID=Europe/Berlin:20250316T140000
LOCATION:FZŠ Brdičkova\, Brdičkova 1878 Praha - Stodůlky
SUMMARY:PP-U16M-T5-1: SK PROSEK B-Prosek A
END:VEVENT
BEGIN:VEVENT
UID:33663831-3939-4337-b761-313364613561
DTSTAMP:20260422T093623Z
DESCRIPTION:2/4 VK Lvi Praha A - SK PROSEK B 2:0 (10\,13)
DTSTART;TZID=Europe/Berlin:20250316T100000
DTEND;TZID=Europe/Berlin:20250316T120000
LOCATION:FZŠ Brdičkova\, Brdičkova 1878 Praha - Stodůlky
SUMMARY:PP-U16M-T5-1: VK Lvi Praha A-SK PROSEK B
END:VEVENT
BEGIN:VEVENT
UID:34333661-3565-4130-b939-613365353638
DTSTAMP:20260422T093623Z
DESCRIPTION:3/5 Orion A - SK PROSEK B 2:0 (21\,20)
DTSTART;TZID=Europe/Berlin:20250316T110000
DTEND;TZID=Europe/Berlin:20250316T130000
LOCATION:FZŠ Brdičkova\, Brdičkova 1878 Praha - Stodůlky
SUMMARY:PP-U16M-T5-1: Orion A-SK PROSEK B
END:VEVENT
END:VCALENDAR
