BEGIN:VCALENDAR
VERSION:2.0
PRODID:-//TJ Orion Praha B87210//NONSGML kigkonsult.se iCalcreator 2.41.80//
CALSCALE:GREGORIAN
UID:63323562-6134-4066-b634-663430623839
BEGIN:VEVENT
UID:39353230-3664-4732-b633-623137303137
DTSTAMP:20260422T213338Z
DESCRIPTION:2/2 SK Meteor Praha A - Orion B 2:0 (7\,12)
DTSTART;TZID=Europe/Berlin:20240908T100000
DTEND;TZID=Europe/Berlin:20240908T120000
LOCATION:, U Meteoru 29 Praha - Libeň
SUMMARY:PP-U16M-Q-C: SK Meteor Praha A-Orion B
END:VEVENT
BEGIN:VEVENT
UID:33643436-3936-4639-a433-653034396231
DTSTAMP:20260422T213338Z
DESCRIPTION:4/4 SK PROSEK C - Orion B 2:0 (13\,10)
DTSTART;TZID=Europe/Berlin:20240908T110000
DTEND;TZID=Europe/Berlin:20240908T130000
LOCATION:, U Meteoru 29 Praha - Libeň
SUMMARY:PP-U16M-Q-C: SK PROSEK C-Orion B
END:VEVENT
BEGIN:VEVENT
UID:30316235-3666-4738-b538-343937633663
DTSTAMP:20260422T213338Z
DESCRIPTION:5/5 Orion A - Orion B 2:0 (16\,8)
DTSTART;TZID=Europe/Berlin:20240908T120000
DTEND;TZID=Europe/Berlin:20240908T140000
LOCATION:, U Meteoru 29 Praha - Libeň
SUMMARY:PP-U16M-Q-C: Orion A-Orion B
END:VEVENT
BEGIN:VEVENT
UID:36613534-3437-4565-b362-323930333234
DTSTAMP:20260422T213338Z
DESCRIPTION:6/6 Orion B - VK Lvi Praha B 0:2 (-14\,-18)
DTSTART;TZID=Europe/Berlin:20241006T140000
DTEND;TZID=Europe/Berlin:20241006T160000
LOCATION:Sokol Bubeneč\, Korunovační 630 Praha - Bubeneč
SUMMARY:PP-U16M-T1-3: Orion B-VK Lvi Praha B
END:VEVENT
BEGIN:VEVENT
UID:36643262-3837-4831-a136-316166656366
DTSTAMP:20260422T213338Z
DESCRIPTION:1/1 SK Meteor Praha B - Orion B 0:2 (-13\,-17)
DTSTART;TZID=Europe/Berlin:20241006T090000
DTEND;TZID=Europe/Berlin:20241006T110000
LOCATION:Sokol Bubeneč\, Korunovační 630 Praha - Bubeneč
SUMMARY:PP-U16M-T1-3: SK Meteor Praha B-Orion B
END:VEVENT
BEGIN:VEVENT
UID:64366339-3131-4930-b238-363039653630
DTSTAMP:20260422T213338Z
DESCRIPTION:4/4 SK PROSEK C - Orion B 1:2 (14\,-16\,-11)
DTSTART;TZID=Europe/Berlin:20241006T120000
DTEND;TZID=Europe/Berlin:20241006T140000
LOCATION:Sokol Bubeneč\, Korunovační 630 Praha - Bubeneč
SUMMARY:PP-U16M-T1-3: SK PROSEK C-Orion B
END:VEVENT
BEGIN:VEVENT
UID:38376139-3163-4365-a465-623561316132
DTSTAMP:20260422T213338Z
DESCRIPTION:6/6 Orion B - SK Meteor Praha B 2:1 (-20\,23\,13)
DTSTART;TZID=Europe/Berlin:20241117T140000
DTEND;TZID=Europe/Berlin:20241117T160000
LOCATION:Sokol Bubeneč\, Korunovační 630 Praha - Bubeneč
SUMMARY:PP-U16M-T2-3: Orion B-SK Meteor Praha B
END:VEVENT
BEGIN:VEVENT
UID:34666634-6532-4638-b938-386237363532
DTSTAMP:20260422T213338Z
DESCRIPTION:1/1 Volejbal Vršovice - Orion B 2:0 (11\,17)
DTSTART;TZID=Europe/Berlin:20241117T090000
DTEND;TZID=Europe/Berlin:20241117T110000
LOCATION:Sokol Bubeneč\, Korunovační 630 Praha - Bubeneč
SUMMARY:PP-U16M-T2-3: Volejbal Vršovice-Orion B
END:VEVENT
BEGIN:VEVENT
UID:63616331-6630-4362-b037-653530323036
DTSTAMP:20260422T213338Z
DESCRIPTION:4/4 SK PROSEK C - Orion B 1:2 (-23\,21\,-11)
DTSTART;TZID=Europe/Berlin:20241117T120000
DTEND;TZID=Europe/Berlin:20241117T140000
LOCATION:Sokol Bubeneč\, Korunovační 630 Praha - Bubeneč
SUMMARY:PP-U16M-T2-3: SK PROSEK C-Orion B
END:VEVENT
BEGIN:VEVENT
UID:32353534-3838-4530-b036-396162306166
DTSTAMP:20260422T213338Z
DESCRIPTION:6/6 Orion B - SK Meteor Praha B 0:1 (-0)
DTSTART;TZID=Europe/Berlin:20241215T140000
DTEND;TZID=Europe/Berlin:20241215T160000
LOCATION:Sokol Bubeneč\, Korunovační 630 Praha - Bubeneč
SUMMARY:PP-U16M-T3-3: Orion B-SK Meteor Praha B
END:VEVENT
BEGIN:VEVENT
UID:32306239-3033-4266-a139-633830346437
DTSTAMP:20260422T213338Z
DESCRIPTION:1/1 VK Lvi Praha B - Orion B 1:0 (0)
DTSTART;TZID=Europe/Berlin:20241215T090000
DTEND;TZID=Europe/Berlin:20241215T110000
LOCATION:Sokol Bubeneč\, Korunovační 630 Praha - Bubeneč
SUMMARY:PP-U16M-T3-3: VK Lvi Praha B-Orion B
END:VEVENT
BEGIN:VEVENT
UID:33346534-6265-4265-b139-636466313432
DTSTAMP:20260422T213338Z
DESCRIPTION:4/4 SK PROSEK C - Orion B 0:0 ()
DTSTART;TZID=Europe/Berlin:20241215T120000
DTEND;TZID=Europe/Berlin:20241215T140000
LOCATION:Sokol Bubeneč\, Korunovační 630 Praha - Bubeneč
SUMMARY:PP-U16M-T3-3: SK PROSEK C-Orion B
END:VEVENT
BEGIN:VEVENT
UID:30643762-6230-4763-b738-663732633739
DTSTAMP:20260422T213338Z
DESCRIPTION:6/6 Orion B - SK Meteor Praha B 2:1 (21\,-17\,10)
DTSTART;TZID=Europe/Berlin:20250126T140000
DTEND;TZID=Europe/Berlin:20250126T160000
LOCATION:Sokol Bubeneč\, Korunovační 630 Praha - Bubeneč
SUMMARY:PP-U16M-T4-3: Orion B-SK Meteor Praha B
END:VEVENT
BEGIN:VEVENT
UID:31353039-3935-4331-b230-343866396565
DTSTAMP:20260422T213338Z
DESCRIPTION:1/1 VK Lvi Praha B - Orion B 2:0 (12\,21)
DTSTART;TZID=Europe/Berlin:20250126T090000
DTEND;TZID=Europe/Berlin:20250126T110000
LOCATION:Sokol Bubeneč\, Korunovační 630 Praha - Bubeneč
SUMMARY:PP-U16M-T4-3: VK Lvi Praha B-Orion B
END:VEVENT
BEGIN:VEVENT
UID:39343230-3364-4633-a232-363037393463
DTSTAMP:20260422T213338Z
DESCRIPTION:4/4 Volejbal Vršovice - Orion B 2:0 (12\,20)
DTSTART;TZID=Europe/Berlin:20250126T120000
DTEND;TZID=Europe/Berlin:20250126T140000
LOCATION:Sokol Bubeneč\, Korunovační 630 Praha - Bubeneč
SUMMARY:PP-U16M-T4-3: Volejbal Vršovice-Orion B
END:VEVENT
BEGIN:VEVENT
UID:39306462-3933-4435-b564-363331316638
DTSTAMP:20260422T213338Z
DESCRIPTION:6/6 Orion B - SK Meteor Praha B 1:2 (17\,-18\,-10)
DTSTART;TZID=Europe/Berlin:20250316T140000
DTEND;TZID=Europe/Berlin:20250316T160000
LOCATION:Sokol Bubeneč\, Korunovační 630 Praha - Bubeneč
SUMMARY:PP-U16M-T5-3: Orion B-SK Meteor Praha B
END:VEVENT
BEGIN:VEVENT
UID:37366430-3539-4439-b634-323761353966
DTSTAMP:20260422T213338Z
DESCRIPTION:1/1 VK Lvi Praha B - Orion B 2:0 (14\,15)
DTSTART;TZID=Europe/Berlin:20250316T090000
DTEND;TZID=Europe/Berlin:20250316T110000
LOCATION:Sokol Bubeneč\, Korunovační 630 Praha - Bubeneč
SUMMARY:PP-U16M-T5-3: VK Lvi Praha B-Orion B
END:VEVENT
BEGIN:VEVENT
UID:66323565-3265-4335-b738-346561393334
DTSTAMP:20260422T213338Z
DESCRIPTION:4/4 SK PROSEK C - Orion B 2:0 (12\,10)
DTSTART;TZID=Europe/Berlin:20250316T120000
DTEND;TZID=Europe/Berlin:20250316T140000
LOCATION:Sokol Bubeneč\, Korunovační 630 Praha - Bubeneč
SUMMARY:PP-U16M-T5-3: SK PROSEK C-Orion B
END:VEVENT
END:VCALENDAR
