BEGIN:VCALENDAR
VERSION:2.0
PRODID:-//Meteor Praha B87214//NONSGML kigkonsult.se iCalcreator 2.41.80//
CALSCALE:GREGORIAN
UID:65343031-6337-4335-a334-326338316236
BEGIN:VEVENT
UID:36373762-6535-4263-b931-633132663534
DTSTAMP:20260421T223055Z
DESCRIPTION:2/2 Volejbal Vršovice - SK Meteor Praha B 2:0 (11\,10)
DTSTART;TZID=Europe/Berlin:20240908T090000
DTEND;TZID=Europe/Berlin:20240908T110000
LOCATION:, U Meteoru 29 Praha - Libeň
SUMMARY:PP-U16M-Q-B: Volejbal Vršovice-SK Meteor Praha B
END:VEVENT
BEGIN:VEVENT
UID:63663662-6433-4362-a362-613039326465
DTSTAMP:20260421T223055Z
DESCRIPTION:5/5 Prosek A - SK Meteor Praha B 2:0 (9\,2)
DTSTART;TZID=Europe/Berlin:20240908T110000
DTEND;TZID=Europe/Berlin:20240908T130000
LOCATION:, U Meteoru 29 Praha - Libeň
SUMMARY:PP-U16M-Q-B: Prosek A-SK Meteor Praha B
END:VEVENT
BEGIN:VEVENT
UID:31663237-3063-4531-b764-333732313565
DTSTAMP:20260421T223055Z
DESCRIPTION:6/6 SK PROSEK B - SK Meteor Praha B 2:0 (4\,5)
DTSTART;TZID=Europe/Berlin:20240908T120000
DTEND;TZID=Europe/Berlin:20240908T140000
LOCATION:, U Meteoru 29 Praha - Libeň
SUMMARY:PP-U16M-Q-B: SK PROSEK B-SK Meteor Praha B
END:VEVENT
BEGIN:VEVENT
UID:37363261-3064-4866-b064-353238396438
DTSTAMP:20260421T223055Z
DESCRIPTION:1/1 SK Meteor Praha B - Orion B 0:2 (-13\,-17)
DTSTART;TZID=Europe/Berlin:20241006T090000
DTEND;TZID=Europe/Berlin:20241006T110000
LOCATION:Sokol Bubeneč\, Korunovační 630 Praha - Bubeneč
SUMMARY:PP-U16M-T1-3: SK Meteor Praha B-Orion B
END:VEVENT
BEGIN:VEVENT
UID:33306333-6237-4837-a633-656565633336
DTSTAMP:20260421T223055Z
DESCRIPTION:3/3 VK Lvi Praha B - SK Meteor Praha B 2:0 (11\,19)
DTSTART;TZID=Europe/Berlin:20241006T110000
DTEND;TZID=Europe/Berlin:20241006T130000
LOCATION:Sokol Bubeneč\, Korunovační 630 Praha - Bubeneč
SUMMARY:PP-U16M-T1-3: VK Lvi Praha B-SK Meteor Praha B
END:VEVENT
BEGIN:VEVENT
UID:65653935-3136-4266-a138-643366303462
DTSTAMP:20260421T223055Z
DESCRIPTION:5/5 SK PROSEK C - SK Meteor Praha B 2:0 (23\,14)
DTSTART;TZID=Europe/Berlin:20241006T130000
DTEND;TZID=Europe/Berlin:20241006T150000
LOCATION:Sokol Bubeneč\, Korunovační 630 Praha - Bubeneč
SUMMARY:PP-U16M-T1-3: SK PROSEK C-SK Meteor Praha B
END:VEVENT
BEGIN:VEVENT
UID:36373537-3764-4338-b739-613730333666
DTSTAMP:20260421T223055Z
DESCRIPTION:2/2 SK Meteor Praha B - SK PROSEK C 0:2 (-10\,-13)
DTSTART;TZID=Europe/Berlin:20241117T100000
DTEND;TZID=Europe/Berlin:20241117T120000
LOCATION:Sokol Bubeneč\, Korunovační 630 Praha - Bubeneč
SUMMARY:PP-U16M-T2-3: SK Meteor Praha B-SK PROSEK C
END:VEVENT
BEGIN:VEVENT
UID:66336166-6466-4166-b034-613735653964
DTSTAMP:20260421T223055Z
DESCRIPTION:3/3 SK Meteor Praha B - Volejbal Vršovice 0:2 (-9\,-13)
DTSTART;TZID=Europe/Berlin:20241117T110000
DTEND;TZID=Europe/Berlin:20241117T130000
LOCATION:Sokol Bubeneč\, Korunovační 630 Praha - Bubeneč
SUMMARY:PP-U16M-T2-3: SK Meteor Praha B-Volejbal Vršovice
END:VEVENT
BEGIN:VEVENT
UID:36393966-6534-4039-b739-653136336631
DTSTAMP:20260421T223055Z
DESCRIPTION:6/6 Orion B - SK Meteor Praha B 2:1 (-20\,23\,13)
DTSTART;TZID=Europe/Berlin:20241117T140000
DTEND;TZID=Europe/Berlin:20241117T160000
LOCATION:Sokol Bubeneč\, Korunovační 630 Praha - Bubeneč
SUMMARY:PP-U16M-T2-3: Orion B-SK Meteor Praha B
END:VEVENT
BEGIN:VEVENT
UID:34356134-6239-4265-a234-636335363733
DTSTAMP:20260421T223055Z
DESCRIPTION:2/2 SK Meteor Praha B - SK PROSEK C 0:2 (-23\,-16)
DTSTART;TZID=Europe/Berlin:20241215T100000
DTEND;TZID=Europe/Berlin:20241215T120000
LOCATION:Sokol Bubeneč\, Korunovační 630 Praha - Bubeneč
SUMMARY:PP-U16M-T3-3: SK Meteor Praha B-SK PROSEK C
END:VEVENT
BEGIN:VEVENT
UID:32396665-6465-4165-a335-616335353465
DTSTAMP:20260421T223055Z
DESCRIPTION:3/3 SK Meteor Praha B - VK Lvi Praha B 0:2 (-16\,-14)
DTSTART;TZID=Europe/Berlin:20241215T110000
DTEND;TZID=Europe/Berlin:20241215T130000
LOCATION:Sokol Bubeneč\, Korunovační 630 Praha - Bubeneč
SUMMARY:PP-U16M-T3-3: SK Meteor Praha B-VK Lvi Praha B
END:VEVENT
BEGIN:VEVENT
UID:30363564-3761-4435-b231-376633643864
DTSTAMP:20260421T223055Z
DESCRIPTION:6/6 Orion B - SK Meteor Praha B 0:1 (-0)
DTSTART;TZID=Europe/Berlin:20241215T140000
DTEND;TZID=Europe/Berlin:20241215T160000
LOCATION:Sokol Bubeneč\, Korunovační 630 Praha - Bubeneč
SUMMARY:PP-U16M-T3-3: Orion B-SK Meteor Praha B
END:VEVENT
BEGIN:VEVENT
UID:37333134-3965-4836-b336-393538396363
DTSTAMP:20260421T223055Z
DESCRIPTION:2/2 SK Meteor Praha B - Volejbal Vršovice 0:2 (-23\,-17)
DTSTART;TZID=Europe/Berlin:20250126T100000
DTEND;TZID=Europe/Berlin:20250126T120000
LOCATION:Sokol Bubeneč\, Korunovační 630 Praha - Bubeneč
SUMMARY:PP-U16M-T4-3: SK Meteor Praha B-Volejbal Vršovice
END:VEVENT
BEGIN:VEVENT
UID:39363234-3430-4262-a666-623435316431
DTSTAMP:20260421T223055Z
DESCRIPTION:3/3 SK Meteor Praha B - VK Lvi Praha B 0:2 (-16\,-20)
DTSTART;TZID=Europe/Berlin:20250126T110000
DTEND;TZID=Europe/Berlin:20250126T130000
LOCATION:Sokol Bubeneč\, Korunovační 630 Praha - Bubeneč
SUMMARY:PP-U16M-T4-3: SK Meteor Praha B-VK Lvi Praha B
END:VEVENT
BEGIN:VEVENT
UID:36653038-6666-4735-b664-376436333864
DTSTAMP:20260421T223055Z
DESCRIPTION:6/6 Orion B - SK Meteor Praha B 2:1 (21\,-17\,10)
DTSTART;TZID=Europe/Berlin:20250126T140000
DTEND;TZID=Europe/Berlin:20250126T160000
LOCATION:Sokol Bubeneč\, Korunovační 630 Praha - Bubeneč
SUMMARY:PP-U16M-T4-3: Orion B-SK Meteor Praha B
END:VEVENT
BEGIN:VEVENT
UID:66643339-3133-4265-b135-333466353834
DTSTAMP:20260421T223055Z
DESCRIPTION:2/2 SK Meteor Praha B - SK PROSEK C 0:2 (-8\,-17)
DTSTART;TZID=Europe/Berlin:20250316T100000
DTEND;TZID=Europe/Berlin:20250316T120000
LOCATION:Sokol Bubeneč\, Korunovační 630 Praha - Bubeneč
SUMMARY:PP-U16M-T5-3: SK Meteor Praha B-SK PROSEK C
END:VEVENT
BEGIN:VEVENT
UID:65633132-3464-4566-a234-313864653333
DTSTAMP:20260421T223055Z
DESCRIPTION:3/3 SK Meteor Praha B - VK Lvi Praha B 0:2 (-17\,-19)
DTSTART;TZID=Europe/Berlin:20250316T110000
DTEND;TZID=Europe/Berlin:20250316T130000
LOCATION:Sokol Bubeneč\, Korunovační 630 Praha - Bubeneč
SUMMARY:PP-U16M-T5-3: SK Meteor Praha B-VK Lvi Praha B
END:VEVENT
BEGIN:VEVENT
UID:61633138-6139-4531-a335-666263656430
DTSTAMP:20260421T223055Z
DESCRIPTION:6/6 Orion B - SK Meteor Praha B 1:2 (17\,-18\,-10)
DTSTART;TZID=Europe/Berlin:20250316T140000
DTEND;TZID=Europe/Berlin:20250316T160000
LOCATION:Sokol Bubeneč\, Korunovační 630 Praha - Bubeneč
SUMMARY:PP-U16M-T5-3: Orion B-SK Meteor Praha B
END:VEVENT
END:VCALENDAR
