BEGIN:VCALENDAR
VERSION:2.0
PRODID:-//Volejbal Vršovice87217//NONSGML kigkonsult.se iCalcreator 2.41.80//
CALSCALE:GREGORIAN
UID:65373231-3062-4664-b135-393233626461
BEGIN:VEVENT
UID:30336132-6434-4965-b338-663062353730
DTSTAMP:20260422T213336Z
DESCRIPTION:6/6 Volejbal Vršovice - SK Dansport Praha 0:2 (-19\,-17)
DTSTART;TZID=Europe/Berlin:20240908T140000
DTEND;TZID=Europe/Berlin:20240908T160000
LOCATION:, U Meteoru 29 Praha - Libeň
SUMMARY:PP-U20M-Q-B: Volejbal Vršovice-SK Dansport Praha
END:VEVENT
BEGIN:VEVENT
UID:65303931-3964-4433-a462-373332306662
DTSTAMP:20260422T213336Z
DESCRIPTION:2/2 Orion Praha - Volejbal Vršovice 2:0 (17\,29)
DTSTART;TZID=Europe/Berlin:20240908T100000
DTEND;TZID=Europe/Berlin:20240908T120000
LOCATION:, U Meteoru 29 Praha - Libeň
SUMMARY:PP-U20M-Q-B: Orion Praha-Volejbal Vršovice
END:VEVENT
BEGIN:VEVENT
UID:35663738-3864-4533-b164-393164383032
DTSTAMP:20260422T213336Z
DESCRIPTION:3/3 SK Meteor Praha B - Volejbal Vršovice 2:0 (23\,20)
DTSTART;TZID=Europe/Berlin:20240908T110000
DTEND;TZID=Europe/Berlin:20240908T130000
LOCATION:, U Meteoru 29 Praha - Libeň
SUMMARY:PP-U20M-Q-B: SK Meteor Praha B-Volejbal Vršovice
END:VEVENT
BEGIN:VEVENT
UID:65356536-3133-4633-a461-376662333638
DTSTAMP:20260422T213336Z
DESCRIPTION:1/1 Volejbal Vršovice - SK Meteor Praha B 1:2 (-16\,22\,-13)
DTSTART;TZID=Europe/Berlin:20241006T090000
DTEND;TZID=Europe/Berlin:20241006T110000
LOCATION:ZŠ Na Líše\, Na líše 936 Praha - Michle
SUMMARY:PP-U20M-1-B: Volejbal Vršovice-SK Meteor Praha B
END:VEVENT
BEGIN:VEVENT
UID:63333131-6435-4263-b961-363065396161
DTSTAMP:20260422T213336Z
DESCRIPTION:4/4 Volejbal Vršovice - Orion Praha 1:2 (-13\,19\,-8)
DTSTART;TZID=Europe/Berlin:20241006T120000
DTEND;TZID=Europe/Berlin:20241006T140000
LOCATION:ZŠ Na Líše\, Na líše 936 Praha - Michle
SUMMARY:PP-U20M-1-B: Volejbal Vršovice-Orion Praha
END:VEVENT
BEGIN:VEVENT
UID:35363764-3865-4434-b431-323837326261
DTSTAMP:20260422T213336Z
DESCRIPTION:6/6 SK Meteor Praha A - Volejbal Vršovice 2:0 (13\,17)
DTSTART;TZID=Europe/Berlin:20241006T140000
DTEND;TZID=Europe/Berlin:20241006T160000
LOCATION:ZŠ Na Líše\, Na líše 936 Praha - Michle
SUMMARY:PP-U20M-1-B: SK Meteor Praha A-Volejbal Vršovice
END:VEVENT
BEGIN:VEVENT
UID:34363466-3934-4832-b335-363637616562
DTSTAMP:20260422T213336Z
DESCRIPTION:3/3 Volejbal Vršovice - SK Meteor Praha B 0:2 (-19\,-20)
DTSTART;TZID=Europe/Berlin:20241201T110000
DTEND;TZID=Europe/Berlin:20241201T130000
LOCATION:Sokol Bubeneč\, Korunovační 630 Praha - Bubeneč
SUMMARY:PP-U20M-2-B: Volejbal Vršovice-SK Meteor Praha B
END:VEVENT
BEGIN:VEVENT
UID:37343064-3335-4263-b136-666432333431
DTSTAMP:20260422T213336Z
DESCRIPTION:1/1 SK Dansport Praha - Volejbal Vršovice 2:0 (15\,14)
DTSTART;TZID=Europe/Berlin:20241201T090000
DTEND;TZID=Europe/Berlin:20241201T110000
LOCATION:Sokol Bubeneč\, Korunovační 630 Praha - Bubeneč
SUMMARY:PP-U20M-2-B: SK Dansport Praha-Volejbal Vršovice
END:VEVENT
BEGIN:VEVENT
UID:66633864-6432-4565-a164-613336656637
DTSTAMP:20260422T213336Z
DESCRIPTION:5/5 SK Meteor Praha A - Volejbal Vršovice 2:0 (14\,21)
DTSTART;TZID=Europe/Berlin:20241201T130000
DTEND;TZID=Europe/Berlin:20241201T150000
LOCATION:Sokol Bubeneč\, Korunovační 630 Praha - Bubeneč
SUMMARY:PP-U20M-2-B: SK Meteor Praha A-Volejbal Vršovice
END:VEVENT
BEGIN:VEVENT
UID:34346563-3439-4662-a566-366431323162
DTSTAMP:20260422T213336Z
DESCRIPTION:3/3 Volejbal Vršovice - SK Meteor Praha B 0:2 (-15\,-17)
DTSTART;TZID=Europe/Berlin:20241222T110000
DTEND;TZID=Europe/Berlin:20241222T130000
LOCATION:Sokol Bubeneč\, Korunovační 630 Praha - Bubeneč
SUMMARY:PP-U20M-3-B: Volejbal Vršovice-SK Meteor Praha B
END:VEVENT
BEGIN:VEVENT
UID:31613861-3939-4837-b961-643764616139
DTSTAMP:20260422T213336Z
DESCRIPTION:1/1 VK Lvi Praha B - Volejbal Vršovice 2:0 (17\,9)
DTSTART;TZID=Europe/Berlin:20241222T090000
DTEND;TZID=Europe/Berlin:20241222T110000
LOCATION:Sokol Bubeneč\, Korunovační 630 Praha - Bubeneč
SUMMARY:PP-U20M-3-B: VK Lvi Praha B-Volejbal Vršovice
END:VEVENT
BEGIN:VEVENT
UID:63393061-3637-4437-a639-333438326162
DTSTAMP:20260422T213336Z
DESCRIPTION:5/5 SK Meteor Praha A - Volejbal Vršovice 2:1 (-19\,22\,11)
DTSTART;TZID=Europe/Berlin:20241222T130000
DTEND;TZID=Europe/Berlin:20241222T150000
LOCATION:Sokol Bubeneč\, Korunovační 630 Praha - Bubeneč
SUMMARY:PP-U20M-3-B: SK Meteor Praha A-Volejbal Vršovice
END:VEVENT
BEGIN:VEVENT
UID:61313734-6165-4763-b036-333732613332
DTSTAMP:20260422T213336Z
DESCRIPTION:3/3 Volejbal Vršovice - SK Meteor Praha A 0:2 (-25\,-12)
DTSTART;TZID=Europe/Berlin:20250126T110000
DTEND;TZID=Europe/Berlin:20250126T130000
LOCATION:ZŠ Žernosecká\, Žernosecká 1597 Praha - Kobylisy
SUMMARY:PP-U20M-4-B: Volejbal Vršovice-SK Meteor Praha A
END:VEVENT
BEGIN:VEVENT
UID:64333534-3232-4631-b731-666133333734
DTSTAMP:20260422T213336Z
DESCRIPTION:1/1 SK Dansport Praha - Volejbal Vršovice 2:0 (18\,17)
DTSTART;TZID=Europe/Berlin:20250126T090000
DTEND;TZID=Europe/Berlin:20250126T110000
LOCATION:ZŠ Žernosecká\, Žernosecká 1597 Praha - Kobylisy
SUMMARY:PP-U20M-4-B: SK Dansport Praha-Volejbal Vršovice
END:VEVENT
BEGIN:VEVENT
UID:62306162-6538-4633-a466-373436356265
DTSTAMP:20260422T213336Z
DESCRIPTION:5/5 SK Meteor Praha B - Volejbal Vršovice 2:0 (17\,19)
DTSTART;TZID=Europe/Berlin:20250126T130000
DTEND;TZID=Europe/Berlin:20250126T150000
LOCATION:ZŠ Žernosecká\, Žernosecká 1597 Praha - Kobylisy
SUMMARY:PP-U20M-4-B: SK Meteor Praha B-Volejbal Vršovice
END:VEVENT
BEGIN:VEVENT
UID:61643261-6338-4136-a338-643539383263
DTSTAMP:20260422T213336Z
DESCRIPTION:3/3 Volejbal Vršovice - SK Meteor Praha B 0:2 (-13\,-21)
DTSTART;TZID=Europe/Berlin:20250406T110000
DTEND;TZID=Europe/Berlin:20250406T130000
LOCATION:Sokol Bubeneč\, Korunovační 630 Praha - Bubeneč
SUMMARY:PP-U20M-5-B: Volejbal Vršovice-SK Meteor Praha B
END:VEVENT
BEGIN:VEVENT
UID:31626366-3965-4230-b665-373661366464
DTSTAMP:20260422T213336Z
DESCRIPTION:1/1 BVŠP - Volejbal Vršovice 0:1 (-0)
DTSTART;TZID=Europe/Berlin:20250406T090000
DTEND;TZID=Europe/Berlin:20250406T110000
LOCATION:Sokol Bubeneč\, Korunovační 630 Praha - Bubeneč
SUMMARY:PP-U20M-5-B: BVŠP-Volejbal Vršovice
END:VEVENT
BEGIN:VEVENT
UID:36653739-3835-4563-a335-353862353138
DTSTAMP:20260422T213336Z
DESCRIPTION:5/5 SK Meteor Praha A - Volejbal Vršovice 2:0 (22\,17)
DTSTART;TZID=Europe/Berlin:20250406T130000
DTEND;TZID=Europe/Berlin:20250406T150000
LOCATION:Sokol Bubeneč\, Korunovační 630 Praha - Bubeneč
SUMMARY:PP-U20M-5-B: SK Meteor Praha A-Volejbal Vršovice
END:VEVENT
END:VCALENDAR
