BEGIN:VCALENDAR
VERSION:2.0
PRODID:-//TJ Sokol Jehnice87242//NONSGML kigkonsult.se iCalcreator 2.41.80//
CALSCALE:GREGORIAN
UID:36353263-3131-4138-b561-626563383935
BEGIN:VEVENT
UID:30613335-3161-4236-a332-376138393433
DTSTAMP:20260422T165816Z
DESCRIPTION:1/4 TJ Sokol Jehnice - TJ Minerva Boskovice 3:1 (10\,23\,-21\,2
 0)
DTSTART;TZID=Europe/Berlin:20250104T100000
DTEND;TZID=Europe/Berlin:20250104T120000
LOCATION:TJ Sokol Jehnice\, Blanenská 1 Brno - Jehnice
SUMMARY:JM-Z-1: TJ Sokol Jehnice-TJ Minerva Boskovice
END:VEVENT
BEGIN:VEVENT
UID:33376439-3763-4030-a134-303364316332
DTSTAMP:20260422T165816Z
DESCRIPTION:2/9 TJ Sokol Jehnice - TJ Minerva Boskovice 2:3 (-17\,20\,-20\,
 22\,-15)
DTSTART;TZID=Europe/Berlin:20250104T130000
DTEND;TZID=Europe/Berlin:20250104T150000
LOCATION:TJ Sokol Jehnice\, Blanenská 1 Brno - Jehnice
SUMMARY:JM-Z-1: TJ Sokol Jehnice-TJ Minerva Boskovice
END:VEVENT
BEGIN:VEVENT
UID:36663862-6635-4639-b538-613566343230
DTSTAMP:20260422T165816Z
DESCRIPTION:5/23 TJ Sokol Jehnice - Újezd u Brna 1:3 (24\,-23\,-15\,-23)
DTSTART;TZID=Europe/Berlin:20241019T100000
DTEND;TZID=Europe/Berlin:20241019T120000
LOCATION:TJ Sokol Jehnice\, Blanenská 1 Brno - Jehnice
SUMMARY:JM-Z-1: TJ Sokol Jehnice-Újezd u Brna
END:VEVENT
BEGIN:VEVENT
UID:34613965-6661-4363-b239-393564373431
DTSTAMP:20260422T165816Z
DESCRIPTION:6/28 TJ Sokol Jehnice - Újezd u Brna 0:3 (-23\,-16\,-21)
DTSTART;TZID=Europe/Berlin:20241019T130000
DTEND;TZID=Europe/Berlin:20241019T150000
LOCATION:TJ Sokol Jehnice\, Blanenská 1 Brno - Jehnice
SUMMARY:JM-Z-1: TJ Sokol Jehnice-Újezd u Brna
END:VEVENT
BEGIN:VEVENT
UID:61643266-3831-4264-b438-663631353264
DTSTAMP:20260422T165816Z
DESCRIPTION:9/42 TJ Sokol Jehnice - VOLEJBAL VYŠKOV\, z.s. 2:3 (-21\,16\,19
 \,-22\,-9)
DTSTART;TZID=Europe/Berlin:20241109T100000
DTEND;TZID=Europe/Berlin:20241109T120000
LOCATION:TJ Sokol Jehnice\, Blanenská 1 Brno - Jehnice
SUMMARY:JM-Z-1: TJ Sokol Jehnice-VOLEJBAL VYŠKOV\, z.s.
END:VEVENT
BEGIN:VEVENT
UID:66336566-3961-4135-b230-343937343666
DTSTAMP:20260422T165816Z
DESCRIPTION:10/47 TJ Sokol Jehnice - VOLEJBAL VYŠKOV\, z.s. 3:1 (13\,16\,-1
 8\,24)
DTSTART;TZID=Europe/Berlin:20241109T130000
DTEND;TZID=Europe/Berlin:20241109T150000
LOCATION:TJ Sokol Jehnice\, Blanenská 1 Brno - Jehnice
SUMMARY:JM-Z-1: TJ Sokol Jehnice-VOLEJBAL VYŠKOV\, z.s.
END:VEVENT
BEGIN:VEVENT
UID:66356361-6635-4630-b262-623962636530
DTSTAMP:20260422T165816Z
DESCRIPTION:15/75 TJ Sokol Jehnice - TJ Sokol Hodonín 0:3 (-22\,-12\,-18)
DTSTART;TZID=Europe/Berlin:20241201T100000
DTEND;TZID=Europe/Berlin:20241201T120000
LOCATION:TJ Sokol Jehnice\, Blanenská 1 Brno - Jehnice
SUMMARY:JM-Z-1: TJ Sokol Jehnice-TJ Sokol Hodonín
END:VEVENT
BEGIN:VEVENT
UID:39623238-3332-4163-b165-663566313033
DTSTAMP:20260422T165816Z
DESCRIPTION:16/80 TJ Sokol Jehnice - TJ Sokol Hodonín 3:0 (13\,16\,21)
DTSTART;TZID=Europe/Berlin:20241201T130000
DTEND;TZID=Europe/Berlin:20241201T150000
LOCATION:TJ Sokol Jehnice\, Blanenská 1 Brno - Jehnice
SUMMARY:JM-Z-1: TJ Sokol Jehnice-TJ Sokol Hodonín
END:VEVENT
BEGIN:VEVENT
UID:39353563-3432-4161-b334-643333663635
DTSTAMP:20260422T165816Z
DESCRIPTION:21/103 TJ Sokol Jehnice - VK Znojmo - Přímětice 3:1 (-22\,19\,2
 1\,17)
DTSTART;TZID=Europe/Berlin:20250111T100000
DTEND;TZID=Europe/Berlin:20250111T120000
LOCATION:TJ Sokol Jehnice\, Blanenská 1 Brno - Jehnice
SUMMARY:JM-Z-1: TJ Sokol Jehnice-VK Znojmo - Přímětice
END:VEVENT
BEGIN:VEVENT
UID:66653238-6239-4261-a333-336338313732
DTSTAMP:20260422T165816Z
DESCRIPTION:22/108 TJ Sokol Jehnice - VK Znojmo - Přímětice 3:2 (23\,-16\,2
 4\,-23\,11)
DTSTART;TZID=Europe/Berlin:20250111T130000
DTEND;TZID=Europe/Berlin:20250111T150000
LOCATION:TJ Sokol Jehnice\, Blanenská 1 Brno - Jehnice
SUMMARY:JM-Z-1: TJ Sokol Jehnice-VK Znojmo - Přímětice
END:VEVENT
BEGIN:VEVENT
UID:32343635-6664-4361-b766-633038666331
DTSTAMP:20260422T165816Z
DESCRIPTION:25/124 TJ Sokol Jehnice - ŠSK při Gymnáziu Šlapanice 3:1 (26\,1
 7\,-22\,19)
DTSTART;TZID=Europe/Berlin:20250125T100000
DTEND;TZID=Europe/Berlin:20250125T120000
LOCATION:TJ Sokol Jehnice\, Blanenská 1 Brno - Jehnice
SUMMARY:JM-Z-1: TJ Sokol Jehnice-ŠSK při Gymnáziu Šlapanice
END:VEVENT
BEGIN:VEVENT
UID:31663861-3766-4139-b636-393739616161
DTSTAMP:20260422T165816Z
DESCRIPTION:26/129 TJ Sokol Jehnice - ŠSK při Gymnáziu Šlapanice 2:3 (-18\,
 -23\,14\,12\,-13)
DTSTART;TZID=Europe/Berlin:20250125T130000
DTEND;TZID=Europe/Berlin:20250125T150000
LOCATION:TJ Sokol Jehnice\, Blanenská 1 Brno - Jehnice
SUMMARY:JM-Z-1: TJ Sokol Jehnice-ŠSK při Gymnáziu Šlapanice
END:VEVENT
BEGIN:VEVENT
UID:30613033-3538-4139-a665-356365363131
DTSTAMP:20260422T165816Z
DESCRIPTION:29/145 TJ Sokol Jehnice - Tělocvičná jednota Sokol Šlapanice u 
 Brna 1:3 (-25\,-10\,24\,-21)
DTSTART;TZID=Europe/Berlin:20241116T100000
DTEND;TZID=Europe/Berlin:20241116T120000
LOCATION:TJ Sokol Jehnice\, Blanenská 1 Brno - Jehnice
SUMMARY:JM-Z-1: TJ Sokol Jehnice-Tělocvičná jednota Sokol Šlapanice u Brna
END:VEVENT
BEGIN:VEVENT
UID:30646338-3130-4534-b436-383535613761
DTSTAMP:20260422T165816Z
DESCRIPTION:30/150 TJ Sokol Jehnice - Tělocvičná jednota Sokol Šlapanice u 
 Brna 1:3 (-21\,-16\,24\,-18)
DTSTART;TZID=Europe/Berlin:20241116T130000
DTEND;TZID=Europe/Berlin:20241116T150000
LOCATION:TJ Sokol Jehnice\, Blanenská 1 Brno - Jehnice
SUMMARY:JM-Z-1: TJ Sokol Jehnice-Tělocvičná jednota Sokol Šlapanice u Brna
END:VEVENT
BEGIN:VEVENT
UID:32636462-6435-4239-b135-333765313265
DTSTAMP:20260422T165816Z
DESCRIPTION:35/172 TJ Sokol Jehnice - VS Vydry Drásov 3:0 (20\,18\,16)
DTSTART;TZID=Europe/Berlin:20250316T100000
DTEND;TZID=Europe/Berlin:20250316T120000
LOCATION:TJ Sokol Jehnice\, Blanenská 1 Brno - Jehnice
SUMMARY:JM-Z-1: TJ Sokol Jehnice-VS Vydry Drásov
END:VEVENT
BEGIN:VEVENT
UID:61633663-3939-4338-a164-396461666634
DTSTAMP:20260422T165816Z
DESCRIPTION:36/177 TJ Sokol Jehnice - VS Vydry Drásov 3:2 (22\,11\,-19\,-17
 \,12)
DTSTART;TZID=Europe/Berlin:20250316T130000
DTEND;TZID=Europe/Berlin:20250316T150000
LOCATION:TJ Sokol Jehnice\, Blanenská 1 Brno - Jehnice
SUMMARY:JM-Z-1: TJ Sokol Jehnice-VS Vydry Drásov
END:VEVENT
BEGIN:VEVENT
UID:61616439-3236-4435-a534-646234346533
DTSTAMP:20260422T165816Z
DESCRIPTION:3/13 VK Znojmo - Přímětice - TJ Sokol Jehnice 3:1 (-22\,18\,20\
 ,21)
DTSTART;TZID=Europe/Berlin:20241012T100000
DTEND;TZID=Europe/Berlin:20241012T120000
LOCATION:Tělocvična PSK Znojmo\, Pražská 2486 Znojmo
SUMMARY:JM-Z-1: VK Znojmo - Přímětice-TJ Sokol Jehnice
END:VEVENT
BEGIN:VEVENT
UID:36643535-3835-4266-b839-626162396465
DTSTAMP:20260422T165816Z
DESCRIPTION:4/18 VK Znojmo - Přímětice - TJ Sokol Jehnice 2:3 (18\,-18\,18\
 ,-23\,-12)
DTSTART;TZID=Europe/Berlin:20241012T130000
DTEND;TZID=Europe/Berlin:20241012T150000
LOCATION:Tělocvična PSK Znojmo\, Pražská 2486 Znojmo
SUMMARY:JM-Z-1: VK Znojmo - Přímětice-TJ Sokol Jehnice
END:VEVENT
BEGIN:VEVENT
UID:36316165-3762-4637-a634-323235656335
DTSTAMP:20260422T165816Z
DESCRIPTION:7/34 ŠSK při Gymnáziu Šlapanice - TJ Sokol Jehnice 2:3 (-24\,24
 \,21\,-19\,-9)
DTSTART;TZID=Europe/Berlin:20241102T100000
DTEND;TZID=Europe/Berlin:20241102T120000
LOCATION:Sportovní a společenská hala Nebovidy\,  Nebovidy250
SUMMARY:JM-Z-1: ŠSK při Gymnáziu Šlapanice-TJ Sokol Jehnice
END:VEVENT
BEGIN:VEVENT
UID:35303630-3134-4736-b561-303439613761
DTSTAMP:20260422T165816Z
DESCRIPTION:8/39 ŠSK při Gymnáziu Šlapanice - TJ Sokol Jehnice 3:2 (21\,-21
 \,14\,-23\,13)
DTSTART;TZID=Europe/Berlin:20241102T130000
DTEND;TZID=Europe/Berlin:20241102T150000
LOCATION:Sportovní a společenská hala Nebovidy\,  Nebovidy250
SUMMARY:JM-Z-1: ŠSK při Gymnáziu Šlapanice-TJ Sokol Jehnice
END:VEVENT
BEGIN:VEVENT
UID:64646664-3763-4637-b639-633838646264
DTSTAMP:20260422T165816Z
DESCRIPTION:11/55 Tělocvičná jednota Sokol Šlapanice u Brna - TJ Sokol Jehn
 ice 0:3 (-17\,-13\,-21)
DTSTART;TZID=Europe/Berlin:20250222T090000
DTEND;TZID=Europe/Berlin:20250222T110000
LOCATION:Tělocvična ZŠ Šlapanice\, Masarykovo náměstí 1594 Šlapanice
SUMMARY:JM-Z-1: Tělocvičná jednota Sokol Šlapanice u Brna-TJ Sokol Jehnice
END:VEVENT
BEGIN:VEVENT
UID:38313132-3362-4962-a133-356538383264
DTSTAMP:20260422T165816Z
DESCRIPTION:12/60 Tělocvičná jednota Sokol Šlapanice u Brna - TJ Sokol Jehn
 ice 3:2 (-19\,-21\,21\,10\,13)
DTSTART;TZID=Europe/Berlin:20250222T130000
DTEND;TZID=Europe/Berlin:20250222T150000
LOCATION:Tělocvična ZŠ Šlapanice\, Masarykovo náměstí 1594 Šlapanice
SUMMARY:JM-Z-1: Tělocvičná jednota Sokol Šlapanice u Brna-TJ Sokol Jehnice
END:VEVENT
BEGIN:VEVENT
UID:61366135-3635-4339-b133-353031633532
DTSTAMP:20260422T165816Z
DESCRIPTION:17/82 VS Vydry Drásov - TJ Sokol Jehnice 0:3 (-9\,-18\,-15)
DTSTART;TZID=Europe/Berlin:20241215T100000
DTEND;TZID=Europe/Berlin:20241215T120000
LOCATION:Hala u ZŠ TGM Drásov\, Školní 167 Drásov
SUMMARY:JM-Z-1: VS Vydry Drásov-TJ Sokol Jehnice
END:VEVENT
BEGIN:VEVENT
UID:37623964-6661-4463-b333-363965376466
DTSTAMP:20260422T165816Z
DESCRIPTION:18/87 VS Vydry Drásov - TJ Sokol Jehnice 0:3 (-23\,-17\,-14)
DTSTART;TZID=Europe/Berlin:20241215T130000
DTEND;TZID=Europe/Berlin:20241215T150000
LOCATION:Hala u ZŠ TGM Drásov\, Školní 167 Drásov
SUMMARY:JM-Z-1: VS Vydry Drásov-TJ Sokol Jehnice
END:VEVENT
BEGIN:VEVENT
UID:38646366-3661-4466-a239-383166623232
DTSTAMP:20260422T165816Z
DESCRIPTION:19/94 TJ Minerva Boskovice - TJ Sokol Jehnice 3:2 (-21\,19\,-19
 \,16\,10)
DTSTART;TZID=Europe/Berlin:20241005T100000
DTEND;TZID=Europe/Berlin:20241005T120000
LOCATION:Tělocvična ZŠ\, Slovákova 2006 Boskovice
SUMMARY:JM-Z-1: TJ Minerva Boskovice-TJ Sokol Jehnice
END:VEVENT
BEGIN:VEVENT
UID:30313732-6434-4733-b232-326662353961
DTSTAMP:20260422T165816Z
DESCRIPTION:20/99 TJ Minerva Boskovice - TJ Sokol Jehnice 3:1 (22\,24\,-19\
 ,23)
DTSTART;TZID=Europe/Berlin:20241005T130000
DTEND;TZID=Europe/Berlin:20241005T150000
LOCATION:Tělocvična ZŠ\, Slovákova 2006 Boskovice
SUMMARY:JM-Z-1: TJ Minerva Boskovice-TJ Sokol Jehnice
END:VEVENT
BEGIN:VEVENT
UID:61313232-3066-4763-a136-373730306162
DTSTAMP:20260422T165816Z
DESCRIPTION:23/113 Újezd u Brna - TJ Sokol Jehnice 3:0 (21\,20\,22)\nZŠ Ško
 lní 284\, Újezd u Brna
DTSTART;TZID=Europe/Berlin:20250118T090000
DTEND;TZID=Europe/Berlin:20250118T110000
LOCATION:Multifunkční sportovní hala\, Sportovní 1128 Újezd u Brna
SUMMARY:JM-Z-1: Újezd u Brna-TJ Sokol Jehnice
END:VEVENT
BEGIN:VEVENT
UID:37333164-3435-4962-a339-303331616438
DTSTAMP:20260422T165816Z
DESCRIPTION:24/118 Újezd u Brna - TJ Sokol Jehnice 3:2 (-18\,20\,-31\,22\,4
 )\nZŠ Školní 284\, Újezd u Brna
DTSTART;TZID=Europe/Berlin:20250118T120000
DTEND;TZID=Europe/Berlin:20250118T140000
LOCATION:Multifunkční sportovní hala\, Sportovní 1128 Újezd u Brna
SUMMARY:JM-Z-1: Újezd u Brna-TJ Sokol Jehnice
END:VEVENT
BEGIN:VEVENT
UID:64333263-6164-4636-a438-346535323061
DTSTAMP:20260422T165816Z
DESCRIPTION:27/132 VOLEJBAL VYŠKOV\, z.s. - TJ Sokol Jehnice 2:3 (24\,19\,-
 17\,-17\,-6)
DTSTART;TZID=Europe/Berlin:20250201T100000
DTEND;TZID=Europe/Berlin:20250201T120000
LOCATION:Tělocvična ZŠ Nádražní\, Nádražní 5 Vyškov - Vyškov-Město
SUMMARY:JM-Z-1: VOLEJBAL VYŠKOV\, z.s.-TJ Sokol Jehnice
END:VEVENT
BEGIN:VEVENT
UID:37656437-6639-4432-b464-313439396330
DTSTAMP:20260422T165816Z
DESCRIPTION:28/137 VOLEJBAL VYŠKOV\, z.s. - TJ Sokol Jehnice 0:3 (-22\,-18\
 ,-8)
DTSTART;TZID=Europe/Berlin:20250201T130000
DTEND;TZID=Europe/Berlin:20250201T150000
LOCATION:Tělocvična ZŠ Nádražní\, Nádražní 5 Vyškov - Vyškov-Město
SUMMARY:JM-Z-1: VOLEJBAL VYŠKOV\, z.s.-TJ Sokol Jehnice
END:VEVENT
BEGIN:VEVENT
UID:35313430-3865-4036-b436-333461373865
DTSTAMP:20260422T165816Z
DESCRIPTION:33/165 TJ Sokol Hodonín - TJ Sokol Jehnice 1:3 (-19\,25\,-16\,-
 20)
DTSTART;TZID=Europe/Berlin:20250309T100000
DTEND;TZID=Europe/Berlin:20250309T120000
LOCATION:Sokolovna\, Velkomoravská 2202 Hodonín
SUMMARY:JM-Z-1: TJ Sokol Hodonín-TJ Sokol Jehnice
END:VEVENT
BEGIN:VEVENT
UID:36333730-6361-4565-b064-623463323530
DTSTAMP:20260422T165816Z
DESCRIPTION:34/170 TJ Sokol Hodonín - TJ Sokol Jehnice 1:3 (-11\,-16\,19\,-
 15)
DTSTART;TZID=Europe/Berlin:20250309T130000
DTEND;TZID=Europe/Berlin:20250309T150000
LOCATION:Sokolovna\, Velkomoravská 2202 Hodonín
SUMMARY:JM-Z-1: TJ Sokol Hodonín-TJ Sokol Jehnice
END:VEVENT
END:VCALENDAR
