BEGIN:VCALENDAR
VERSION:2.0
PRODID:-//VK Rokycany B (U14)87281//NONSGML kigkonsult.se iCalcreator 2.41.80//
CALSCALE:GREGORIAN
UID:37356364-3437-4131-b233-366362313261
BEGIN:VEVENT
UID:61633432-6330-4632-a431-343163356435
DTSTAMP:20260425T232023Z
DESCRIPTION:1/1 Rokycany B - Šťáhlavy 0:2 (-20\,-17)
DTSTART;TZID=Europe/Berlin:20240928T090000
DTEND;TZID=Europe/Berlin:20240928T110000
LOCATION:Hala Gymnázia Rokycany\, Mládežníků 1115 Rokycany - Nové Město
SUMMARY:P-U14Z6-1C: Rokycany B-Šťáhlavy
END:VEVENT
BEGIN:VEVENT
UID:30663161-6532-4766-a335-626536393164
DTSTAMP:20260425T232023Z
DESCRIPTION:4/4 Rokycany B - Vejprnice 0:2 (-17\,-15)
DTSTART;TZID=Europe/Berlin:20240928T120000
DTEND;TZID=Europe/Berlin:20240928T140000
LOCATION:Hala Gymnázia Rokycany\, Mládežníků 1115 Rokycany - Nové Město
SUMMARY:P-U14Z6-1C: Rokycany B-Vejprnice
END:VEVENT
BEGIN:VEVENT
UID:64356337-3339-4233-b465-666361366638
DTSTAMP:20260425T232023Z
DESCRIPTION:6/6 Klatovy A - Rokycany B 2:0 (7\,11)
DTSTART;TZID=Europe/Berlin:20240928T140000
DTEND;TZID=Europe/Berlin:20240928T160000
LOCATION:Sportovní hala ZŠ Čapkova\, Čapkova 136 Klatovy - Klatovy V
SUMMARY:P-U14Z6-1C: Klatovy A-Rokycany B
END:VEVENT
BEGIN:VEVENT
UID:34623238-3436-4036-b539-313763336235
DTSTAMP:20260425T232023Z
DESCRIPTION:3/3 Rokycany B - Loko Plzeň A 0:2 (-19\,-23)
DTSTART;TZID=Europe/Berlin:20241020T110000
DTEND;TZID=Europe/Berlin:20241020T130000
LOCATION:Sportovní hala ZŠ Čapkova\, Čapkova 136 Klatovy - Klatovy V
SUMMARY:P-U14Z6-2C: Rokycany B-Loko Plzeň A
END:VEVENT
BEGIN:VEVENT
UID:63616263-6130-4461-a465-636366333463
DTSTAMP:20260425T232023Z
DESCRIPTION:1/1 Šťáhlavy - Rokycany B 2:0 (10\,20)
DTSTART;TZID=Europe/Berlin:20241020T090000
DTEND;TZID=Europe/Berlin:20241020T110000
LOCATION:Sportovní hala ZŠ Čapkova\, Čapkova 136 Klatovy - Klatovy V
SUMMARY:P-U14Z6-2C: Šťáhlavy-Rokycany B
END:VEVENT
BEGIN:VEVENT
UID:31663931-3831-4532-b339-333335643339
DTSTAMP:20260425T232023Z
DESCRIPTION:5/5 Slavia Plzeň B - Rokycany B 1:2 (22\,-21\,-11)
DTSTART;TZID=Europe/Berlin:20241020T130000
DTEND;TZID=Europe/Berlin:20241020T150000
LOCATION:Sportovní hala ZŠ Čapkova\, Čapkova 136 Klatovy - Klatovy V
SUMMARY:P-U14Z6-2C: Slavia Plzeň B-Rokycany B
END:VEVENT
BEGIN:VEVENT
UID:37626539-6530-4437-b464-333662303662
DTSTAMP:20260425T232023Z
DESCRIPTION:2/2 Rokycany B - Slavia Plzeň B 2:1 (-21\,21\,11)
DTSTART;TZID=Europe/Berlin:20241124T100000
DTEND;TZID=Europe/Berlin:20241124T120000
LOCATION:Sportovní hala Šťáhlavy\, U hřiště 525 Šťáhlavy
SUMMARY:P-U14Z6-3C: Rokycany B-Slavia Plzeň B
END:VEVENT
BEGIN:VEVENT
UID:36633966-3830-4134-b939-646630663837
DTSTAMP:20260425T232023Z
DESCRIPTION:5/5 Rokycany B - Loko Plzeň A 0:2 (-23\,-15)
DTSTART;TZID=Europe/Berlin:20241124T130000
DTEND;TZID=Europe/Berlin:20241124T150000
LOCATION:Sportovní hala Šťáhlavy\, U hřiště 525 Šťáhlavy
SUMMARY:P-U14Z6-3C: Rokycany B-Loko Plzeň A
END:VEVENT
BEGIN:VEVENT
UID:63393866-6537-4336-b736-663438636531
DTSTAMP:20260425T232023Z
DESCRIPTION:4/4 Loko Plzeň B - Rokycany B 2:0 (18\,19)
DTSTART;TZID=Europe/Berlin:20241124T120000
DTEND;TZID=Europe/Berlin:20241124T140000
LOCATION:Sportovní hala Šťáhlavy\, U hřiště 525 Šťáhlavy
SUMMARY:P-U14Z6-3C: Loko Plzeň B-Rokycany B
END:VEVENT
BEGIN:VEVENT
UID:31656532-3762-4263-a532-626439316363
DTSTAMP:20260425T232023Z
DESCRIPTION:6/6 Rokycany B - Lhota 1:2 (22\,-16\,-8)
DTSTART;TZID=Europe/Berlin:20241215T140000
DTEND;TZID=Europe/Berlin:20241215T160000
LOCATION:Hala Gymnázia Rokycany\, Mládežníků 1115 Rokycany - Nové Město
SUMMARY:P-U14Z6-4C: Rokycany B-Lhota
END:VEVENT
BEGIN:VEVENT
UID:63643934-6239-4730-a563-646564313533
DTSTAMP:20260425T232023Z
DESCRIPTION:2/2 Loko Plzeň A - Rokycany B 2:0 (21\,13)
DTSTART;TZID=Europe/Berlin:20241215T100000
DTEND;TZID=Europe/Berlin:20241215T120000
LOCATION:Hala Gymnázia Rokycany\, Mládežníků 1115 Rokycany - Nové Město
SUMMARY:P-U14Z6-4C: Loko Plzeň A-Rokycany B
END:VEVENT
BEGIN:VEVENT
UID:34393937-6266-4563-b834-386334356330
DTSTAMP:20260425T232023Z
DESCRIPTION:3/3 Slavia Plzeň B - Rokycany B 2:0 (21\,20)
DTSTART;TZID=Europe/Berlin:20241215T110000
DTEND;TZID=Europe/Berlin:20241215T130000
LOCATION:Hala Gymnázia Rokycany\, Mládežníků 1115 Rokycany - Nové Město
SUMMARY:P-U14Z6-4C: Slavia Plzeň B-Rokycany B
END:VEVENT
BEGIN:VEVENT
UID:39316231-3933-4132-b462-616437303339
DTSTAMP:20260425T232023Z
DESCRIPTION:3/3 Rokycany B - Slavia Plzeň B 0:2 (-19\,-12)
DTSTART;TZID=Europe/Berlin:20250118T110000
DTEND;TZID=Europe/Berlin:20250118T130000
LOCATION:Sportovní hala ZŠ Čapkova\, Čapkova 136 Klatovy - Klatovy V
SUMMARY:P-U14Z6-5C: Rokycany B-Slavia Plzeň B
END:VEVENT
BEGIN:VEVENT
UID:65643365-3339-4164-b835-323436333639
DTSTAMP:20260425T232023Z
DESCRIPTION:1/1 Šťáhlavy - Rokycany B 2:0 (13\,13)
DTSTART;TZID=Europe/Berlin:20250118T090000
DTEND;TZID=Europe/Berlin:20250118T110000
LOCATION:Sportovní hala ZŠ Čapkova\, Čapkova 136 Klatovy - Klatovy V
SUMMARY:P-U14Z6-5C: Šťáhlavy-Rokycany B
END:VEVENT
BEGIN:VEVENT
UID:37653064-6334-4632-a162-356439633035
DTSTAMP:20260425T232023Z
DESCRIPTION:5/5 Lhota - Rokycany B 2:0 (2\,12)
DTSTART;TZID=Europe/Berlin:20250118T130000
DTEND;TZID=Europe/Berlin:20250118T150000
LOCATION:Sportovní hala ZŠ Čapkova\, Čapkova 136 Klatovy - Klatovy V
SUMMARY:P-U14Z6-5C: Lhota-Rokycany B
END:VEVENT
BEGIN:VEVENT
UID:38613034-3664-4436-a635-336630373234
DTSTAMP:20260425T232023Z
DESCRIPTION:3/3 Rokycany B - Šťáhlavy 0:2 (-20\,-21)
DTSTART;TZID=Europe/Berlin:20250215T110000
DTEND;TZID=Europe/Berlin:20250215T130000
LOCATION:Hala Gymnázia Rokycany\, Mládežníků 1115 Rokycany - Nové Město
SUMMARY:P-U14Z6-6C: Rokycany B-Šťáhlavy
END:VEVENT
BEGIN:VEVENT
UID:65623138-6430-4765-b764-656662316131
DTSTAMP:20260425T232023Z
DESCRIPTION:1/1 Rokycany C - Rokycany B 2:0 (12\,24)
DTSTART;TZID=Europe/Berlin:20250215T090000
DTEND;TZID=Europe/Berlin:20250215T110000
LOCATION:Hala Gymnázia Rokycany\, Mládežníků 1115 Rokycany - Nové Město
SUMMARY:P-U14Z6-6C: Rokycany C-Rokycany B
END:VEVENT
BEGIN:VEVENT
UID:36313633-3134-4532-a334-363334353338
DTSTAMP:20260425T232023Z
DESCRIPTION:5/5 Slavia Plzeň B - Rokycany B 0:2 (-15\,-17)
DTSTART;TZID=Europe/Berlin:20250215T130000
DTEND;TZID=Europe/Berlin:20250215T150000
LOCATION:Hala Gymnázia Rokycany\, Mládežníků 1115 Rokycany - Nové Město
SUMMARY:P-U14Z6-6C: Slavia Plzeň B-Rokycany B
END:VEVENT
BEGIN:VEVENT
UID:37356162-6566-4363-a634-363730623738
DTSTAMP:20260425T232023Z
DESCRIPTION:6/6 Rokycany B - Loko Plzeň B 0:2 (-19\,-21)
DTSTART;TZID=Europe/Berlin:20250316T140000
DTEND;TZID=Europe/Berlin:20250316T160000
LOCATION:Městská sportovní hala  -  hala 1\, Úslavská 2357 Plzeň - Východní
  Předměstí
SUMMARY:P-U14Z6-7C: Rokycany B-Loko Plzeň B
END:VEVENT
BEGIN:VEVENT
UID:66386564-3137-4431-b136-316666643438
DTSTAMP:20260425T232023Z
DESCRIPTION:2/2 Šťáhlavy - Rokycany B 2:0 (23\,23)
DTSTART;TZID=Europe/Berlin:20250316T100000
DTEND;TZID=Europe/Berlin:20250316T120000
LOCATION:Městská sportovní hala  -  hala 1\, Úslavská 2357 Plzeň - Východní
  Předměstí
SUMMARY:P-U14Z6-7C: Šťáhlavy-Rokycany B
END:VEVENT
BEGIN:VEVENT
UID:39343635-6439-4834-b733-343130393336
DTSTAMP:20260425T232023Z
DESCRIPTION:3/3 Slavia Plzeň B - Rokycany B 0:2 (-18\,-15)
DTSTART;TZID=Europe/Berlin:20250316T110000
DTEND;TZID=Europe/Berlin:20250316T130000
LOCATION:Městská sportovní hala  -  hala 1\, Úslavská 2357 Plzeň - Východní
  Předměstí
SUMMARY:P-U14Z6-7C: Slavia Plzeň B-Rokycany B
END:VEVENT
END:VCALENDAR
