BEGIN:VCALENDAR
VERSION:2.0
PRODID:-//Volejbal Sokolov87317//NONSGML kigkonsult.se iCalcreator 2.41.80//
CALSCALE:GREGORIAN
UID:32623665-3737-4031-b335-343062633663
BEGIN:VEVENT
UID:37386261-3864-4439-b335-616338306232
DTSTAMP:20260422T183230Z
DESCRIPTION:5/20 Sokolov - Domažlice B 3:0 (22\,17\,15)
DTSTART;TZID=Europe/Berlin:20241109T090000
DTEND;TZID=Europe/Berlin:20241109T110000
LOCATION:Jiskra\, Maxima Gorkého 280 Sokolov
SUMMARY:P-M-1: Sokolov-Domažlice B
END:VEVENT
BEGIN:VEVENT
UID:34613536-3430-4563-b331-383736626338
DTSTAMP:20260422T183230Z
DESCRIPTION:6/24 Sokolov - Domažlice B 3:0 (23\,20\,20)
DTSTART;TZID=Europe/Berlin:20241109T130000
DTEND;TZID=Europe/Berlin:20241109T150000
LOCATION:Jiskra\, Maxima Gorkého 280 Sokolov
SUMMARY:P-M-1: Sokolov-Domažlice B
END:VEVENT
BEGIN:VEVENT
UID:32356138-3231-4461-a463-323630363838
DTSTAMP:20260422T183230Z
DESCRIPTION:9/35 Sokolov - Klatovy 1:3 (-22\,-19\,28\,-25)
DTSTART;TZID=Europe/Berlin:20241123T100000
DTEND;TZID=Europe/Berlin:20241123T120000
LOCATION:Jiskra\, Maxima Gorkého 280 Sokolov
SUMMARY:P-M-1: Sokolov-Klatovy
END:VEVENT
BEGIN:VEVENT
UID:38366134-3462-4933-a263-386461336232
DTSTAMP:20260422T183230Z
DESCRIPTION:10/39 Sokolov - Klatovy 0:3 (-19\,-21\,-22)
DTSTART;TZID=Europe/Berlin:20241123T140000
DTEND;TZID=Europe/Berlin:20241123T160000
LOCATION:Jiskra\, Maxima Gorkého 280 Sokolov
SUMMARY:P-M-1: Sokolov-Klatovy
END:VEVENT
BEGIN:VEVENT
UID:35386533-6363-4063-a434-363636323062
DTSTAMP:20260422T183230Z
DESCRIPTION:13/50 Sokolov - Union 2:3 (-33\,-18\,21\,15\,-14)
DTSTART;TZID=Europe/Berlin:20241214T100000
DTEND;TZID=Europe/Berlin:20241214T120000
LOCATION:Jiskra\, Maxima Gorkého 280 Sokolov
SUMMARY:P-M-1: Sokolov-Union
END:VEVENT
BEGIN:VEVENT
UID:37653533-3065-4663-a430-323233633566
DTSTAMP:20260422T183230Z
DESCRIPTION:14/54 Sokolov - Union 3:1 (-14\,21\,15\,22)
DTSTART;TZID=Europe/Berlin:20241214T140000
DTEND;TZID=Europe/Berlin:20241214T160000
LOCATION:Jiskra\, Maxima Gorkého 280 Sokolov
SUMMARY:P-M-1: Sokolov-Union
END:VEVENT
BEGIN:VEVENT
UID:66623230-6332-4265-a664-646437623961
DTSTAMP:20260422T183230Z
DESCRIPTION:15/60 Sokolov - Mirošov 3:2 (13\,-21\,15\,-14\,18)
DTSTART;TZID=Europe/Berlin:20250118T110000
DTEND;TZID=Europe/Berlin:20250118T130000
LOCATION:Jiskra\, Maxima Gorkého 280 Sokolov
SUMMARY:P-M-1: Sokolov-Mirošov
END:VEVENT
BEGIN:VEVENT
UID:66623266-6163-4138-b765-363036383335
DTSTAMP:20260422T183230Z
DESCRIPTION:16/64 Sokolov - Mirošov 3:2 (-10\,19\,-13\,11\,12)
DTSTART;TZID=Europe/Berlin:20250118T150000
DTEND;TZID=Europe/Berlin:20250118T170000
LOCATION:Jiskra\, Maxima Gorkého 280 Sokolov
SUMMARY:P-M-1: Sokolov-Mirošov
END:VEVENT
BEGIN:VEVENT
UID:62376664-6263-4238-a630-623766343039
DTSTAMP:20260422T183230Z
DESCRIPTION:17/65 Sokolov - Skvrňany 3:0 (20\,13\,23)
DTSTART;TZID=Europe/Berlin:20250125T100000
DTEND;TZID=Europe/Berlin:20250125T120000
LOCATION:Jiskra\, Maxima Gorkého 280 Sokolov
SUMMARY:P-M-1: Sokolov-Skvrňany
END:VEVENT
BEGIN:VEVENT
UID:39623536-6230-4437-b839-376161666264
DTSTAMP:20260422T183230Z
DESCRIPTION:18/69 Sokolov - Skvrňany 3:2 (-19\,16\,-22\,24\,7)
DTSTART;TZID=Europe/Berlin:20250125T140000
DTEND;TZID=Europe/Berlin:20250125T160000
LOCATION:Jiskra\, Maxima Gorkého 280 Sokolov
SUMMARY:P-M-1: Sokolov-Skvrňany
END:VEVENT
BEGIN:VEVENT
UID:39656338-3864-4163-b331-336538623461
DTSTAMP:20260422T183230Z
DESCRIPTION:21/82 Sokolov - USK Slavia B 3:1 (18\,24\,-12\,11)
DTSTART;TZID=Europe/Berlin:20250316T100000
DTEND;TZID=Europe/Berlin:20250316T120000
LOCATION:Jiskra\, Maxima Gorkého 280 Sokolov
SUMMARY:P-M-1: Sokolov-USK Slavia B
END:VEVENT
BEGIN:VEVENT
UID:34666639-3565-4933-b034-656263313764
DTSTAMP:20260422T183230Z
DESCRIPTION:22/86 Sokolov - USK Slavia B 3:2 (-23\,15\,16\,-24\,11)
DTSTART;TZID=Europe/Berlin:20250316T140000
DTEND;TZID=Europe/Berlin:20250316T160000
LOCATION:Jiskra\, Maxima Gorkého 280 Sokolov
SUMMARY:P-M-1: Sokolov-USK Slavia B
END:VEVENT
BEGIN:VEVENT
UID:38393264-3236-4265-b938-326232663864
DTSTAMP:20260422T183230Z
DESCRIPTION:1/4 Mirošov - Sokolov 0:3 (-18\,-23\,-16)
DTSTART;TZID=Europe/Berlin:20241019T100000
DTEND;TZID=Europe/Berlin:20241019T120000
LOCATION:Sokolovna Mirošov\, Skořická 86 Mirošov
SUMMARY:P-M-1: Mirošov-Sokolov
END:VEVENT
BEGIN:VEVENT
UID:31663964-3334-4461-b135-636339633966
DTSTAMP:20260422T183230Z
DESCRIPTION:2/8 Mirošov - Sokolov 0:3 (-17\,-16\,-22)
DTSTART;TZID=Europe/Berlin:20241019T140000
DTEND;TZID=Europe/Berlin:20241019T160000
LOCATION:Sokolovna Mirošov\, Skořická 86 Mirošov
SUMMARY:P-M-1: Mirošov-Sokolov
END:VEVENT
BEGIN:VEVENT
UID:31386439-3032-4832-a539-626365316263
DTSTAMP:20260422T183230Z
DESCRIPTION:3/9 Skvrňany - Sokolov 1:3 (23\,-19\,-19\,-19)
DTSTART;TZID=Europe/Berlin:20241102T100000
DTEND;TZID=Europe/Berlin:20241102T120000
LOCATION:Sokolovna Skvrňany\, Emingerova 308 Plzeň - Skvrňany
SUMMARY:P-M-1: Skvrňany-Sokolov
END:VEVENT
BEGIN:VEVENT
UID:63313061-3432-4233-a431-616331646530
DTSTAMP:20260422T183230Z
DESCRIPTION:4/13 Skvrňany - Sokolov 1:3 (16\,-20\,-22\,-22)
DTSTART;TZID=Europe/Berlin:20241102T140000
DTEND;TZID=Europe/Berlin:20241102T160000
LOCATION:Sokolovna Skvrňany\, Emingerova 308 Plzeň - Skvrňany
SUMMARY:P-M-1: Skvrňany-Sokolov
END:VEVENT
BEGIN:VEVENT
UID:39363939-3233-4161-b462-393665333861
DTSTAMP:20260422T183230Z
DESCRIPTION:7/26 USK Slavia B - Sokolov 1:3 (-21\,18\,-23\,-10)
DTSTART;TZID=Europe/Berlin:20241117T100000
DTEND;TZID=Europe/Berlin:20241117T120000
LOCATION:Hala PF ZČU Plzeň\, Klatovská třída 1736 Plzeň - Jižní Předměstí
SUMMARY:P-M-1: USK Slavia B-Sokolov
END:VEVENT
BEGIN:VEVENT
UID:33663534-6235-4131-b565-616664313763
DTSTAMP:20260422T183230Z
DESCRIPTION:8/30 USK Slavia B - Sokolov 3:0 (15\,22\,22)
DTSTART;TZID=Europe/Berlin:20241117T140000
DTEND;TZID=Europe/Berlin:20241117T160000
LOCATION:Hala PF ZČU Plzeň\, Klatovská třída 1736 Plzeň - Jižní Předměstí
SUMMARY:P-M-1: USK Slavia B-Sokolov
END:VEVENT
BEGIN:VEVENT
UID:33383563-3137-4162-b234-323430313863
DTSTAMP:20260422T183230Z
DESCRIPTION:19/76 Domažlice B - Sokolov 0:3 (-21\,-12\,-20)
DTSTART;TZID=Europe/Berlin:20250208T100000
DTEND;TZID=Europe/Berlin:20250208T120000
LOCATION:Sportovní hala ZŠ Komenského Domažlice\, Komenského 17 Domažlice -
  Týnské Předměstí
SUMMARY:P-M-1: Domažlice B-Sokolov
END:VEVENT
BEGIN:VEVENT
UID:38373637-3064-4434-b061-383661376638
DTSTAMP:20260422T183230Z
DESCRIPTION:20/80 Domažlice B - Sokolov 2:3 (-22\,15\,21\,-20\,-11)
DTSTART;TZID=Europe/Berlin:20250208T140000
DTEND;TZID=Europe/Berlin:20250208T160000
LOCATION:Sportovní hala ZŠ Komenského Domažlice\, Komenského 17 Domažlice -
  Týnské Předměstí
SUMMARY:P-M-1: Domažlice B-Sokolov
END:VEVENT
BEGIN:VEVENT
UID:39306534-6232-4435-b037-666331616533
DTSTAMP:20260422T183230Z
DESCRIPTION:23/91 Klatovy - Sokolov 3:1 (21\,12\,-21\,19)
DTSTART;TZID=Europe/Berlin:20250309T100000
DTEND;TZID=Europe/Berlin:20250309T120000
LOCATION:Hala Na Vodojemu\, Studentská 646 Klatovy - Klatovy IV
SUMMARY:P-M-1: Klatovy-Sokolov
END:VEVENT
BEGIN:VEVENT
UID:35656632-6238-4131-b637-656263356136
DTSTAMP:20260422T183230Z
DESCRIPTION:24/95 Klatovy - Sokolov 3:0 (11\,17\,22)
DTSTART;TZID=Europe/Berlin:20250309T130000
DTEND;TZID=Europe/Berlin:20250309T150000
LOCATION:Hala Na Vodojemu\, Studentská 646 Klatovy - Klatovy IV
SUMMARY:P-M-1: Klatovy-Sokolov
END:VEVENT
BEGIN:VEVENT
UID:33636663-3337-4861-b562-386461626464
DTSTAMP:20260422T183230Z
DESCRIPTION:27/106 Union - Sokolov 3:0 (20\,22\,18)
DTSTART;TZID=Europe/Berlin:20250322T100000
DTEND;TZID=Europe/Berlin:20250322T120000
LOCATION:TJ Union\, Radčická 2861 Plzeň - Jižní Předměstí
SUMMARY:P-M-1: Union-Sokolov
END:VEVENT
BEGIN:VEVENT
UID:31323761-3836-4436-a162-623536396164
DTSTAMP:20260422T183230Z
DESCRIPTION:28/110 Union - Sokolov 3:0 (13\,17\,17)
DTSTART;TZID=Europe/Berlin:20250322T140000
DTEND;TZID=Europe/Berlin:20250322T160000
LOCATION:TJ Union\, Radčická 2861 Plzeň - Jižní Předměstí
SUMMARY:P-M-1: Union-Sokolov
END:VEVENT
BEGIN:VEVENT
UID:33613538-3634-4138-a539-646239356433
DTSTAMP:20260422T183230Z
DESCRIPTION:2/2 Sokolov - VK Karlovarsko\, z.s. 3:0 (17\,13\,16)
DTSTART;TZID=Europe/Berlin:20250214T170000
DTEND;TZID=Europe/Berlin:20250214T190000
LOCATION:Jiskra\, Maxima Gorkého 280 Sokolov
SUMMARY:KV-M: Sokolov-VK Karlovarsko\, z.s.
END:VEVENT
BEGIN:VEVENT
UID:63626334-3064-4461-b662-303134366439
DTSTAMP:20260422T183230Z
DESCRIPTION:1/1 VK Karlovarsko\, z.s. - Sokolov 0:3 (-16\,-19\,-21)
DTSTART;TZID=Europe/Berlin:20250123T183000
DTEND;TZID=Europe/Berlin:20250123T203000
LOCATION:Mattoni Arena Hala míčových sportů\, Západní 1812 Karlovy Vary
SUMMARY:KV-M: VK Karlovarsko\, z.s.-Sokolov
END:VEVENT
BEGIN:VEVENT
UID:34373839-3037-4634-b261-386164303830
DTSTAMP:20260422T183230Z
DESCRIPTION:1/1 Sokolov - Roztoky 0:3 (-14\,-23\,-13)
DTSTART;TZID=Europe/Berlin:20250426T100000
DTEND;TZID=Europe/Berlin:20250426T120000
LOCATION:Jiskra\, Maxima Gorkého 280 Sokolov
SUMMARY:2-M-KA: Sokolov-Roztoky
END:VEVENT
BEGIN:VEVENT
UID:34363538-6138-4963-a433-636434343963
DTSTAMP:20260422T183230Z
DESCRIPTION:2/4 Sokolov - ČVUT Praha 2:3 (22\,-22\,24\,-23\,-8)
DTSTART;TZID=Europe/Berlin:20250426T170000
DTEND;TZID=Europe/Berlin:20250426T190000
LOCATION:Jiskra\, Maxima Gorkého 280 Sokolov
SUMMARY:2-M-KA: Sokolov-ČVUT Praha
END:VEVENT
BEGIN:VEVENT
UID:65366337-6430-4163-a638-306330653935
DTSTAMP:20260422T183230Z
DESCRIPTION:3/6 Chabařovice - Sokolov 3:1 (34\,19\,-11\,18)
DTSTART;TZID=Europe/Berlin:20250427T120000
DTEND;TZID=Europe/Berlin:20250427T140000
LOCATION:Jiskra\, Maxima Gorkého 280 Sokolov
SUMMARY:2-M-KA: Chabařovice-Sokolov
END:VEVENT
END:VCALENDAR
