BEGIN:VCALENDAR
VERSION:2.0
PRODID:-//Volejbalový klub Královo Pole, z.s.87318//NONSGML kigkonsult.se iCalcreator 2.41.80//
CALSCALE:GREGORIAN
UID:31636662-6164-4733-b538-616436316461
BEGIN:VEVENT
UID:35663533-3237-4339-a661-633066323466
DTSTAMP:20260422T034016Z
DESCRIPTION:3/9 KP Brno U20 - TJ Sokol Jehnice 0:3 (-23\,-23\,-12)
DTSTART;TZID=Europe/Berlin:20240922T130000
DTEND;TZID=Europe/Berlin:20240922T150000
LOCATION:Sportovní gymnázium Ludvíka Daňka\, Botanická 63 Brno - Ponava
SUMMARY:JM-U20Z: KP Brno U20-TJ Sokol Jehnice
END:VEVENT
BEGIN:VEVENT
UID:31643435-6162-4437-b237-643437363036
DTSTAMP:20260422T034016Z
DESCRIPTION:5/15 KP Brno U20 - Orel jednota Pozořice 3:2 (-22\,17\,-25\,18\
 ,9)
DTSTART;TZID=Europe/Berlin:20241013T110000
DTEND;TZID=Europe/Berlin:20241013T130000
LOCATION:Sportovní gymnázium Ludvíka Daňka\, Botanická 63 Brno - Ponava
SUMMARY:JM-U20Z: KP Brno U20-Orel jednota Pozořice
END:VEVENT
BEGIN:VEVENT
UID:37393632-6331-4264-b863-383135336564
DTSTAMP:20260422T034016Z
DESCRIPTION:9/25 KP Brno U20 - Lumík Kuřim 2:3 (22\,20\,-14\,-18\,-10)
DTSTART;TZID=Europe/Berlin:20241103T130000
DTEND;TZID=Europe/Berlin:20241103T150000
LOCATION:Sportovní gymnázium Ludvíka Daňka\, Botanická 63 Brno - Ponava
SUMMARY:JM-U20Z: KP Brno U20-Lumík Kuřim
END:VEVENT
BEGIN:VEVENT
UID:37323930-6538-4635-b963-363733356634
DTSTAMP:20260422T034016Z
DESCRIPTION:10/29 KP Brno U20 - Volejbalový klub Psycho Rosice 3:2 (-23\,23
 \,-22\,21\,13)
DTSTART;TZID=Europe/Berlin:20241124T090000
DTEND;TZID=Europe/Berlin:20241124T110000
LOCATION:Sportovní gymnázium Ludvíka Daňka\, Botanická 63 Brno - Ponava
SUMMARY:JM-U20Z: KP Brno U20-Volejbalový klub Psycho Rosice
END:VEVENT
BEGIN:VEVENT
UID:66626365-6632-4765-b534-303436316239
DTSTAMP:20260422T034016Z
DESCRIPTION:14/42 KP Brno U20 - TJ Sokol Jehnice 0:3 (-19\,-14\,-12)
DTSTART;TZID=Europe/Berlin:20241201T110000
DTEND;TZID=Europe/Berlin:20241201T130000
LOCATION:Sportovní gymnázium Ludvíka Daňka\, Botanická 63 Brno - Ponava
SUMMARY:JM-U20Z: KP Brno U20-TJ Sokol Jehnice
END:VEVENT
BEGIN:VEVENT
UID:39663963-6438-4166-b034-323730633163
DTSTAMP:20260422T034016Z
DESCRIPTION:16/48 KP Brno U20 - Orel jednota Pozořice 3:0 (23\,13\,17)
DTSTART;TZID=Europe/Berlin:20241208T090000
DTEND;TZID=Europe/Berlin:20241208T110000
LOCATION:Sportovní gymnázium Ludvíka Daňka\, Botanická 63 Brno - Ponava
SUMMARY:JM-U20Z: KP Brno U20-Orel jednota Pozořice
END:VEVENT
BEGIN:VEVENT
UID:62353962-3065-4436-a538-373038383430
DTSTAMP:20260422T034016Z
DESCRIPTION:20/58 KP Brno U20 - Lumík Kuřim 2:3 (18\,-21\,23\,-17\,-13)
DTSTART;TZID=Europe/Berlin:20250119T110000
DTEND;TZID=Europe/Berlin:20250119T130000
LOCATION:Sportovní gymnázium Ludvíka Daňka\, Botanická 63 Brno - Ponava
SUMMARY:JM-U20Z: KP Brno U20-Lumík Kuřim
END:VEVENT
BEGIN:VEVENT
UID:33383864-6236-4339-a361-313130343632
DTSTAMP:20260422T034016Z
DESCRIPTION:23/68 KP Brno U20 - Volejbalový klub Psycho Rosice 3:0 (10\,4\,
 14)
DTSTART;TZID=Europe/Berlin:20250126T110000
DTEND;TZID=Europe/Berlin:20250126T130000
LOCATION:Sportovní gymnázium Ludvíka Daňka\, Botanická 63 Brno - Ponava
SUMMARY:JM-U20Z: KP Brno U20-Volejbalový klub Psycho Rosice
END:VEVENT
BEGIN:VEVENT
UID:39353238-6365-4133-b666-326265356636
DTSTAMP:20260422T034016Z
DESCRIPTION:25/75 KP Brno U20 - TJ Sokol Jehnice 1:3 (-16\,-17\,20\,-19)
DTSTART;TZID=Europe/Berlin:20250202T090000
DTEND;TZID=Europe/Berlin:20250202T110000
LOCATION:Sportovní gymnázium Ludvíka Daňka\, Botanická 63 Brno - Ponava
SUMMARY:JM-U20Z: KP Brno U20-TJ Sokol Jehnice
END:VEVENT
BEGIN:VEVENT
UID:63376434-3337-4065-b631-643264396436
DTSTAMP:20260422T034016Z
DESCRIPTION:30/90 KP Brno U20 - Orel jednota Pozořice 3:1 (22\,16\,-18\,19)
DTSTART;TZID=Europe/Berlin:20250223T130000
DTEND;TZID=Europe/Berlin:20250223T150000
LOCATION:Sportovní gymnázium Ludvíka Daňka\, Botanická 63 Brno - Ponava
SUMMARY:JM-U20Z: KP Brno U20-Orel jednota Pozořice
END:VEVENT
BEGIN:VEVENT
UID:39313737-3264-4636-a439-633034323533
DTSTAMP:20260422T034016Z
DESCRIPTION:31/91 KP Brno U20 - Lumík Kuřim 3:1 (-23\,24\,19\,18)
DTSTART;TZID=Europe/Berlin:20250302T090000
DTEND;TZID=Europe/Berlin:20250302T110000
LOCATION:Sportovní gymnázium Ludvíka Daňka\, Botanická 63 Brno - Ponava
SUMMARY:JM-U20Z: KP Brno U20-Lumík Kuřim
END:VEVENT
BEGIN:VEVENT
UID:34313862-6464-4136-a134-663934303536
DTSTAMP:20260422T034016Z
DESCRIPTION:36/107 KP Brno U20 - Volejbalový klub Psycho Rosice 3:0 (13\,15
 \,16)
DTSTART;TZID=Europe/Berlin:20250330T130000
DTEND;TZID=Europe/Berlin:20250330T150000
LOCATION:Sportovní gymnázium Ludvíka Daňka\, Botanická 63 Brno - Ponava
SUMMARY:JM-U20Z: KP Brno U20-Volejbalový klub Psycho Rosice
END:VEVENT
BEGIN:VEVENT
UID:30663464-3733-4762-b836-616365346430
DTSTAMP:20260422T034016Z
DESCRIPTION:2/6 TJ Sokol Šlapanice - KP Brno U20 3:1 (18\,21\,-24\,14)
DTSTART;TZID=Europe/Berlin:20240922T110000
DTEND;TZID=Europe/Berlin:20240922T130000
LOCATION:Tělocvična ZŠ Šlapanice\, Masarykovo náměstí 1594 Šlapanice
SUMMARY:JM-U20Z: TJ Sokol Šlapanice-KP Brno U20
END:VEVENT
BEGIN:VEVENT
UID:63356234-6634-4464-a539-643737316165
DTSTAMP:20260422T034016Z
DESCRIPTION:4/12 TJ Sokol Hrušovany u Brna - KP Brno U20 1:3 (23\,-15\,-15\
 ,-17)
DTSTART;TZID=Europe/Berlin:20241013T090000
DTEND;TZID=Europe/Berlin:20241013T110000
LOCATION:Sportovní hala Hrušovany u Brna\, Jízdárenská 698 Hrušovany u Brna
SUMMARY:JM-U20Z: TJ Sokol Hrušovany u Brna-KP Brno U20
END:VEVENT
BEGIN:VEVENT
UID:37396431-3061-4133-a466-633261613339
DTSTAMP:20260422T034016Z
DESCRIPTION:8/22 TJ Agrotec Hustopeče z.s. - KP Brno U20 2:3 (16\,21\,-18\,
 -16\,-8)
DTSTART;TZID=Europe/Berlin:20241103T110000
DTEND;TZID=Europe/Berlin:20241103T130000
LOCATION:Městská sportovní hala\, Šafaříkova 1016 Hustopeče
SUMMARY:JM-U20Z: TJ Agrotec Hustopeče z.s.-KP Brno U20
END:VEVENT
BEGIN:VEVENT
UID:33333131-3965-4966-b332-363862313462
DTSTAMP:20260422T034016Z
DESCRIPTION:12/35 TJ JUNIOR Brno - U20 - KP Brno U20 3:0 (13\,6\,17)
DTSTART;TZID=Europe/Berlin:20241124T130000
DTEND;TZID=Europe/Berlin:20241124T150000
LOCATION:ZŠ Holzova 1\, Holzova 1461 Brno - Líšeň
SUMMARY:JM-U20Z: TJ JUNIOR Brno - U20-KP Brno U20
END:VEVENT
BEGIN:VEVENT
UID:36323334-3964-4637-b530-393637313630
DTSTAMP:20260422T034016Z
DESCRIPTION:13/39 TJ Sokol Šlapanice - KP Brno U20 2:3 (10\,-22\,-20\,20\,-
 12)
DTSTART;TZID=Europe/Berlin:20241201T090000
DTEND;TZID=Europe/Berlin:20241201T110000
LOCATION:Tělocvična ZŠ Šlapanice\, Masarykovo náměstí 1594 Šlapanice
SUMMARY:JM-U20Z: TJ Sokol Šlapanice-KP Brno U20
END:VEVENT
BEGIN:VEVENT
UID:36346562-3830-4866-a535-353832653437
DTSTAMP:20260422T034016Z
DESCRIPTION:18/54 TJ Sokol Hrušovany u Brna - KP Brno U20 0:3 (-15\,-11\,-1
 8)
DTSTART;TZID=Europe/Berlin:20241208T130000
DTEND;TZID=Europe/Berlin:20241208T150000
LOCATION:Sportovní hala Hrušovany u Brna\, Jízdárenská 698 Hrušovany u Brna
SUMMARY:JM-U20Z: TJ Sokol Hrušovany u Brna-KP Brno U20
END:VEVENT
BEGIN:VEVENT
UID:38306638-3135-4838-a137-663936333536
DTSTAMP:20260422T034016Z
DESCRIPTION:19/55 TJ Agrotec Hustopeče z.s. - KP Brno U20 3:0 (20\,19\,20)
DTSTART;TZID=Europe/Berlin:20250119T090000
DTEND;TZID=Europe/Berlin:20250119T110000
LOCATION:Městská sportovní hala\, Šafaříkova 1016 Hustopeče
SUMMARY:JM-U20Z: TJ Agrotec Hustopeče z.s.-KP Brno U20
END:VEVENT
BEGIN:VEVENT
UID:32336633-3637-4365-b736-646430363037
DTSTAMP:20260422T034016Z
DESCRIPTION:22/65 TJ JUNIOR Brno - U20 - KP Brno U20 3:1 (10\,-22\,16\,20)
DTSTART;TZID=Europe/Berlin:20250126T090000
DTEND;TZID=Europe/Berlin:20250126T110000
LOCATION:ZŠ Holzova 1\, Holzova 1461 Brno - Líšeň
SUMMARY:JM-U20Z: TJ JUNIOR Brno - U20-KP Brno U20
END:VEVENT
BEGIN:VEVENT
UID:30393537-3765-4039-b130-353736346666
DTSTAMP:20260422T034016Z
DESCRIPTION:27/81 TJ Sokol Šlapanice - KP Brno U20 0:3 (-20\,-11\,-23)
DTSTART;TZID=Europe/Berlin:20250202T130000
DTEND;TZID=Europe/Berlin:20250202T150000
LOCATION:Tělocvična ZŠ Šlapanice\, Masarykovo náměstí 1594 Šlapanice
SUMMARY:JM-U20Z: TJ Sokol Šlapanice-KP Brno U20
END:VEVENT
BEGIN:VEVENT
UID:62376466-3039-4330-a364-333365383136
DTSTAMP:20260422T034016Z
DESCRIPTION:29/87 TJ Sokol Hrušovany u Brna - KP Brno U20 0:3 (-16\,-20\,-2
 2)
DTSTART;TZID=Europe/Berlin:20250223T110000
DTEND;TZID=Europe/Berlin:20250223T130000
LOCATION:Sportovní hala Hrušovany u Brna\, Jízdárenská 698 Hrušovany u Brna
SUMMARY:JM-U20Z: TJ Sokol Hrušovany u Brna-KP Brno U20
END:VEVENT
BEGIN:VEVENT
UID:66666232-6461-4139-b064-316534633434
DTSTAMP:20260422T034016Z
DESCRIPTION:33/97 TJ Agrotec Hustopeče z.s. - KP Brno U20 3:2 (15\,-16\,-15
 \,26\,11)
DTSTART;TZID=Europe/Berlin:20250302T130000
DTEND;TZID=Europe/Berlin:20250302T150000
LOCATION:Městská sportovní hala\, Šafaříkova 1016 Hustopeče
SUMMARY:JM-U20Z: TJ Agrotec Hustopeče z.s.-KP Brno U20
END:VEVENT
BEGIN:VEVENT
UID:37376336-6631-4538-b939-663166383235
DTSTAMP:20260422T034016Z
DESCRIPTION:35/104 TJ JUNIOR Brno - U20 - KP Brno U20 3:0 (22\,10\,18)
DTSTART;TZID=Europe/Berlin:20250330T110000
DTEND;TZID=Europe/Berlin:20250330T130000
LOCATION:ZŠ Holzova 1\, Holzova 1461 Brno - Líšeň
SUMMARY:JM-U20Z: TJ JUNIOR Brno - U20-KP Brno U20
END:VEVENT
END:VCALENDAR
