BEGIN:VCALENDAR
VERSION:2.0
PRODID:-//Tělocvičná jednota Sokol Hrotovice87323//NONSGML kigkonsult.se iCalcreator 2.41.80//
CALSCALE:GREGORIAN
UID:64356638-3264-4531-a536-663637373430
BEGIN:VEVENT
UID:63623863-3135-4164-b731-643935303633
DTSTAMP:20260422T164809Z
DESCRIPTION:1/2 Tělocvičná jednota Sokol Hrotovice - Havlíčkův Brod 0:1 (-0
 )
DTSTART;TZID=Europe/Berlin:20240915T090000
DTEND;TZID=Europe/Berlin:20240915T110000
LOCATION:Sportovní hala ZŠ Hrotovice\, F. B. Zvěřiny 221 Hrotovice
SUMMARY:PA-U16M-KV-III: Tělocvičná jednota Sokol Hrotovice-Havlíčkův Brod
END:VEVENT
BEGIN:VEVENT
UID:30643234-3639-4439-a137-363130613838
DTSTAMP:20260422T164809Z
DESCRIPTION:1/5 Tělocvičná jednota Sokol Hrotovice - Velké Meziříčí 0:1 (-0
 )
DTSTART;TZID=Europe/Berlin:20240915T110000
DTEND;TZID=Europe/Berlin:20240915T130000
LOCATION:Sportovní hala ZŠ Hrotovice\, F. B. Zvěřiny 221 Hrotovice
SUMMARY:PA-U16M-KV-III: Tělocvičná jednota Sokol Hrotovice-Velké Meziříčí
END:VEVENT
BEGIN:VEVENT
UID:66663165-3135-4061-a232-623539666332
DTSTAMP:20260422T164809Z
DESCRIPTION:1/3 Tělovýchovná jednota Jiskra Havlíčkův Brod z.s.   'A' - Těl
 ocvičná jednota Sokol Hrotovice 1:0 (0)
DTSTART;TZID=Europe/Berlin:20240915T100000
DTEND;TZID=Europe/Berlin:20240915T120000
LOCATION:Sportovní hala TJ Jiskra\, Ledečská 3028 Havlíčkův Brod
SUMMARY:PA-U16M-KV-III: Tělovýchovná jednota Jiskra Havlíčkův Brod z.s.   '
 A'-Tělocvičná jednota Sokol Hrotovice
END:VEVENT
BEGIN:VEVENT
UID:38656163-3433-4533-b362-613931393831
DTSTAMP:20260422T164809Z
DESCRIPTION:1/8 Školní sportovní klub Demlova Jihlava\, z.s. - Tělocvičná j
 ednota Sokol Hrotovice 1:0 (0)
DTSTART;TZID=Europe/Berlin:20240915T120000
DTEND;TZID=Europe/Berlin:20240915T140000
LOCATION:ZŠ Jihlava Demlova\, Demlova 4178 Jihlava
SUMMARY:PA-U16M-KV-III: Školní sportovní klub Demlova Jihlava\, z.s.-Tělocv
 ičná jednota Sokol Hrotovice
END:VEVENT
BEGIN:VEVENT
UID:66386434-6337-4964-b838-313665633663
DTSTAMP:20260422T164809Z
DESCRIPTION:1/1 Tělocvičná jednota Sokol Hrotovice - Sokol Pardubice I. 0:2
  (-22\,-21)
DTSTART;TZID=Europe/Berlin:20241006T090000
DTEND;TZID=Europe/Berlin:20241006T110000
LOCATION:Sportovní hala ZŠ Hrotovice\, F. B. Zvěřiny 221 Hrotovice
SUMMARY:PA-U16M-1D: Tělocvičná jednota Sokol Hrotovice-Sokol Pardubice I.
END:VEVENT
BEGIN:VEVENT
UID:39316363-3961-4339-a337-393631643030
DTSTAMP:20260422T164809Z
DESCRIPTION:1/4 Tělocvičná jednota Sokol Hrotovice - Sokol Kerhartice 2:0 (
 10\,14)
DTSTART;TZID=Europe/Berlin:20241006T120000
DTEND;TZID=Europe/Berlin:20241006T140000
LOCATION:Sportovní hala ZŠ Hrotovice\, F. B. Zvěřiny 221 Hrotovice
SUMMARY:PA-U16M-1D: Tělocvičná jednota Sokol Hrotovice-Sokol Kerhartice
END:VEVENT
BEGIN:VEVENT
UID:32306133-6334-4432-b964-383261366562
DTSTAMP:20260422T164809Z
DESCRIPTION:1/6 Tělocvičná jednota Sokol Hrotovice - Sokol Česká Třebová 2:
 0 (13\,18)
DTSTART;TZID=Europe/Berlin:20241006T140000
DTEND;TZID=Europe/Berlin:20241006T160000
LOCATION:Sportovní hala ZŠ Hrotovice\, F. B. Zvěřiny 221 Hrotovice
SUMMARY:PA-U16M-1D: Tělocvičná jednota Sokol Hrotovice-Sokol Česká Třebová
END:VEVENT
BEGIN:VEVENT
UID:63316330-3639-4061-b635-656366313131
DTSTAMP:20260422T164809Z
DESCRIPTION:1/2 Tělocvičná jednota Sokol Hrotovice - Havlíčkův Brod
DTSTART;TZID=Europe/Berlin:20241027T100000
DTEND;TZID=Europe/Berlin:20241027T120000
LOCATION:Sportovní hala ZŠ Hrotovice\, F. B. Zvěřiny 221 Hrotovice
SUMMARY:PA-U16M-2D: Tělocvičná jednota Sokol Hrotovice-Havlíčkův Brod
END:VEVENT
BEGIN:VEVENT
UID:30643865-3166-4363-b762-653835613438
DTSTAMP:20260422T164809Z
DESCRIPTION:1/5 Tělocvičná jednota Sokol Hrotovice - Sokol Česká Třebová
DTSTART;TZID=Europe/Berlin:20241027T130000
DTEND;TZID=Europe/Berlin:20241027T150000
LOCATION:Sportovní hala ZŠ Hrotovice\, F. B. Zvěřiny 221 Hrotovice
SUMMARY:PA-U16M-2D: Tělocvičná jednota Sokol Hrotovice-Sokol Česká Třebová
END:VEVENT
BEGIN:VEVENT
UID:30373432-3938-4139-a261-326436396664
DTSTAMP:20260422T164809Z
DESCRIPTION:1/4 Sokol Kerhartice - Tělocvičná jednota Sokol Hrotovice
DTSTART;TZID=Europe/Berlin:20241027T120000
DTEND;TZID=Europe/Berlin:20241027T140000
LOCATION:Sokolovna Kerhartice \, Sokolská 120 Ústí nad Orlicí - Kerhartice
SUMMARY:PA-U16M-2D: Sokol Kerhartice-Tělocvičná jednota Sokol Hrotovice
END:VEVENT
BEGIN:VEVENT
UID:65306433-3262-4966-b464-656138356430
DTSTAMP:20260422T164809Z
DESCRIPTION:1/2 Sokol Česká Třebová - Tělocvičná jednota Sokol Hrotovice 0:
 2 (-18\,-21)
DTSTART;TZID=Europe/Berlin:20241124T090000
DTEND;TZID=Europe/Berlin:20241124T110000
LOCATION:Základní škola Česká Třebová Habrmanova\, Na Skále\, Na Skále 566 
 Česká Třebová
SUMMARY:PA-U16M-3D: Sokol Česká Třebová-Tělocvičná jednota Sokol Hrotovice
END:VEVENT
BEGIN:VEVENT
UID:34633538-6265-4234-b336-643662653464
DTSTAMP:20260422T164809Z
DESCRIPTION:1/3 Školní sportovní klub Demlova Jihlava\, z.s. - Tělocvičná j
 ednota Sokol Hrotovice 2:0 (12\,20)
DTSTART;TZID=Europe/Berlin:20241124T100000
DTEND;TZID=Europe/Berlin:20241124T120000
LOCATION:ZŠ Jihlava Demlova\, Demlova 4178 Jihlava
SUMMARY:PA-U16M-3D: Školní sportovní klub Demlova Jihlava\, z.s.-Tělocvičná
  jednota Sokol Hrotovice
END:VEVENT
BEGIN:VEVENT
UID:37366666-3462-4131-b039-613864386566
DTSTAMP:20260422T164809Z
DESCRIPTION:1/6 Havlíčkův Brod - Tělocvičná jednota Sokol Hrotovice 2:0 (25
 \,17)
DTSTART;TZID=Europe/Berlin:20241124T110000
DTEND;TZID=Europe/Berlin:20241124T130000
LOCATION:Sportovní hala TJ Jiskra\, Ledečská 3028 Havlíčkův Brod
SUMMARY:PA-U16M-3D: Havlíčkův Brod-Tělocvičná jednota Sokol Hrotovice
END:VEVENT
BEGIN:VEVENT
UID:35326634-6265-4565-b064-386438383238
DTSTAMP:20260422T164809Z
DESCRIPTION:1/2 Tělocvičná jednota Sokol Hrotovice - Havlíčkův Brod 0:2 (-2
 3\,-20)
DTSTART;TZID=Europe/Berlin:20250112T100000
DTEND;TZID=Europe/Berlin:20250112T120000
LOCATION:Sportovní hala ZŠ Hrotovice\, F. B. Zvěřiny 221 Hrotovice
SUMMARY:PA-U16M-4D: Tělocvičná jednota Sokol Hrotovice-Havlíčkův Brod
END:VEVENT
BEGIN:VEVENT
UID:32373636-3435-4431-b661-626463393266
DTSTAMP:20260422T164809Z
DESCRIPTION:1/5 Tělocvičná jednota Sokol Hrotovice - Sokol Kerhartice 0:2 (
 -17\,-20)
DTSTART;TZID=Europe/Berlin:20250112T130000
DTEND;TZID=Europe/Berlin:20250112T150000
LOCATION:Sportovní hala ZŠ Hrotovice\, F. B. Zvěřiny 221 Hrotovice
SUMMARY:PA-U16M-4D: Tělocvičná jednota Sokol Hrotovice-Sokol Kerhartice
END:VEVENT
BEGIN:VEVENT
UID:64653332-6632-4333-b639-633965366135
DTSTAMP:20260422T164809Z
DESCRIPTION:1/4 Sokol Česká Třebová - Tělocvičná jednota Sokol Hrotovice 0:
 2 (-10\,-18)
DTSTART;TZID=Europe/Berlin:20250112T120000
DTEND;TZID=Europe/Berlin:20250112T140000
LOCATION:Základní škola Česká Třebová Habrmanova\, Na Skále\, Na Skále 566 
 Česká Třebová
SUMMARY:PA-U16M-4D: Sokol Česká Třebová-Tělocvičná jednota Sokol Hrotovice
END:VEVENT
BEGIN:VEVENT
UID:38396433-6532-4462-a331-353262633064
DTSTAMP:20260422T164809Z
DESCRIPTION:1/1 Tělocvičná jednota Sokol Hrotovice - Školní sportovní klub 
 Demlova Jihlava\, z.s. 2:1 (20\,-22\,10)
DTSTART;TZID=Europe/Berlin:20250223T090000
DTEND;TZID=Europe/Berlin:20250223T110000
LOCATION:Sportovní hala ZŠ Hrotovice\, F. B. Zvěřiny 221 Hrotovice
SUMMARY:PA-U16M-5D: Tělocvičná jednota Sokol Hrotovice-Školní sportovní klu
 b Demlova Jihlava\, z.s.
END:VEVENT
BEGIN:VEVENT
UID:36393463-3738-4562-b336-613562373664
DTSTAMP:20260422T164809Z
DESCRIPTION:1/4 Tělocvičná jednota Sokol Hrotovice - Sokol Česká Třebová 1:
 0 (0)
DTSTART;TZID=Europe/Berlin:20250223T120000
DTEND;TZID=Europe/Berlin:20250223T140000
LOCATION:Sportovní hala ZŠ Hrotovice\, F. B. Zvěřiny 221 Hrotovice
SUMMARY:PA-U16M-5D: Tělocvičná jednota Sokol Hrotovice-Sokol Česká Třebová
END:VEVENT
BEGIN:VEVENT
UID:64633465-3161-4662-a265-663666636564
DTSTAMP:20260422T164809Z
DESCRIPTION:1/6 Tělocvičná jednota Sokol Hrotovice - Sokol Kerhartice 2:0 (
 9\,13)
DTSTART;TZID=Europe/Berlin:20250223T140000
DTEND;TZID=Europe/Berlin:20250223T160000
LOCATION:Sportovní hala ZŠ Hrotovice\, F. B. Zvěřiny 221 Hrotovice
SUMMARY:PA-U16M-5D: Tělocvičná jednota Sokol Hrotovice-Sokol Kerhartice
END:VEVENT
BEGIN:VEVENT
UID:39383538-3732-4363-b664-353130373463
DTSTAMP:20260422T164809Z
DESCRIPTION:1/3 Tělocvičná jednota Sokol Hrotovice - VK Choceň 0:2 (-8\,-16
 )
DTSTART;TZID=Europe/Berlin:20250330T103000
DTEND;TZID=Europe/Berlin:20250330T123000
LOCATION:Sportovní hala ZŠ Hrotovice\, F. B. Zvěřiny 221 Hrotovice
SUMMARY:PA-U16M-6C: Tělocvičná jednota Sokol Hrotovice-VK Choceň
END:VEVENT
BEGIN:VEVENT
UID:31643830-3666-4431-a264-656461623837
DTSTAMP:20260422T164809Z
DESCRIPTION:1/1 TJ Svitavy B - Tělocvičná jednota Sokol Hrotovice 2:0 (15\,
 6)
DTSTART;TZID=Europe/Berlin:20250330T093000
DTEND;TZID=Europe/Berlin:20250330T113000
LOCATION:Sportovní hala Na Střelnici\, Pražská 2162 Svitavy - Předměstí
SUMMARY:PA-U16M-6C: TJ Svitavy B-Tělocvičná jednota Sokol Hrotovice
END:VEVENT
BEGIN:VEVENT
UID:65303366-6436-4561-a531-376462303134
DTSTAMP:20260422T164809Z
DESCRIPTION:1/5 Sokol Pardubice I. - Tělocvičná jednota Sokol Hrotovice 2:0
  (21\,13)
DTSTART;TZID=Europe/Berlin:20250330T113000
DTEND;TZID=Europe/Berlin:20250330T133000
LOCATION:Sokolovna\, Jiráskova 29 Pardubice - Zelené Předměstí
SUMMARY:PA-U16M-6C: Sokol Pardubice I.-Tělocvičná jednota Sokol Hrotovice
END:VEVENT
BEGIN:VEVENT
UID:64616330-3863-4666-a234-303130653166
DTSTAMP:20260422T164809Z
DESCRIPTION:1/3 Tělocvičná jednota Sokol Hrotovice - Sokol Česká Třebová 2:
 0 (12\,17)
DTSTART;TZID=Europe/Berlin:20250405T100000
DTEND;TZID=Europe/Berlin:20250405T120000
LOCATION:Sportovní hala ZŠ Hrotovice\, F. B. Zvěřiny 221 Hrotovice
SUMMARY:PA-U16M-7D: Tělocvičná jednota Sokol Hrotovice-Sokol Česká Třebová
END:VEVENT
BEGIN:VEVENT
UID:66623963-3565-4739-a137-663063376464
DTSTAMP:20260422T164809Z
DESCRIPTION:1/1 Havlíčkův Brod - Tělocvičná jednota Sokol Hrotovice 1:2 (-2
 4\,11\,-11)
DTSTART;TZID=Europe/Berlin:20250405T090000
DTEND;TZID=Europe/Berlin:20250405T110000
LOCATION:Sportovní hala TJ Jiskra\, Ledečská 3028 Havlíčkův Brod
SUMMARY:PA-U16M-7D: Havlíčkův Brod-Tělocvičná jednota Sokol Hrotovice
END:VEVENT
BEGIN:VEVENT
UID:65333632-6664-4963-b334-353936633739
DTSTAMP:20260422T164809Z
DESCRIPTION:1/5 Sokol Kerhartice - Tělocvičná jednota Sokol Hrotovice 2:0 (
 24\,23)
DTSTART;TZID=Europe/Berlin:20250405T120000
DTEND;TZID=Europe/Berlin:20250405T140000
LOCATION:Sokolovna Kerhartice \, Sokolská 120 Ústí nad Orlicí - Kerhartice
SUMMARY:PA-U16M-7D: Sokol Kerhartice-Tělocvičná jednota Sokol Hrotovice
END:VEVENT
END:VCALENDAR
