BEGIN:VCALENDAR
VERSION:2.0
PRODID:-//Volejbal Ústí nad Labem, z.s.87340//NONSGML kigkonsult.se iCalcreator 2.41.80//
CALSCALE:GREGORIAN
UID:64383730-3638-4136-a461-343738393232
BEGIN:VEVENT
UID:38333631-3161-4539-a535-366338373965
DTSTAMP:20260423T042846Z
DESCRIPTION:3/7 Volejbal Ústí nad Labem\, z.s. - Volejbalový klub Realistic
  Karlovy Vary z.s. 'B' 3:0 (10\,24\,7)
DTSTART;TZID=Europe/Berlin:20241123T100000
DTEND;TZID=Europe/Berlin:20241123T120000
LOCATION:Tělocvična Gymnázia a Střední odborné školy dr. Václava Šmejkala\,
  Stará 3299 Ústí nad Labem - Severní Terasa
SUMMARY:US-Z-1: Volejbal Ústí nad Labem\, z.s.-Volejbalový klub Realistic K
 arlovy Vary z.s. 'B'
END:VEVENT
BEGIN:VEVENT
UID:64613365-6438-4535-a335-366537346538
DTSTAMP:20260423T042846Z
DESCRIPTION:4/10 Volejbal Ústí nad Labem\, z.s. - Volejbalový klub Realisti
 c Karlovy Vary z.s. 'B' 3:0 (22\,18\,15)
DTSTART;TZID=Europe/Berlin:20241123T140000
DTEND;TZID=Europe/Berlin:20241123T160000
LOCATION:Tělocvična Gymnázia a Střední odborné školy dr. Václava Šmejkala\,
  Stará 3299 Ústí nad Labem - Severní Terasa
SUMMARY:US-Z-1: Volejbal Ústí nad Labem\, z.s.-Volejbalový klub Realistic K
 arlovy Vary z.s. 'B'
END:VEVENT
BEGIN:VEVENT
UID:33386161-6638-4464-b139-646238646365
DTSTAMP:20260423T042846Z
DESCRIPTION:9/26 Volejbal Ústí nad Labem\, z.s. - Litoměřice 1:3 (-17\,-21\
 ,22\,-15)
DTSTART;TZID=Europe/Berlin:20250222T100000
DTEND;TZID=Europe/Berlin:20250222T120000
LOCATION:Tělocvična Gymnázia a Střední odborné školy dr. Václava Šmejkala\,
  Stará 3299 Ústí nad Labem - Severní Terasa
SUMMARY:US-Z-1: Volejbal Ústí nad Labem\, z.s.-Litoměřice
END:VEVENT
BEGIN:VEVENT
UID:65663763-3834-4265-b730-623736653039
DTSTAMP:20260423T042846Z
DESCRIPTION:10/29 Volejbal Ústí nad Labem\, z.s. - Litoměřice 0:3 (-23\,-23
 \,-18)
DTSTART;TZID=Europe/Berlin:20250222T140000
DTEND;TZID=Europe/Berlin:20250222T160000
LOCATION:Tělocvična Gymnázia a Střední odborné školy dr. Václava Šmejkala\,
  Stará 3299 Ústí nad Labem - Severní Terasa
SUMMARY:US-Z-1: Volejbal Ústí nad Labem\, z.s.-Litoměřice
END:VEVENT
BEGIN:VEVENT
UID:61653864-6463-4939-b465-616338623635
DTSTAMP:20260423T042846Z
DESCRIPTION:11/33 Volejbal Ústí nad Labem\, z.s. - VK Sever Žatec\, z.s. 2:
 3 (-19\,-14\,19\,25\,-13)
DTSTART;TZID=Europe/Berlin:20241207T100000
DTEND;TZID=Europe/Berlin:20241207T120000
LOCATION:Tělocvična Gymnázia a Střední odborné školy dr. Václava Šmejkala\,
  Stará 3299 Ústí nad Labem - Severní Terasa
SUMMARY:US-Z-1: Volejbal Ústí nad Labem\, z.s.-VK Sever Žatec\, z.s.
END:VEVENT
BEGIN:VEVENT
UID:32663837-3866-4431-a236-323062616236
DTSTAMP:20260423T042846Z
DESCRIPTION:12/36 Volejbal Ústí nad Labem\, z.s. - VK Sever Žatec\, z.s. 1:
 3 (22\,-21\,-24\,-20)
DTSTART;TZID=Europe/Berlin:20241207T140000
DTEND;TZID=Europe/Berlin:20241207T160000
LOCATION:Tělocvična Gymnázia a Střední odborné školy dr. Václava Šmejkala\,
  Stará 3299 Ústí nad Labem - Severní Terasa
SUMMARY:US-Z-1: Volejbal Ústí nad Labem\, z.s.-VK Sever Žatec\, z.s.
END:VEVENT
BEGIN:VEVENT
UID:32343061-3364-4238-a262-363339393063
DTSTAMP:20260423T042846Z
DESCRIPTION:13/37 Volejbal Ústí nad Labem\, z.s. - Volejbalový klub Realist
 ic Karlovy Vary z.s. 'B' 3:2 (-24\,17\,-26\,20\,10)
DTSTART;TZID=Europe/Berlin:20250125T100000
DTEND;TZID=Europe/Berlin:20250125T120000
LOCATION:Tělocvična Gymnázia a Střední odborné školy dr. Václava Šmejkala\,
  Stará 3299 Ústí nad Labem - Severní Terasa
SUMMARY:US-Z-1: Volejbal Ústí nad Labem\, z.s.-Volejbalový klub Realistic K
 arlovy Vary z.s. 'B'
END:VEVENT
BEGIN:VEVENT
UID:63353062-6465-4463-b165-616263363263
DTSTAMP:20260423T042846Z
DESCRIPTION:14/40 Volejbal Ústí nad Labem\, z.s. - Volejbalový klub Realist
 ic Karlovy Vary z.s. 'B' 3:0 (19\,24\,21)
DTSTART;TZID=Europe/Berlin:20250125T140000
DTEND;TZID=Europe/Berlin:20250125T160000
LOCATION:Tělocvična Gymnázia a Střední odborné školy dr. Václava Šmejkala\,
  Stará 3299 Ústí nad Labem - Severní Terasa
SUMMARY:US-Z-1: Volejbal Ústí nad Labem\, z.s.-Volejbalový klub Realistic K
 arlovy Vary z.s. 'B'
END:VEVENT
BEGIN:VEVENT
UID:65316366-3337-4361-a330-336537333965
DTSTAMP:20260423T042846Z
DESCRIPTION:15/45 Volejbal Ústí nad Labem\, z.s. - VTK Čížkovice\, z.s. 3:0
  (20\,10\,23)
DTSTART;TZID=Europe/Berlin:20250201T100000
DTEND;TZID=Europe/Berlin:20250201T120000
LOCATION:Tělocvična Gymnázia a Střední odborné školy dr. Václava Šmejkala\,
  Stará 3299 Ústí nad Labem - Severní Terasa
SUMMARY:US-Z-1: Volejbal Ústí nad Labem\, z.s.-VTK Čížkovice\, z.s.
END:VEVENT
BEGIN:VEVENT
UID:30353430-6430-4236-b765-396461656165
DTSTAMP:20260423T042846Z
DESCRIPTION:16/48 Volejbal Ústí nad Labem\, z.s. - VTK Čížkovice\, z.s. 3:2
  (10\,-23\,-19\,11\,12)
DTSTART;TZID=Europe/Berlin:20250201T140000
DTEND;TZID=Europe/Berlin:20250201T160000
LOCATION:Tělocvična Gymnázia a Střední odborné školy dr. Václava Šmejkala\,
  Stará 3299 Ústí nad Labem - Severní Terasa
SUMMARY:US-Z-1: Volejbal Ústí nad Labem\, z.s.-VTK Čížkovice\, z.s.
END:VEVENT
BEGIN:VEVENT
UID:64313866-3962-4131-b666-363130666162
DTSTAMP:20260423T042846Z
DESCRIPTION:17/50 Volejbal Ústí nad Labem\, z.s. - ASK Lovosice z.s. 3:2 (-
 19\,17\,23\,-21\,7)
DTSTART;TZID=Europe/Berlin:20250301T100000
DTEND;TZID=Europe/Berlin:20250301T120000
LOCATION:Tělocvična Gymnázia a Střední odborné školy dr. Václava Šmejkala\,
  Stará 3299 Ústí nad Labem - Severní Terasa
SUMMARY:US-Z-1: Volejbal Ústí nad Labem\, z.s.-ASK Lovosice z.s.
END:VEVENT
BEGIN:VEVENT
UID:31303463-3662-4766-b163-623461646661
DTSTAMP:20260423T042846Z
DESCRIPTION:18/53 Volejbal Ústí nad Labem\, z.s. - ASK Lovosice z.s. 3:2 (-
 20\,-19\,23\,24\,9)
DTSTART;TZID=Europe/Berlin:20250301T140000
DTEND;TZID=Europe/Berlin:20250301T160000
LOCATION:Tělocvična Gymnázia a Střední odborné školy dr. Václava Šmejkala\,
  Stará 3299 Ústí nad Labem - Severní Terasa
SUMMARY:US-Z-1: Volejbal Ústí nad Labem\, z.s.-ASK Lovosice z.s.
END:VEVENT
BEGIN:VEVENT
UID:62396531-6436-4432-a336-653565343937
DTSTAMP:20260423T042846Z
DESCRIPTION:1/3 VK Sever Žatec\, z.s. - Volejbal Ústí nad Labem\, z.s. 3:0 
 (13\,10\,23)
DTSTART;TZID=Europe/Berlin:20250315T100000
DTEND;TZID=Europe/Berlin:20250315T120000
LOCATION:Sportovní hala TJ Sever Žatec\, Plzeňská 2787 Žatec
SUMMARY:US-Z-1: VK Sever Žatec\, z.s.-Volejbal Ústí nad Labem\, z.s.
END:VEVENT
BEGIN:VEVENT
UID:36646264-3236-4932-a435-303931663136
DTSTAMP:20260423T042846Z
DESCRIPTION:2/6 VK Sever Žatec\, z.s. - Volejbal Ústí nad Labem\, z.s. 3:0 
 (20\,15\,13)
DTSTART;TZID=Europe/Berlin:20250315T140000
DTEND;TZID=Europe/Berlin:20250315T160000
LOCATION:Sportovní hala TJ Sever Žatec\, Plzeňská 2787 Žatec
SUMMARY:US-Z-1: VK Sever Žatec\, z.s.-Volejbal Ústí nad Labem\, z.s.
END:VEVENT
BEGIN:VEVENT
UID:62356539-6564-4963-b562-313839663132
DTSTAMP:20260423T042846Z
DESCRIPTION:5/15 VTK Čížkovice\, z.s. - Volejbal Ústí nad Labem\, z.s. 1:3 
 (21\,-19\,-20\,-19)
DTSTART;TZID=Europe/Berlin:20241102T100000
DTEND;TZID=Europe/Berlin:20241102T120000
LOCATION:Hala při ZŠ Benešova 65\, Čížkovice
SUMMARY:US-Z-1: VTK Čížkovice\, z.s.-Volejbal Ústí nad Labem\, z.s.
END:VEVENT
BEGIN:VEVENT
UID:33323565-6138-4135-b766-663137373761
DTSTAMP:20260423T042846Z
DESCRIPTION:6/18 VTK Čížkovice\, z.s. - Volejbal Ústí nad Labem\, z.s. 0:3 
 (-14\,-6\,-26)
DTSTART;TZID=Europe/Berlin:20241102T140000
DTEND;TZID=Europe/Berlin:20241102T160000
LOCATION:Hala při ZŠ Benešova 65\, Čížkovice
SUMMARY:US-Z-1: VTK Čížkovice\, z.s.-Volejbal Ústí nad Labem\, z.s.
END:VEVENT
BEGIN:VEVENT
UID:39636666-3764-4339-b134-656466663366
DTSTAMP:20260423T042846Z
DESCRIPTION:7/20 ASK Lovosice z.s. - Volejbal Ústí nad Labem\, z.s. 3:2 (-1
 6\,22\,-17\,21\,11)
DTSTART;TZID=Europe/Berlin:20241116T123000
DTEND;TZID=Europe/Berlin:20241116T143000
LOCATION:hala U přívozu U Stadionu 1022/2\, 410 02 Lovosice
SUMMARY:US-Z-1: ASK Lovosice z.s.-Volejbal Ústí nad Labem\, z.s.
END:VEVENT
BEGIN:VEVENT
UID:37336433-3565-4530-b638-376130383838
DTSTAMP:20260423T042846Z
DESCRIPTION:8/23 ASK Lovosice z.s. - Volejbal Ústí nad Labem\, z.s. 2:3 (-2
 4\,16\,21\,-26\,-11)
DTSTART;TZID=Europe/Berlin:20241116T153000
DTEND;TZID=Europe/Berlin:20241116T173000
LOCATION:hala U přívozu U Stadionu 1022/2\, 410 02 Lovosice
SUMMARY:US-Z-1: ASK Lovosice z.s.-Volejbal Ústí nad Labem\, z.s.
END:VEVENT
BEGIN:VEVENT
UID:62316538-6533-4163-b539-653864363430
DTSTAMP:20260423T042846Z
DESCRIPTION:19/56 Litoměřice - Volejbal Ústí nad Labem\, z.s. 0:3 (-22\,-21
 \,-21)
DTSTART;TZID=Europe/Berlin:20250322T100000
DTEND;TZID=Europe/Berlin:20250322T120000
LOCATION:Sokol Litoměřice\, Osvobození 191 Litoměřice - Předměstí
SUMMARY:US-Z-1: Litoměřice-Volejbal Ústí nad Labem\, z.s.
END:VEVENT
BEGIN:VEVENT
UID:30613564-3237-4161-a161-626232336534
DTSTAMP:20260423T042846Z
DESCRIPTION:20/59 Litoměřice - Volejbal Ústí nad Labem\, z.s. 3:1 (18\,18\,
 -18\,24)
DTSTART;TZID=Europe/Berlin:20250322T140000
DTEND;TZID=Europe/Berlin:20250322T160000
LOCATION:Sokol Litoměřice\, Osvobození 191 Litoměřice - Předměstí
SUMMARY:US-Z-1: Litoměřice-Volejbal Ústí nad Labem\, z.s.
END:VEVENT
END:VCALENDAR
