BEGIN:VCALENDAR
VERSION:2.0
PRODID:-//VK Jirkov87346//NONSGML kigkonsult.se iCalcreator 2.41.80//
CALSCALE:GREGORIAN
UID:61353532-6334-4437-a363-633734336431
BEGIN:VEVENT
UID:62626364-3731-4362-b536-663561636462
DTSTAMP:20260423T035349Z
DESCRIPTION:1/2 Jirkov - Volejbalový klub Teplice z.s. 2:0 (15\,14)
DTSTART;TZID=Europe/Berlin:20240908T090000
DTEND;TZID=Europe/Berlin:20240908T110000
LOCATION:Sportovní hala MG a ZŠ Jirkov\, Krušnohorská 1675 Jirkov
SUMMARY:US-U20M: Jirkov-Volejbalový klub Teplice z.s.
END:VEVENT
BEGIN:VEVENT
UID:64333334-6265-4365-b438-363035336535
DTSTAMP:20260423T035349Z
DESCRIPTION:1/6 Jirkov - Volejbal Sokolov\, z.s. 2:1 (14\,-20\,14)
DTSTART;TZID=Europe/Berlin:20240908T090000
DTEND;TZID=Europe/Berlin:20240908T110000
LOCATION:Sportovní hala MG a ZŠ Jirkov\, Krušnohorská 1675 Jirkov
SUMMARY:US-U20M: Jirkov-Volejbal Sokolov\, z.s.
END:VEVENT
BEGIN:VEVENT
UID:38626566-3965-4139-b037-653131613762
DTSTAMP:20260423T035349Z
DESCRIPTION:2/15 Jirkov - SKV Ústí n.L 1:2 (-15\,17\,-9)
DTSTART;TZID=Europe/Berlin:20241110T090000
DTEND;TZID=Europe/Berlin:20241110T110000
LOCATION:Sportovní hala MG a ZŠ Jirkov\, Krušnohorská 1675 Jirkov
SUMMARY:US-U20M: Jirkov-SKV Ústí n.L
END:VEVENT
BEGIN:VEVENT
UID:33626266-3466-4831-b630-636563643835
DTSTAMP:20260423T035349Z
DESCRIPTION:2/18 Jirkov - Volejbalový klub Teplice z.s. 2:0 (17\,22)
DTSTART;TZID=Europe/Berlin:20241110T090000
DTEND;TZID=Europe/Berlin:20241110T110000
LOCATION:Sportovní hala MG a ZŠ Jirkov\, Krušnohorská 1675 Jirkov
SUMMARY:US-U20M: Jirkov-Volejbalový klub Teplice z.s.
END:VEVENT
BEGIN:VEVENT
UID:34383037-6335-4633-a665-366566343235
DTSTAMP:20260423T035349Z
DESCRIPTION:3/21 Jirkov - SKV Ústí n.L 2:0 (15\,14)
DTSTART;TZID=Europe/Berlin:20241208T090000
DTEND;TZID=Europe/Berlin:20241208T110000
LOCATION:Sportovní hala MG a ZŠ Jirkov\, Krušnohorská 1675 Jirkov
SUMMARY:US-U20M: Jirkov-SKV Ústí n.L
END:VEVENT
BEGIN:VEVENT
UID:61333336-6239-4864-b266-393237633330
DTSTAMP:20260423T035349Z
DESCRIPTION:3/23 Jirkov - Volejbal Sokolov\, z.s. 2:1 (23\,-18\,13)
DTSTART;TZID=Europe/Berlin:20241208T090000
DTEND;TZID=Europe/Berlin:20241208T110000
LOCATION:Sportovní hala MG a ZŠ Jirkov\, Krušnohorská 1675 Jirkov
SUMMARY:US-U20M: Jirkov-Volejbal Sokolov\, z.s.
END:VEVENT
BEGIN:VEVENT
UID:30643563-3031-4337-b036-313266353734
DTSTAMP:20260423T035349Z
DESCRIPTION:5/42 Jirkov - SKV Ústí n.L 2:0 (12\,17)
DTSTART;TZID=Europe/Berlin:20250216T090000
DTEND;TZID=Europe/Berlin:20250216T110000
LOCATION:Sportovní hala MG a ZŠ Jirkov\, Krušnohorská 1675 Jirkov
SUMMARY:US-U20M: Jirkov-SKV Ústí n.L
END:VEVENT
BEGIN:VEVENT
UID:39353062-3639-4334-a435-303862383832
DTSTAMP:20260423T035349Z
DESCRIPTION:5/46 Jirkov - VK Litvínov\, z.s. 2:0 (10\,7)
DTSTART;TZID=Europe/Berlin:20250216T090000
DTEND;TZID=Europe/Berlin:20250216T110000
LOCATION:Sportovní hala MG a ZŠ Jirkov\, Krušnohorská 1675 Jirkov
SUMMARY:US-U20M: Jirkov-VK Litvínov\, z.s.
END:VEVENT
BEGIN:VEVENT
UID:61653730-3061-4437-b031-376666303734
DTSTAMP:20260423T035349Z
DESCRIPTION:6/51 Jirkov - SKV Ústí n.L 2:0 (18\,15)
DTSTART;TZID=Europe/Berlin:20250330T090000
DTEND;TZID=Europe/Berlin:20250330T110000
LOCATION:Sportovní hala MG a ZŠ Jirkov\, Krušnohorská 1675 Jirkov
SUMMARY:US-U20M: Jirkov-SKV Ústí n.L
END:VEVENT
BEGIN:VEVENT
UID:61316536-3262-4263-b463-366464643863
DTSTAMP:20260423T035349Z
DESCRIPTION:6/57 Jirkov - Volejbalový klub Teplice z.s. 2:0 (12\,18)
DTSTART;TZID=Europe/Berlin:20250330T090000
DTEND;TZID=Europe/Berlin:20250330T110000
LOCATION:Sportovní hala MG a ZŠ Jirkov\, Krušnohorská 1675 Jirkov
SUMMARY:US-U20M: Jirkov-Volejbalový klub Teplice z.s.
END:VEVENT
BEGIN:VEVENT
UID:62353131-6135-4365-a634-343639346431
DTSTAMP:20260423T035349Z
DESCRIPTION:6/59 Jirkov - Volejbal Sokolov\, z.s. 2:0 (18\,14)
DTSTART;TZID=Europe/Berlin:20250330T090000
DTEND;TZID=Europe/Berlin:20250330T110000
LOCATION:Sportovní hala MG a ZŠ Jirkov\, Krušnohorská 1675 Jirkov
SUMMARY:US-U20M: Jirkov-Volejbal Sokolov\, z.s.
END:VEVENT
BEGIN:VEVENT
UID:63346237-3964-4133-b337-303732373834
DTSTAMP:20260423T035349Z
DESCRIPTION:1/4 Karlovarsko - Jirkov 2:0 (21\,25)
DTSTART;TZID=Europe/Berlin:20240908T090000
DTEND;TZID=Europe/Berlin:20240908T110000
LOCATION:Mattoni Arena Hala míčových sportů\, Západní 1812 Karlovy Vary
SUMMARY:US-U20M: Karlovarsko-Jirkov
END:VEVENT
BEGIN:VEVENT
UID:61356239-6663-4834-b166-363039316533
DTSTAMP:20260423T035349Z
DESCRIPTION:1/9 VK Litvínov\, z.s. - Jirkov 0:2 (-17\,-14)
DTSTART;TZID=Europe/Berlin:20240908T090000
DTEND;TZID=Europe/Berlin:20240908T110000
LOCATION:Sportovní hala Sportas\, U Koldomu 2049 Litvínov - Horní Litvínov
SUMMARY:US-U20M: VK Litvínov\, z.s.-Jirkov
END:VEVENT
BEGIN:VEVENT
UID:37663238-6461-4235-b664-363136326636
DTSTAMP:20260423T035349Z
DESCRIPTION:2/12 Karlovarsko - Jirkov 2:0 (16\,23)
DTSTART;TZID=Europe/Berlin:20241110T090000
DTEND;TZID=Europe/Berlin:20241110T110000
LOCATION:Mattoni Arena Hala míčových sportů\, Západní 1812 Karlovy Vary
SUMMARY:US-U20M: Karlovarsko-Jirkov
END:VEVENT
BEGIN:VEVENT
UID:63336135-6165-4231-a134-353064663463
DTSTAMP:20260423T035349Z
DESCRIPTION:2/20 VK Litvínov\, z.s. - Jirkov 0:2 (-14\,-15)
DTSTART;TZID=Europe/Berlin:20241110T090000
DTEND;TZID=Europe/Berlin:20241110T110000
LOCATION:Sportovní hala Sportas\, U Koldomu 2049 Litvínov - Horní Litvínov
SUMMARY:US-U20M: VK Litvínov\, z.s.-Jirkov
END:VEVENT
BEGIN:VEVENT
UID:36373765-3164-4737-a663-366262376635
DTSTAMP:20260423T035349Z
DESCRIPTION:3/26 VK Litvínov\, z.s. - Jirkov 0:2 (-14\,-16)
DTSTART;TZID=Europe/Berlin:20241208T090000
DTEND;TZID=Europe/Berlin:20241208T110000
LOCATION:Sportovní hala Sportas\, U Koldomu 2049 Litvínov - Horní Litvínov
SUMMARY:US-U20M: VK Litvínov\, z.s.-Jirkov
END:VEVENT
BEGIN:VEVENT
UID:66303434-6261-4337-b364-303433353035
DTSTAMP:20260423T035349Z
DESCRIPTION:3/28 Karlovarsko - Jirkov 2:0 (19\,22)
DTSTART;TZID=Europe/Berlin:20241208T090000
DTEND;TZID=Europe/Berlin:20241208T110000
LOCATION:Mattoni Arena Hala míčových sportů\, Západní 1812 Karlovy Vary
SUMMARY:US-U20M: Karlovarsko-Jirkov
END:VEVENT
BEGIN:VEVENT
UID:37343539-6166-4131-a439-303334303737
DTSTAMP:20260423T035349Z
DESCRIPTION:5/44 Volejbal Sokolov\, z.s. - Jirkov 0:2 (-19\,-26)
DTSTART;TZID=Europe/Berlin:20250216T090000
DTEND;TZID=Europe/Berlin:20250216T110000
LOCATION:Jiskra\, Maxima Gorkého 280 Sokolov
SUMMARY:US-U20M: Volejbal Sokolov\, z.s.-Jirkov
END:VEVENT
BEGIN:VEVENT
UID:37653164-6263-4437-b339-343338363163
DTSTAMP:20260423T035349Z
DESCRIPTION:5/49 Volejbalový klub Teplice z.s. - Jirkov 0:2 (-16\,-15)
DTSTART;TZID=Europe/Berlin:20250216T090000
DTEND;TZID=Europe/Berlin:20250216T110000
LOCATION:zš edisonova teplice Edisonova
SUMMARY:US-U20M: Volejbalový klub Teplice z.s.-Jirkov
END:VEVENT
BEGIN:VEVENT
UID:66613630-3038-4931-b865-336631313564
DTSTAMP:20260423T035349Z
DESCRIPTION:6/55 Karlovarsko - Jirkov 1:2 (21\,-23\,-13)
DTSTART;TZID=Europe/Berlin:20250330T090000
DTEND;TZID=Europe/Berlin:20250330T110000
LOCATION:Mattoni Arena Hala míčových sportů\, Západní 1812 Karlovy Vary
SUMMARY:US-U20M: Karlovarsko-Jirkov
END:VEVENT
BEGIN:VEVENT
UID:30366139-3461-4230-a566-343735623234
DTSTAMP:20260423T035349Z
DESCRIPTION:3/6 Jirkov - Benátky n. J. 3:1 (22\,22\,-14\,16)
DTSTART;TZID=Europe/Berlin:20250427T120000
DTEND;TZID=Europe/Berlin:20250427T140000
LOCATION:Nibe aréna\, městská sportovní hala\, 5. května 746 Benátky nad Ji
 zerou - Benátky nad Jizerou II
SUMMARY:EX-U20M-KB: Jirkov-Benátky n. J.
END:VEVENT
BEGIN:VEVENT
UID:35386435-3561-4563-a334-336566376437
DTSTAMP:20260423T035349Z
DESCRIPTION:1/2 Klatovy - Jirkov 2:3 (-17\,19\,-24\,22\,-8)
DTSTART;TZID=Europe/Berlin:20250426T120000
DTEND;TZID=Europe/Berlin:20250426T140000
LOCATION:Nibe aréna\, městská sportovní hala\, 5. května 746 Benátky nad Ji
 zerou - Benátky nad Jizerou II
SUMMARY:EX-U20M-KB: Klatovy-Jirkov
END:VEVENT
BEGIN:VEVENT
UID:38353561-3039-4139-b233-653834616534
DTSTAMP:20260423T035349Z
DESCRIPTION:2/3 Jablonec n. N. - Jirkov 0:3 (-12\,-16\,-14)
DTSTART;TZID=Europe/Berlin:20250426T150000
DTEND;TZID=Europe/Berlin:20250426T170000
LOCATION:Nibe aréna\, městská sportovní hala\, 5. května 746 Benátky nad Ji
 zerou - Benátky nad Jizerou II
SUMMARY:EX-U20M-KB: Jablonec n. N.-Jirkov
END:VEVENT
END:VCALENDAR
