BEGIN:VCALENDAR
VERSION:2.0
PRODID:-//Volejbalový sportovní klub Spartak Děčín z.s. B87361//NONSGML kigkonsult.se iCalcreator 2.41.80//
CALSCALE:GREGORIAN
UID:62396461-3461-4264-a630-356232626337
BEGIN:VEVENT
UID:63633964-3765-4538-a663-646562623232
DTSTAMP:20260422T164624Z
DESCRIPTION:3/9 Volejbalový sportovní klub Spartak Děčín z.s. B - Volejbal 
 Ústí nad Labem B 0:3 (-16\,-15\,-22)
DTSTART;TZID=Europe/Berlin:20240914T090000
DTEND;TZID=Europe/Berlin:20240914T110000
LOCATION:Tělocvična SPŠSaSt a VOŠ Děčín Čsl. armády 681 Děčín\, 40502
SUMMARY:US-U18Z-A: Volejbalový sportovní klub Spartak Děčín z.s. B-Volejbal
  Ústí nad Labem B
END:VEVENT
BEGIN:VEVENT
UID:30376539-3437-4132-a266-653439366335
DTSTAMP:20260422T164624Z
DESCRIPTION:4/12 Volejbalový sportovní klub Spartak Děčín z.s. B - Volejbal
  Ústí nad Labem B 0:3 (-21\,-9\,-26)
DTSTART;TZID=Europe/Berlin:20240914T130000
DTEND;TZID=Europe/Berlin:20240914T150000
LOCATION:Tělocvična SPŠSaSt a VOŠ Děčín Čsl. armády 681 Děčín\, 40502
SUMMARY:US-U18Z-A: Volejbalový sportovní klub Spartak Děčín z.s. B-Volejbal
  Ústí nad Labem B
END:VEVENT
BEGIN:VEVENT
UID:64363039-3537-4430-a136-663633613537
DTSTAMP:20260422T164624Z
DESCRIPTION:7/20 Volejbalový sportovní klub Spartak Děčín z.s. B - Tělocvič
 ná jednota Sokol Litoměřice 3:0 (17\,14\,24)
DTSTART;TZID=Europe/Berlin:20241005T100000
DTEND;TZID=Europe/Berlin:20241005T120000
LOCATION:Tělocvična SPŠSaSt a VOŠ Děčín Čsl. armády 681 Děčín\, 40502
SUMMARY:US-U18Z-A: Volejbalový sportovní klub Spartak Děčín z.s. B-Tělocvič
 ná jednota Sokol Litoměřice
END:VEVENT
BEGIN:VEVENT
UID:39396662-6333-4565-b539-666631333961
DTSTAMP:20260422T164624Z
DESCRIPTION:8/23 Volejbalový sportovní klub Spartak Děčín z.s. B - Tělocvič
 ná jednota Sokol Litoměřice 3:0 (14\,9\,15)
DTSTART;TZID=Europe/Berlin:20241005T140000
DTEND;TZID=Europe/Berlin:20241005T160000
LOCATION:Tělocvična SPŠSaSt a VOŠ Děčín Čsl. armády 681 Děčín\, 40502
SUMMARY:US-U18Z-A: Volejbalový sportovní klub Spartak Děčín z.s. B-Tělocvič
 ná jednota Sokol Litoměřice
END:VEVENT
BEGIN:VEVENT
UID:65383164-3234-4632-a364-613435303737
DTSTAMP:20260422T164624Z
DESCRIPTION:15/44 Volejbalový sportovní klub Spartak Děčín z.s. B - VTK Číž
 kovice\, z.s. 2:3 (-22\,20\,20\,-10\,-10)
DTSTART;TZID=Europe/Berlin:20241130T100000
DTEND;TZID=Europe/Berlin:20241130T120000
LOCATION:Tělocvična SPŠSaSt a VOŠ Děčín Čsl. armády 681 Děčín\, 40502
SUMMARY:US-U18Z-A: Volejbalový sportovní klub Spartak Děčín z.s. B-VTK Čížk
 ovice\, z.s.
END:VEVENT
BEGIN:VEVENT
UID:37343537-6263-4363-b831-313831656537
DTSTAMP:20260422T164624Z
DESCRIPTION:16/47 Volejbalový sportovní klub Spartak Děčín z.s. B - VTK Číž
 kovice\, z.s. 3:0 (12\,21\,16)
DTSTART;TZID=Europe/Berlin:20241130T140000
DTEND;TZID=Europe/Berlin:20241130T160000
LOCATION:Tělocvična SPŠSaSt a VOŠ Děčín Čsl. armády 681 Děčín\, 40502
SUMMARY:US-U18Z-A: Volejbalový sportovní klub Spartak Děčín z.s. B-VTK Čížk
 ovice\, z.s.
END:VEVENT
BEGIN:VEVENT
UID:34383438-3436-4433-a436-663734363231
DTSTAMP:20260422T164624Z
DESCRIPTION:19/57 Volejbalový sportovní klub Spartak Děčín z.s. B - VK Šano
 v Teplice\, z.s. 3:2 (20\,-23\,22\,-19\,4)
DTSTART;TZID=Europe/Berlin:20241221T100000
DTEND;TZID=Europe/Berlin:20241221T120000
LOCATION:Tělocvična SPŠSaSt a VOŠ Děčín Čsl. armády 681 Děčín\, 40502
SUMMARY:US-U18Z-A: Volejbalový sportovní klub Spartak Děčín z.s. B-VK Šanov
  Teplice\, z.s.
END:VEVENT
BEGIN:VEVENT
UID:32333633-6562-4032-a532-303439386466
DTSTAMP:20260422T164624Z
DESCRIPTION:20/60 Volejbalový sportovní klub Spartak Děčín z.s. B - VK Šano
 v Teplice\, z.s. 2:3 (-14\,-19\,19\,22\,-9)
DTSTART;TZID=Europe/Berlin:20241221T140000
DTEND;TZID=Europe/Berlin:20241221T160000
LOCATION:Tělocvična SPŠSaSt a VOŠ Děčín Čsl. armády 681 Děčín\, 40502
SUMMARY:US-U18Z-A: Volejbalový sportovní klub Spartak Děčín z.s. B-VK Šanov
  Teplice\, z.s.
END:VEVENT
BEGIN:VEVENT
UID:33663466-3234-4262-b362-613732336132
DTSTAMP:20260422T164624Z
DESCRIPTION:5/14 VTK Čížkovice\, z.s. - Volejbalový sportovní klub Spartak 
 Děčín z.s. B 0:3 (-8\,-11\,-20)
DTSTART;TZID=Europe/Berlin:20240928T100000
DTEND;TZID=Europe/Berlin:20240928T120000
LOCATION:Hala při ZŠ Benešova 65\, 41112 Čížkovice
SUMMARY:US-U18Z-A: VTK Čížkovice\, z.s.-Volejbalový sportovní klub Spartak 
 Děčín z.s. B
END:VEVENT
BEGIN:VEVENT
UID:61376663-3335-4933-b061-643065323435
DTSTAMP:20260422T164624Z
DESCRIPTION:6/17 VTK Čížkovice\, z.s. - Volejbalový sportovní klub Spartak 
 Děčín z.s. B 1:3 (-13\,20\,-17\,-13)
DTSTART;TZID=Europe/Berlin:20240928T140000
DTEND;TZID=Europe/Berlin:20240928T160000
LOCATION:Hala při ZŠ Benešova 65\, 41112 Čížkovice
SUMMARY:US-U18Z-A: VTK Čížkovice\, z.s.-Volejbalový sportovní klub Spartak 
 Děčín z.s. B
END:VEVENT
BEGIN:VEVENT
UID:31663633-6530-4131-a138-376632656539
DTSTAMP:20260422T164624Z
DESCRIPTION:9/27 VK Šanov Teplice\, z.s. - Volejbalový sportovní klub Spart
 ak Děčín z.s. B 3:1 (-17\,26\,13\,17)
DTSTART;TZID=Europe/Berlin:20241012T100000
DTEND;TZID=Europe/Berlin:20241012T120000
LOCATION:ZŠ Koperníkova \, Koperníkova 2592 Teplice
SUMMARY:US-U18Z-A: VK Šanov Teplice\, z.s.-Volejbalový sportovní klub Spart
 ak Děčín z.s. B
END:VEVENT
BEGIN:VEVENT
UID:31623837-6533-4566-a639-356231633035
DTSTAMP:20260422T164624Z
DESCRIPTION:10/30 VK Šanov Teplice\, z.s. - Volejbalový sportovní klub Spar
 tak Děčín z.s. B 2:3 (-23\,21\,-23\,8\,-16)
DTSTART;TZID=Europe/Berlin:20241012T140000
DTEND;TZID=Europe/Berlin:20241012T160000
LOCATION:ZŠ Koperníkova \, Koperníkova 2592 Teplice
SUMMARY:US-U18Z-A: VK Šanov Teplice\, z.s.-Volejbalový sportovní klub Spart
 ak Děčín z.s. B
END:VEVENT
BEGIN:VEVENT
UID:64376435-6162-4962-a565-356163356164
DTSTAMP:20260422T164624Z
DESCRIPTION:13/39 Volejbal Ústí nad Labem B - Volejbalový sportovní klub Sp
 artak Děčín z.s. B 3:0 (13\,15\,13)
DTSTART;TZID=Europe/Berlin:20241109T100000
DTEND;TZID=Europe/Berlin:20241109T120000
LOCATION:Tělocvična Gymnázia a Střední odborné školy dr. Václava Šmejkala\,
  Stará 3299 Ústí nad Labem - Severní Terasa
SUMMARY:US-U18Z-A: Volejbal Ústí nad Labem B-Volejbalový sportovní klub Spa
 rtak Děčín z.s. B
END:VEVENT
BEGIN:VEVENT
UID:66326565-6537-4337-b865-323665313039
DTSTAMP:20260422T164624Z
DESCRIPTION:14/42 Volejbal Ústí nad Labem B - Volejbalový sportovní klub Sp
 artak Děčín z.s. B 3:0 (18\,19\,18)
DTSTART;TZID=Europe/Berlin:20241109T140000
DTEND;TZID=Europe/Berlin:20241109T160000
LOCATION:Tělocvična Gymnázia a Střední odborné školy dr. Václava Šmejkala\,
  Stará 3299 Ústí nad Labem - Severní Terasa
SUMMARY:US-U18Z-A: Volejbal Ústí nad Labem B-Volejbalový sportovní klub Spa
 rtak Děčín z.s. B
END:VEVENT
BEGIN:VEVENT
UID:38326561-6537-4639-a565-336633356461
DTSTAMP:20260422T164624Z
DESCRIPTION:17/50 Tělocvičná jednota Sokol Litoměřice - Volejbalový sportov
 ní klub Spartak Děčín z.s. B 0:3 (-7\,-19\,-10)
DTSTART;TZID=Europe/Berlin:20241207T100000
DTEND;TZID=Europe/Berlin:20241207T120000
LOCATION:Sokol Litoměřice\, Osvobození 191 Litoměřice - Předměstí
SUMMARY:US-U18Z-A: Tělocvičná jednota Sokol Litoměřice-Volejbalový sportovn
 í klub Spartak Děčín z.s. B
END:VEVENT
BEGIN:VEVENT
UID:65623062-6632-4331-a163-613236303961
DTSTAMP:20260422T164624Z
DESCRIPTION:18/53 Tělocvičná jednota Sokol Litoměřice - Volejbalový sportov
 ní klub Spartak Děčín z.s. B 0:3 (-15\,-14\,-22)
DTSTART;TZID=Europe/Berlin:20241207T140000
DTEND;TZID=Europe/Berlin:20241207T160000
LOCATION:Sokol Litoměřice\, Osvobození 191 Litoměřice - Předměstí
SUMMARY:US-U18Z-A: Tělocvičná jednota Sokol Litoměřice-Volejbalový sportovn
 í klub Spartak Děčín z.s. B
END:VEVENT
BEGIN:VEVENT
UID:64613431-6234-4334-a165-333633336433
DTSTAMP:20260422T164624Z
DESCRIPTION:1/2 Volejbalový sportovní klub Spartak Děčín z.s. B - Žatec 0:3
  (-16\,-10\,-16)
DTSTART;TZID=Europe/Berlin:20250104T100000
DTEND;TZID=Europe/Berlin:20250104T120000
LOCATION:Tělocvična SPŠSaSt a VOŠ Děčín Čsl. armády 681 Děčín\, 40502
SUMMARY:US-U18Z-F: Volejbalový sportovní klub Spartak Děčín z.s. B-Žatec
END:VEVENT
BEGIN:VEVENT
UID:63366336-3337-4534-b366-663563663964
DTSTAMP:20260422T164624Z
DESCRIPTION:2/5 Volejbalový sportovní klub Spartak Děčín z.s. B - Žatec 0:3
  (-14\,-4\,-20)
DTSTART;TZID=Europe/Berlin:20250104T140000
DTEND;TZID=Europe/Berlin:20250104T160000
LOCATION:Tělocvična SPŠSaSt a VOŠ Děčín Čsl. armády 681 Děčín\, 40502
SUMMARY:US-U18Z-F: Volejbalový sportovní klub Spartak Děčín z.s. B-Žatec
END:VEVENT
BEGIN:VEVENT
UID:31366231-3436-4238-b939-613666643539
DTSTAMP:20260422T164624Z
DESCRIPTION:9/27 Volejbalový sportovní klub Spartak Děčín z.s. B - Chomutov
  0:3 (-6\,-11\,-7)
DTSTART;TZID=Europe/Berlin:20250208T100000
DTEND;TZID=Europe/Berlin:20250208T120000
LOCATION:Tělocvična SPŠSaSt a VOŠ Děčín Čsl. armády 681 Děčín\, 40502
SUMMARY:US-U18Z-F: Volejbalový sportovní klub Spartak Děčín z.s. B-Chomutov
END:VEVENT
BEGIN:VEVENT
UID:30626131-6162-4465-b838-323462326531
DTSTAMP:20260422T164624Z
DESCRIPTION:10/30 Volejbalový sportovní klub Spartak Děčín z.s. B - Chomuto
 v 0:3 (-17\,-9\,-10)
DTSTART;TZID=Europe/Berlin:20250208T140000
DTEND;TZID=Europe/Berlin:20250208T160000
LOCATION:Tělocvična SPŠSaSt a VOŠ Děčín Čsl. armády 681 Děčín\, 40502
SUMMARY:US-U18Z-F: Volejbalový sportovní klub Spartak Děčín z.s. B-Chomutov
END:VEVENT
BEGIN:VEVENT
UID:63303034-6533-4439-b034-373735643431
DTSTAMP:20260422T164624Z
DESCRIPTION:3/9 Chomutov - Volejbalový sportovní klub Spartak Děčín z.s. B 
 3:0 (10\,12\,16)
DTSTART;TZID=Europe/Berlin:20250111T100000
DTEND;TZID=Europe/Berlin:20250111T120000
LOCATION:12. ZŠ Chomutov\, akademika Heyrovského 4539 Chomutov
SUMMARY:US-U18Z-F: Chomutov-Volejbalový sportovní klub Spartak Děčín z.s. B
END:VEVENT
BEGIN:VEVENT
UID:66633166-6332-4739-a365-666331373961
DTSTAMP:20260422T164624Z
DESCRIPTION:4/12 Chomutov - Volejbalový sportovní klub Spartak Děčín z.s. B
  3:0 (4\,9\,13)
DTSTART;TZID=Europe/Berlin:20250111T140000
DTEND;TZID=Europe/Berlin:20250111T160000
LOCATION:12. ZŠ Chomutov\, akademika Heyrovského 4539 Chomutov
SUMMARY:US-U18Z-F: Chomutov-Volejbalový sportovní klub Spartak Děčín z.s. B
END:VEVENT
BEGIN:VEVENT
UID:63616561-3335-4039-b863-613334666539
DTSTAMP:20260422T164624Z
DESCRIPTION:7/20 Žatec - Volejbalový sportovní klub Spartak Děčín z.s. B 3:
 0 (18\,11\,13)
DTSTART;TZID=Europe/Berlin:20250201T100000
DTEND;TZID=Europe/Berlin:20250201T120000
LOCATION:Sportovní hala TJ Sever Žatec\, Plzeňská 2787 Žatec
SUMMARY:US-U18Z-F: Žatec-Volejbalový sportovní klub Spartak Děčín z.s. B
END:VEVENT
BEGIN:VEVENT
UID:64356261-3134-4335-b763-656435643664
DTSTAMP:20260422T164624Z
DESCRIPTION:8/23 Žatec - Volejbalový sportovní klub Spartak Děčín z.s. B 3:
 0 (12\,9\,16)
DTSTART;TZID=Europe/Berlin:20250201T140000
DTEND;TZID=Europe/Berlin:20250201T160000
LOCATION:Sportovní hala TJ Sever Žatec\, Plzeňská 2787 Žatec
SUMMARY:US-U18Z-F: Žatec-Volejbalový sportovní klub Spartak Děčín z.s. B
END:VEVENT
END:VCALENDAR
