BEGIN:VCALENDAR
VERSION:2.0
PRODID:-//TJ VEROS Chomutov87363//NONSGML kigkonsult.se iCalcreator 2.41.80//
CALSCALE:GREGORIAN
UID:36633139-3337-4666-b637-653539623733
BEGIN:VEVENT
UID:38616165-6435-4665-b030-313639643033
DTSTAMP:20260422T111944Z
DESCRIPTION:1/2 Chomutov - VEROS Chomutov B 3:0 (7\,12\,5)
DTSTART;TZID=Europe/Berlin:20240907T100000
DTEND;TZID=Europe/Berlin:20240907T120000
LOCATION:12. ZŠ Chomutov\, akademika Heyrovského 4539 Chomutov
SUMMARY:US-U18Z-B: Chomutov-VEROS Chomutov B
END:VEVENT
BEGIN:VEVENT
UID:33653832-6130-4533-a464-383561623234
DTSTAMP:20260422T111944Z
DESCRIPTION:2/5 Chomutov - VEROS Chomutov B 3:0 (7\,4\,4)
DTSTART;TZID=Europe/Berlin:20240907T140000
DTEND;TZID=Europe/Berlin:20240907T160000
LOCATION:12. ZŠ Chomutov\, akademika Heyrovského 4539 Chomutov
SUMMARY:US-U18Z-B: Chomutov-VEROS Chomutov B
END:VEVENT
BEGIN:VEVENT
UID:30626165-6430-4334-b235-626263373262
DTSTAMP:20260422T111944Z
DESCRIPTION:7/21 Chomutov - VK Litvínov\, z.s. 3:0 (15\,12\,14)
DTSTART;TZID=Europe/Berlin:20241005T100000
DTEND;TZID=Europe/Berlin:20241005T120000
LOCATION:12. ZŠ Chomutov\, akademika Heyrovského 4539 Chomutov
SUMMARY:US-U18Z-B: Chomutov-VK Litvínov\, z.s.
END:VEVENT
BEGIN:VEVENT
UID:63623134-3162-4332-a135-653733663966
DTSTAMP:20260422T111944Z
DESCRIPTION:8/24 Chomutov - VK Litvínov\, z.s. 3:0 (14\,8\,18)
DTSTART;TZID=Europe/Berlin:20241005T140000
DTEND;TZID=Europe/Berlin:20241005T160000
LOCATION:12. ZŠ Chomutov\, akademika Heyrovského 4539 Chomutov
SUMMARY:US-U18Z-B: Chomutov-VK Litvínov\, z.s.
END:VEVENT
BEGIN:VEVENT
UID:33316561-3337-4137-a165-646133373066
DTSTAMP:20260422T111944Z
DESCRIPTION:13/39 Chomutov - Volejbal Duchcov z.s. 3:0 (15\,19\,16)
DTSTART;TZID=Europe/Berlin:20241109T100000
DTEND;TZID=Europe/Berlin:20241109T120000
LOCATION:12. ZŠ Chomutov\, akademika Heyrovského 4539 Chomutov
SUMMARY:US-U18Z-B: Chomutov-Volejbal Duchcov z.s.
END:VEVENT
BEGIN:VEVENT
UID:34636661-3465-4234-b331-306266303034
DTSTAMP:20260422T111944Z
DESCRIPTION:14/42 Chomutov - Volejbal Duchcov z.s. 3:0 (13\,15\,10)
DTSTART;TZID=Europe/Berlin:20241109T140000
DTEND;TZID=Europe/Berlin:20241109T160000
LOCATION:12. ZŠ Chomutov\, akademika Heyrovského 4539 Chomutov
SUMMARY:US-U18Z-B: Chomutov-Volejbal Duchcov z.s.
END:VEVENT
BEGIN:VEVENT
UID:36646137-3166-4639-a161-666537373533
DTSTAMP:20260422T111944Z
DESCRIPTION:19/56 Chomutov - Žatec 3:1 (21\,-22\,24\,24)
DTSTART;TZID=Europe/Berlin:20241221T100000
DTEND;TZID=Europe/Berlin:20241221T120000
LOCATION:12. ZŠ Chomutov\, akademika Heyrovského 4539 Chomutov
SUMMARY:US-U18Z-B: Chomutov-Žatec
END:VEVENT
BEGIN:VEVENT
UID:36633838-3335-4339-b831-366262613663
DTSTAMP:20260422T111944Z
DESCRIPTION:20/59 Chomutov - Žatec 3:2 (13\,19\,-24\,-12\,7)
DTSTART;TZID=Europe/Berlin:20241221T140000
DTEND;TZID=Europe/Berlin:20241221T160000
LOCATION:12. ZŠ Chomutov\, akademika Heyrovského 4539 Chomutov
SUMMARY:US-U18Z-B: Chomutov-Žatec
END:VEVENT
BEGIN:VEVENT
UID:61643162-3039-4937-a635-656466653565
DTSTAMP:20260422T111944Z
DESCRIPTION:3/9 Volejbal Duchcov z.s. - Chomutov 0:3 (-13\,-22\,-15)
DTSTART;TZID=Europe/Berlin:20240914T100000
DTEND;TZID=Europe/Berlin:20240914T120000
LOCATION:Tělocvična ZŠ J. Pešaty Duchcov\, J. Pešaty 1313 Duchcov
SUMMARY:US-U18Z-B: Volejbal Duchcov z.s.-Chomutov
END:VEVENT
BEGIN:VEVENT
UID:36323437-6438-4862-b738-373935393538
DTSTAMP:20260422T111944Z
DESCRIPTION:4/12 Volejbal Duchcov z.s. - Chomutov 0:3 (-14\,-25\,-17)
DTSTART;TZID=Europe/Berlin:20240914T140000
DTEND;TZID=Europe/Berlin:20240914T160000
LOCATION:Tělocvična ZŠ J. Pešaty Duchcov\, J. Pešaty 1313 Duchcov
SUMMARY:US-U18Z-B: Volejbal Duchcov z.s.-Chomutov
END:VEVENT
BEGIN:VEVENT
UID:35363937-6461-4930-a466-366638363361
DTSTAMP:20260422T111944Z
DESCRIPTION:9/26 Žatec - Chomutov 3:2 (-15\,-21\,15\,22\,8)
DTSTART;TZID=Europe/Berlin:20241012T090000
DTEND;TZID=Europe/Berlin:20241012T110000
LOCATION:Sportovní hala TJ Sever Žatec\, Plzeňská 2787 Žatec
SUMMARY:US-U18Z-B: Žatec-Chomutov
END:VEVENT
BEGIN:VEVENT
UID:38353039-6230-4630-b234-643262356561
DTSTAMP:20260422T111944Z
DESCRIPTION:10/29 Žatec - Chomutov 0:3 (-19\,-18\,-18)
DTSTART;TZID=Europe/Berlin:20241012T120000
DTEND;TZID=Europe/Berlin:20241012T140000
LOCATION:Sportovní hala TJ Sever Žatec\, Plzeňská 2787 Žatec
SUMMARY:US-U18Z-B: Žatec-Chomutov
END:VEVENT
BEGIN:VEVENT
UID:61343635-6539-4434-a334-626563376631
DTSTAMP:20260422T111944Z
DESCRIPTION:11/32 VEROS Chomutov B - Chomutov 0:3 (-2\,-9\,-10)
DTSTART;TZID=Europe/Berlin:20241026T100000
DTEND;TZID=Europe/Berlin:20241026T120000
LOCATION:12. ZŠ Chomutov\, akademika Heyrovského 4539 Chomutov
SUMMARY:US-U18Z-B: VEROS Chomutov B-Chomutov
END:VEVENT
BEGIN:VEVENT
UID:35613535-3065-4037-b264-316338393136
DTSTAMP:20260422T111944Z
DESCRIPTION:12/35 VEROS Chomutov B - Chomutov 0:3 (-5\,-5\,-7)
DTSTART;TZID=Europe/Berlin:20241026T140000
DTEND;TZID=Europe/Berlin:20241026T160000
LOCATION:12. ZŠ Chomutov\, akademika Heyrovského 4539 Chomutov
SUMMARY:US-U18Z-B: VEROS Chomutov B-Chomutov
END:VEVENT
BEGIN:VEVENT
UID:62373065-3239-4234-a261-306438663062
DTSTAMP:20260422T111944Z
DESCRIPTION:17/51 VK Litvínov\, z.s. - Chomutov 1:3 (-18\,23\,-11\,-16)
DTSTART;TZID=Europe/Berlin:20241207T100000
DTEND;TZID=Europe/Berlin:20241207T120000
LOCATION:Sportovní hala Sportas\, U Koldomu 2049 Litvínov - Horní Litvínov
SUMMARY:US-U18Z-B: VK Litvínov\, z.s.-Chomutov
END:VEVENT
BEGIN:VEVENT
UID:33623638-6461-4061-a631-363962653464
DTSTAMP:20260422T111944Z
DESCRIPTION:18/54 VK Litvínov\, z.s. - Chomutov 0:3 (-10\,-15\,-15)
DTSTART;TZID=Europe/Berlin:20241207T140000
DTEND;TZID=Europe/Berlin:20241207T160000
LOCATION:Sportovní hala Sportas\, U Koldomu 2049 Litvínov - Horní Litvínov
SUMMARY:US-U18Z-B: VK Litvínov\, z.s.-Chomutov
END:VEVENT
BEGIN:VEVENT
UID:35386339-3066-4235-b962-636235323737
DTSTAMP:20260422T111944Z
DESCRIPTION:3/9 Chomutov - Volejbalový sportovní klub Spartak Děčín z.s. B 
 3:0 (10\,12\,16)
DTSTART;TZID=Europe/Berlin:20250111T100000
DTEND;TZID=Europe/Berlin:20250111T120000
LOCATION:12. ZŠ Chomutov\, akademika Heyrovského 4539 Chomutov
SUMMARY:US-U18Z-F: Chomutov-Volejbalový sportovní klub Spartak Děčín z.s. B
END:VEVENT
BEGIN:VEVENT
UID:30626131-3562-4233-a431-653436626462
DTSTAMP:20260422T111944Z
DESCRIPTION:4/12 Chomutov - Volejbalový sportovní klub Spartak Děčín z.s. B
  3:0 (4\,9\,13)
DTSTART;TZID=Europe/Berlin:20250111T140000
DTEND;TZID=Europe/Berlin:20250111T160000
LOCATION:12. ZŠ Chomutov\, akademika Heyrovského 4539 Chomutov
SUMMARY:US-U18Z-F: Chomutov-Volejbalový sportovní klub Spartak Děčín z.s. B
END:VEVENT
BEGIN:VEVENT
UID:62663630-6137-4335-a463-316236666531
DTSTAMP:20260422T111944Z
DESCRIPTION:7/21 Chomutov - VK Šanov Teplice\, z.s. 3:0 (15\,11\,16)
DTSTART;TZID=Europe/Berlin:20250201T100000
DTEND;TZID=Europe/Berlin:20250201T120000
LOCATION:12. ZŠ Chomutov\, akademika Heyrovského 4539 Chomutov
SUMMARY:US-U18Z-F: Chomutov-VK Šanov Teplice\, z.s.
END:VEVENT
BEGIN:VEVENT
UID:37623965-6564-4362-a535-373362626263
DTSTAMP:20260422T111944Z
DESCRIPTION:8/24 Chomutov - VK Šanov Teplice\, z.s. 3:0 (7\,7\,21)
DTSTART;TZID=Europe/Berlin:20250201T140000
DTEND;TZID=Europe/Berlin:20250201T160000
LOCATION:12. ZŠ Chomutov\, akademika Heyrovského 4539 Chomutov
SUMMARY:US-U18Z-F: Chomutov-VK Šanov Teplice\, z.s.
END:VEVENT
BEGIN:VEVENT
UID:33386461-6133-4466-a338-376635316237
DTSTAMP:20260422T111944Z
DESCRIPTION:11/31 Chomutov - Volejbal Ústí nad Labem B 3:0 (21\,15\,12)
DTSTART;TZID=Europe/Berlin:20250329T100000
DTEND;TZID=Europe/Berlin:20250329T120000
LOCATION:12. ZŠ Chomutov\, akademika Heyrovského 4539 Chomutov
SUMMARY:US-U18Z-F: Chomutov-Volejbal Ústí nad Labem B
END:VEVENT
BEGIN:VEVENT
UID:30626237-6465-4266-a663-616265326138
DTSTAMP:20260422T111944Z
DESCRIPTION:12/34 Chomutov - Volejbal Ústí nad Labem B 3:0 (22\,23\,12)
DTSTART;TZID=Europe/Berlin:20250329T140000
DTEND;TZID=Europe/Berlin:20250329T160000
LOCATION:12. ZŠ Chomutov\, akademika Heyrovského 4539 Chomutov
SUMMARY:US-U18Z-F: Chomutov-Volejbal Ústí nad Labem B
END:VEVENT
BEGIN:VEVENT
UID:64646537-3462-4965-b561-386436663938
DTSTAMP:20260422T111944Z
DESCRIPTION:1/3 VK Šanov Teplice\, z.s. - Chomutov 1:3 (-17\,-13\,18\,-21)
DTSTART;TZID=Europe/Berlin:20250315T100000
DTEND;TZID=Europe/Berlin:20250315T120000
LOCATION:ZŠ Koperníkova \, Koperníkova 2592 Teplice
SUMMARY:US-U18Z-F: VK Šanov Teplice\, z.s.-Chomutov
END:VEVENT
BEGIN:VEVENT
UID:65353130-6139-4538-a366-386263653330
DTSTAMP:20260422T111944Z
DESCRIPTION:2/6 VK Šanov Teplice\, z.s. - Chomutov 3:1 (-21\,23\,16\,18)
DTSTART;TZID=Europe/Berlin:20250315T140000
DTEND;TZID=Europe/Berlin:20250315T160000
LOCATION:ZŠ Koperníkova \, Koperníkova 2592 Teplice
SUMMARY:US-U18Z-F: VK Šanov Teplice\, z.s.-Chomutov
END:VEVENT
BEGIN:VEVENT
UID:62633562-3661-4139-b937-373566396636
DTSTAMP:20260422T111944Z
DESCRIPTION:5/13 Volejbal Ústí nad Labem B - Chomutov 0:3 (-25\,-14\,-23)
DTSTART;TZID=Europe/Berlin:20250222T100000
DTEND;TZID=Europe/Berlin:20250222T120000
LOCATION:Tělocvična Gymnázia a Střední odborné školy dr. Václava Šmejkala\,
  Stará 3299 Ústí nad Labem - Severní Terasa
SUMMARY:US-U18Z-F: Volejbal Ústí nad Labem B-Chomutov
END:VEVENT
BEGIN:VEVENT
UID:37623265-3131-4163-b537-663363643234
DTSTAMP:20260422T111944Z
DESCRIPTION:6/16 Volejbal Ústí nad Labem B - Chomutov 0:3 (-17\,-10\,-17)
DTSTART;TZID=Europe/Berlin:20250222T140000
DTEND;TZID=Europe/Berlin:20250222T160000
LOCATION:Tělocvična Gymnázia a Střední odborné školy dr. Václava Šmejkala\,
  Stará 3299 Ústí nad Labem - Severní Terasa
SUMMARY:US-U18Z-F: Volejbal Ústí nad Labem B-Chomutov
END:VEVENT
BEGIN:VEVENT
UID:30633039-6633-4461-b866-633463386237
DTSTAMP:20260422T111944Z
DESCRIPTION:9/27 Volejbalový sportovní klub Spartak Děčín z.s. B - Chomutov
  0:3 (-6\,-11\,-7)
DTSTART;TZID=Europe/Berlin:20250208T100000
DTEND;TZID=Europe/Berlin:20250208T120000
LOCATION:Tělocvična SPŠSaSt a VOŠ Děčín Čsl. armády 681 Děčín\, 40502
SUMMARY:US-U18Z-F: Volejbalový sportovní klub Spartak Děčín z.s. B-Chomutov
END:VEVENT
BEGIN:VEVENT
UID:39333234-3637-4731-a238-636463623335
DTSTAMP:20260422T111944Z
DESCRIPTION:10/30 Volejbalový sportovní klub Spartak Děčín z.s. B - Chomuto
 v 0:3 (-17\,-9\,-10)
DTSTART;TZID=Europe/Berlin:20250208T140000
DTEND;TZID=Europe/Berlin:20250208T160000
LOCATION:Tělocvična SPŠSaSt a VOŠ Děčín Čsl. armády 681 Děčín\, 40502
SUMMARY:US-U18Z-F: Volejbalový sportovní klub Spartak Děčín z.s. B-Chomutov
END:VEVENT
BEGIN:VEVENT
UID:37353363-3037-4435-a334-336266356132
DTSTAMP:20260422T111944Z
DESCRIPTION:1/3 Chomutov - Jiskra Jaroměř 2:3 (18\,-16\,16\,-20\,-17)\nNH -
  Pražská 696 Náchod
DTSTART;TZID=Europe/Berlin:20250426T140000
DTEND;TZID=Europe/Berlin:20250426T160000
LOCATION:Tělocvična ZŠ Zbečník\,  Hronov - Zbečník210
SUMMARY:2-U18Z-KB: Chomutov-Jiskra Jaroměř
END:VEVENT
BEGIN:VEVENT
UID:31316265-3866-4263-b464-616138333933
DTSTAMP:20260422T111944Z
DESCRIPTION:1/5 Chomutov - Hodkovice 3:0 (11\,12\,16)\nNH - Pražská 696 Nác
 hod
DTSTART;TZID=Europe/Berlin:20250426T180000
DTEND;TZID=Europe/Berlin:20250426T200000
LOCATION:Tělocvična ZŠ Zbečník\,  Hronov - Zbečník210
SUMMARY:2-U18Z-KB: Chomutov-Hodkovice
END:VEVENT
BEGIN:VEVENT
UID:35343838-3833-4166-a364-373131393130
DTSTAMP:20260422T111944Z
DESCRIPTION:2/7 Rtyně - Chomutov 2:3 (23\,-13\,19\,-19\,-7)
DTSTART;TZID=Europe/Berlin:20250427T120000
DTEND;TZID=Europe/Berlin:20250427T140000
LOCATION:Tělocvična ZŠ Zbečník\,  Hronov - Zbečník210
SUMMARY:2-U18Z-KB: Rtyně-Chomutov
END:VEVENT
BEGIN:VEVENT
UID:64383733-3231-4335-a434-343435636461
DTSTAMP:20260422T111944Z
DESCRIPTION:2/9 Čížkovice - Chomutov 0:3 (-14\,-22\,-22)
DTSTART;TZID=Europe/Berlin:20250427T160000
DTEND;TZID=Europe/Berlin:20250427T180000
LOCATION:Tělocvična ZŠ Zbečník\,  Hronov - Zbečník210
SUMMARY:2-U18Z-KB: Čížkovice-Chomutov
END:VEVENT
END:VCALENDAR
