BEGIN:VCALENDAR
VERSION:2.0
PRODID:-//Volejbal Ústí nad Labem B87368//NONSGML kigkonsult.se iCalcreator 2.41.80//
CALSCALE:GREGORIAN
UID:34643331-3063-4765-b866-373432633766
BEGIN:VEVENT
UID:32633664-3736-4763-b737-333030363432
DTSTAMP:20260422T202216Z
DESCRIPTION:1/2 Volejbal Ústí nad Labem B - VK Šanov Teplice\, z.s. 3:0 (15
 \,7\,4)
DTSTART;TZID=Europe/Berlin:20240907T100000
DTEND;TZID=Europe/Berlin:20240907T120000
LOCATION:Tělocvična Gymnázia a Střední odborné školy dr. Václava Šmejkala\,
  Stará 3299 Ústí nad Labem - Severní Terasa
SUMMARY:US-U18Z-A: Volejbal Ústí nad Labem B-VK Šanov Teplice\, z.s.
END:VEVENT
BEGIN:VEVENT
UID:32333731-6133-4466-a131-666438383230
DTSTAMP:20260422T202216Z
DESCRIPTION:2/5 Volejbal Ústí nad Labem B - VK Šanov Teplice\, z.s. 3:0 (6\
 ,11\,4)
DTSTART;TZID=Europe/Berlin:20240907T140000
DTEND;TZID=Europe/Berlin:20240907T160000
LOCATION:Tělocvična Gymnázia a Střední odborné školy dr. Václava Šmejkala\,
  Stará 3299 Ústí nad Labem - Severní Terasa
SUMMARY:US-U18Z-A: Volejbal Ústí nad Labem B-VK Šanov Teplice\, z.s.
END:VEVENT
BEGIN:VEVENT
UID:38386163-3637-4361-b936-333736623833
DTSTAMP:20260422T202216Z
DESCRIPTION:7/21 Volejbal Ústí nad Labem B - VTK Čížkovice\, z.s. 3:0 (16\,
 16\,19)
DTSTART;TZID=Europe/Berlin:20241005T100000
DTEND;TZID=Europe/Berlin:20241005T120000
LOCATION:Tělocvična Gymnázia a Střední odborné školy dr. Václava Šmejkala\,
  Stará 3299 Ústí nad Labem - Severní Terasa
SUMMARY:US-U18Z-A: Volejbal Ústí nad Labem B-VTK Čížkovice\, z.s.
END:VEVENT
BEGIN:VEVENT
UID:30306266-6561-4035-a464-343263353735
DTSTAMP:20260422T202216Z
DESCRIPTION:8/24 Volejbal Ústí nad Labem B - VTK Čížkovice\, z.s. 3:0 (17\,
 22\,16)
DTSTART;TZID=Europe/Berlin:20241005T140000
DTEND;TZID=Europe/Berlin:20241005T160000
LOCATION:Tělocvična Gymnázia a Střední odborné školy dr. Václava Šmejkala\,
  Stará 3299 Ústí nad Labem - Severní Terasa
SUMMARY:US-U18Z-A: Volejbal Ústí nad Labem B-VTK Čížkovice\, z.s.
END:VEVENT
BEGIN:VEVENT
UID:64313333-6665-4765-b739-303264383834
DTSTAMP:20260422T202216Z
DESCRIPTION:13/39 Volejbal Ústí nad Labem B - Volejbalový sportovní klub Sp
 artak Děčín z.s. B 3:0 (13\,15\,13)
DTSTART;TZID=Europe/Berlin:20241109T100000
DTEND;TZID=Europe/Berlin:20241109T120000
LOCATION:Tělocvična Gymnázia a Střední odborné školy dr. Václava Šmejkala\,
  Stará 3299 Ústí nad Labem - Severní Terasa
SUMMARY:US-U18Z-A: Volejbal Ústí nad Labem B-Volejbalový sportovní klub Spa
 rtak Děčín z.s. B
END:VEVENT
BEGIN:VEVENT
UID:36383938-3130-4866-a633-663765613936
DTSTAMP:20260422T202216Z
DESCRIPTION:14/42 Volejbal Ústí nad Labem B - Volejbalový sportovní klub Sp
 artak Děčín z.s. B 3:0 (18\,19\,18)
DTSTART;TZID=Europe/Berlin:20241109T140000
DTEND;TZID=Europe/Berlin:20241109T160000
LOCATION:Tělocvična Gymnázia a Střední odborné školy dr. Václava Šmejkala\,
  Stará 3299 Ústí nad Labem - Severní Terasa
SUMMARY:US-U18Z-A: Volejbal Ústí nad Labem B-Volejbalový sportovní klub Spa
 rtak Děčín z.s. B
END:VEVENT
BEGIN:VEVENT
UID:39326533-3530-4365-b435-643031333332
DTSTAMP:20260422T202216Z
DESCRIPTION:19/56 Volejbal Ústí nad Labem B - Tělocvičná jednota Sokol Lito
 měřice 3:0 (24\,11\,2)
DTSTART;TZID=Europe/Berlin:20241221T100000
DTEND;TZID=Europe/Berlin:20241221T120000
LOCATION:Tělocvična Gymnázia a Střední odborné školy dr. Václava Šmejkala\,
  Stará 3299 Ústí nad Labem - Severní Terasa
SUMMARY:US-U18Z-A: Volejbal Ústí nad Labem B-Tělocvičná jednota Sokol Litom
 ěřice
END:VEVENT
BEGIN:VEVENT
UID:39333962-3465-4539-a664-323964333930
DTSTAMP:20260422T202216Z
DESCRIPTION:20/59 Volejbal Ústí nad Labem B - Tělocvičná jednota Sokol Lito
 měřice 3:0 (9\,19\,18)
DTSTART;TZID=Europe/Berlin:20241221T140000
DTEND;TZID=Europe/Berlin:20241221T160000
LOCATION:Tělocvična Gymnázia a Střední odborné školy dr. Václava Šmejkala\,
  Stará 3299 Ústí nad Labem - Severní Terasa
SUMMARY:US-U18Z-A: Volejbal Ústí nad Labem B-Tělocvičná jednota Sokol Litom
 ěřice
END:VEVENT
BEGIN:VEVENT
UID:63616430-3666-4134-b861-356231386232
DTSTAMP:20260422T202216Z
DESCRIPTION:3/9 Volejbalový sportovní klub Spartak Děčín z.s. B - Volejbal 
 Ústí nad Labem B 0:3 (-16\,-15\,-22)
DTSTART;TZID=Europe/Berlin:20240914T090000
DTEND;TZID=Europe/Berlin:20240914T110000
LOCATION:Tělocvična SPŠSaSt a VOŠ Děčín Čsl. armády 681 Děčín\, 40502
SUMMARY:US-U18Z-A: Volejbalový sportovní klub Spartak Děčín z.s. B-Volejbal
  Ústí nad Labem B
END:VEVENT
BEGIN:VEVENT
UID:36306361-3933-4531-a261-616530613065
DTSTAMP:20260422T202216Z
DESCRIPTION:4/12 Volejbalový sportovní klub Spartak Děčín z.s. B - Volejbal
  Ústí nad Labem B 0:3 (-21\,-9\,-26)
DTSTART;TZID=Europe/Berlin:20240914T130000
DTEND;TZID=Europe/Berlin:20240914T150000
LOCATION:Tělocvična SPŠSaSt a VOŠ Děčín Čsl. armády 681 Děčín\, 40502
SUMMARY:US-U18Z-A: Volejbalový sportovní klub Spartak Děčín z.s. B-Volejbal
  Ústí nad Labem B
END:VEVENT
BEGIN:VEVENT
UID:64323366-3231-4963-b439-363335646264
DTSTAMP:20260422T202216Z
DESCRIPTION:9/26 Tělocvičná jednota Sokol Litoměřice - Volejbal Ústí nad La
 bem B 0:3 (-10\,-17\,-17)
DTSTART;TZID=Europe/Berlin:20241012T100000
DTEND;TZID=Europe/Berlin:20241012T120000
LOCATION:Sokol Litoměřice\, Osvobození 191 Litoměřice - Předměstí
SUMMARY:US-U18Z-A: Tělocvičná jednota Sokol Litoměřice-Volejbal Ústí nad La
 bem B
END:VEVENT
BEGIN:VEVENT
UID:30626431-6263-4762-b132-316665623562
DTSTAMP:20260422T202216Z
DESCRIPTION:10/29 Tělocvičná jednota Sokol Litoměřice - Volejbal Ústí nad L
 abem B 0:3 (-10\,-9\,-22)
DTSTART;TZID=Europe/Berlin:20241012T140000
DTEND;TZID=Europe/Berlin:20241012T160000
LOCATION:Sokol Litoměřice\, Osvobození 191 Litoměřice - Předměstí
SUMMARY:US-U18Z-A: Tělocvičná jednota Sokol Litoměřice-Volejbal Ústí nad La
 bem B
END:VEVENT
BEGIN:VEVENT
UID:63326565-6437-4963-b435-663235663462
DTSTAMP:20260422T202216Z
DESCRIPTION:11/32 VK Šanov Teplice\, z.s. - Volejbal Ústí nad Labem B 0:3 (
 -16\,-15\,-11)
DTSTART;TZID=Europe/Berlin:20241116T100000
DTEND;TZID=Europe/Berlin:20241116T120000
LOCATION:ZŠ Koperníkova \, Koperníkova 2592 Teplice
SUMMARY:US-U18Z-A: VK Šanov Teplice\, z.s.-Volejbal Ústí nad Labem B
END:VEVENT
BEGIN:VEVENT
UID:34626666-3664-4533-b234-343139386237
DTSTAMP:20260422T202216Z
DESCRIPTION:12/35 VK Šanov Teplice\, z.s. - Volejbal Ústí nad Labem B 0:3 (
 -20\,-20\,-29)
DTSTART;TZID=Europe/Berlin:20241116T140000
DTEND;TZID=Europe/Berlin:20241116T160000
LOCATION:ZŠ Koperníkova \, Koperníkova 2592 Teplice
SUMMARY:US-U18Z-A: VK Šanov Teplice\, z.s.-Volejbal Ústí nad Labem B
END:VEVENT
BEGIN:VEVENT
UID:65636438-3338-4636-b831-653138353831
DTSTAMP:20260422T202216Z
DESCRIPTION:17/51 VTK Čížkovice\, z.s. - Volejbal Ústí nad Labem B 1:3 (-12
 \,-21\,23\,-11)
DTSTART;TZID=Europe/Berlin:20241207T090000
DTEND;TZID=Europe/Berlin:20241207T110000
LOCATION:Hala při ZŠ Benešova 65\, 41112 Čížkovice
SUMMARY:US-U18Z-A: VTK Čížkovice\, z.s.-Volejbal Ústí nad Labem B
END:VEVENT
BEGIN:VEVENT
UID:64343761-3334-4538-b132-623631366632
DTSTAMP:20260422T202216Z
DESCRIPTION:18/54 VTK Čížkovice\, z.s. - Volejbal Ústí nad Labem B 1:3 (-16
 \,-23\,23\,-15)
DTSTART;TZID=Europe/Berlin:20241207T130000
DTEND;TZID=Europe/Berlin:20241207T150000
LOCATION:Hala při ZŠ Benešova 65\, 41112 Čížkovice
SUMMARY:US-U18Z-A: VTK Čížkovice\, z.s.-Volejbal Ústí nad Labem B
END:VEVENT
BEGIN:VEVENT
UID:61386630-6239-4337-b064-613561663931
DTSTAMP:20260422T202216Z
DESCRIPTION:5/13 Volejbal Ústí nad Labem B - Chomutov 0:3 (-25\,-14\,-23)
DTSTART;TZID=Europe/Berlin:20250222T100000
DTEND;TZID=Europe/Berlin:20250222T120000
LOCATION:Tělocvična Gymnázia a Střední odborné školy dr. Václava Šmejkala\,
  Stará 3299 Ústí nad Labem - Severní Terasa
SUMMARY:US-U18Z-F: Volejbal Ústí nad Labem B-Chomutov
END:VEVENT
BEGIN:VEVENT
UID:61356137-3365-4439-a535-626430383065
DTSTAMP:20260422T202216Z
DESCRIPTION:6/16 Volejbal Ústí nad Labem B - Chomutov 0:3 (-17\,-10\,-17)
DTSTART;TZID=Europe/Berlin:20250222T140000
DTEND;TZID=Europe/Berlin:20250222T160000
LOCATION:Tělocvična Gymnázia a Střední odborné školy dr. Václava Šmejkala\,
  Stará 3299 Ústí nad Labem - Severní Terasa
SUMMARY:US-U18Z-F: Volejbal Ústí nad Labem B-Chomutov
END:VEVENT
BEGIN:VEVENT
UID:63653963-3132-4239-b766-353037636162
DTSTAMP:20260422T202216Z
DESCRIPTION:9/25 Volejbal Ústí nad Labem B - Žatec 1:3 (-17\,-24\,23\,-21)
DTSTART;TZID=Europe/Berlin:20250208T090000
DTEND;TZID=Europe/Berlin:20250208T110000
LOCATION:Tělocvična Gymnázia a Střední odborné školy dr. Václava Šmejkala\,
  Stará 3299 Ústí nad Labem - Severní Terasa
SUMMARY:US-U18Z-F: Volejbal Ústí nad Labem B-Žatec
END:VEVENT
BEGIN:VEVENT
UID:63326665-3632-4431-a435-366566633339
DTSTAMP:20260422T202216Z
DESCRIPTION:10/28 Volejbal Ústí nad Labem B - Žatec 0:3 (-16\,-19\,-22)
DTSTART;TZID=Europe/Berlin:20250208T130000
DTEND;TZID=Europe/Berlin:20250208T150000
LOCATION:Tělocvična Gymnázia a Střední odborné školy dr. Václava Šmejkala\,
  Stará 3299 Ústí nad Labem - Severní Terasa
SUMMARY:US-U18Z-F: Volejbal Ústí nad Labem B-Žatec
END:VEVENT
BEGIN:VEVENT
UID:64643832-3364-4566-a364-613230353036
DTSTAMP:20260422T202216Z
DESCRIPTION:3/7 Žatec - Volejbal Ústí nad Labem B 3:0 (15\,19\,15)
DTSTART;TZID=Europe/Berlin:20250111T090000
DTEND;TZID=Europe/Berlin:20250111T110000
LOCATION:Sportovní hala TJ Sever Žatec\, Plzeňská 2787 Žatec
SUMMARY:US-U18Z-F: Žatec-Volejbal Ústí nad Labem B
END:VEVENT
BEGIN:VEVENT
UID:62323035-3634-4766-b134-316563663362
DTSTAMP:20260422T202216Z
DESCRIPTION:4/10 Žatec - Volejbal Ústí nad Labem B 3:1 (19\,-22\,18\,12)
DTSTART;TZID=Europe/Berlin:20250111T130000
DTEND;TZID=Europe/Berlin:20250111T150000
LOCATION:Sportovní hala TJ Sever Žatec\, Plzeňská 2787 Žatec
SUMMARY:US-U18Z-F: Žatec-Volejbal Ústí nad Labem B
END:VEVENT
BEGIN:VEVENT
UID:39343531-3464-4564-b934-383338646633
DTSTAMP:20260422T202216Z
DESCRIPTION:11/31 Chomutov - Volejbal Ústí nad Labem B 3:0 (21\,15\,12)
DTSTART;TZID=Europe/Berlin:20250329T100000
DTEND;TZID=Europe/Berlin:20250329T120000
LOCATION:12. ZŠ Chomutov\, akademika Heyrovského 4539 Chomutov
SUMMARY:US-U18Z-F: Chomutov-Volejbal Ústí nad Labem B
END:VEVENT
BEGIN:VEVENT
UID:63326635-3465-4630-a236-316266656366
DTSTAMP:20260422T202216Z
DESCRIPTION:12/34 Chomutov - Volejbal Ústí nad Labem B 3:0 (22\,23\,12)
DTSTART;TZID=Europe/Berlin:20250329T140000
DTEND;TZID=Europe/Berlin:20250329T160000
LOCATION:12. ZŠ Chomutov\, akademika Heyrovského 4539 Chomutov
SUMMARY:US-U18Z-F: Chomutov-Volejbal Ústí nad Labem B
END:VEVENT
END:VCALENDAR
