BEGIN:VCALENDAR
VERSION:2.0
PRODID:-//Volejbalový sportovní klub Spartak Děčín z.s.87371//NONSGML kigkonsult.se iCalcreator 2.41.80//
CALSCALE:GREGORIAN
UID:61396633-3335-4934-b663-353866623366
BEGIN:VEVENT
UID:62646432-3264-4263-b064-363862386231
DTSTAMP:20260421T192716Z
DESCRIPTION:1/2 Volejbalový sportovní klub Spartak Děčín z.s. - VK Litvínov
 \, z.s. 2:0 (8\,8)
DTSTART;TZID=Europe/Berlin:20240929T090000
DTEND;TZID=Europe/Berlin:20240929T110000
LOCATION:Tělocvična SPŠSaSt a VOŠ Děčín Čsl. armády 681 Děčín\, 40502
SUMMARY:US-U16Z-KVAL: Volejbalový sportovní klub Spartak Děčín z.s.-VK Litv
 ínov\, z.s.
END:VEVENT
BEGIN:VEVENT
UID:35383232-6338-4166-b631-666566613431
DTSTAMP:20260421T192716Z
DESCRIPTION:1/5 Volejbalový sportovní klub Spartak Děčín z.s. - SK VOLEJBAL
  Ústí nad Labem\, z.s. 'B' 2:0 (8\,11)
DTSTART;TZID=Europe/Berlin:20240929T090000
DTEND;TZID=Europe/Berlin:20240929T110000
LOCATION:Tělocvična SPŠSaSt a VOŠ Děčín Čsl. armády 681 Děčín\, 40502
SUMMARY:US-U16Z-KVAL: Volejbalový sportovní klub Spartak Děčín z.s.-SK VOLE
 JBAL Ústí nad Labem\, z.s. 'B'
END:VEVENT
BEGIN:VEVENT
UID:61626536-3138-4638-b562-616364623731
DTSTAMP:20260421T192716Z
DESCRIPTION:1/4 VK Jirkov - Volejbalový sportovní klub Spartak Děčín z.s. 0
 :2 (-14\,-18)
DTSTART;TZID=Europe/Berlin:20240929T090000
DTEND;TZID=Europe/Berlin:20240929T110000
LOCATION:Sportovní hala MG a ZŠ Jirkov\, Krušnohorská 1675 Jirkov
SUMMARY:US-U16Z-KVAL: VK Jirkov-Volejbalový sportovní klub Spartak Děčín z.
 s.
END:VEVENT
BEGIN:VEVENT
UID:65333439-3833-4636-b437-633232313639
DTSTAMP:20260421T192716Z
DESCRIPTION:1/2 Volejbalový sportovní klub Spartak Děčín z.s. - Volejbal Ús
 tí n L. 0:2 (-12\,-17)
DTSTART;TZID=Europe/Berlin:20241020T090000
DTEND;TZID=Europe/Berlin:20241020T110000
LOCATION:Tělocvična SPŠSaSt a VOŠ Děčín Čsl. armády 681 Děčín\, 40502
SUMMARY:US-U16Z-1: Volejbalový sportovní klub Spartak Děčín z.s.-Volejbal Ú
 stí n L.
END:VEVENT
BEGIN:VEVENT
UID:63386237-3761-4438-b730-373630333463
DTSTAMP:20260421T192716Z
DESCRIPTION:1/5 Volejbalový sportovní klub Spartak Děčín z.s. - SKV Ústí n.
  L. A 0:2 (-18\,-22)
DTSTART;TZID=Europe/Berlin:20241020T090000
DTEND;TZID=Europe/Berlin:20241020T110000
LOCATION:Tělocvična SPŠSaSt a VOŠ Děčín Čsl. armády 681 Děčín\, 40502
SUMMARY:US-U16Z-1: Volejbalový sportovní klub Spartak Děčín z.s.-SKV Ústí n
 . L. A
END:VEVENT
BEGIN:VEVENT
UID:63656463-6638-4934-a365-393138346462
DTSTAMP:20260421T192716Z
DESCRIPTION:1/4 Volejbalový klub Teplice z.s. - Volejbalový sportovní klub 
 Spartak Děčín z.s. 2:0 (20\,22)
DTSTART;TZID=Europe/Berlin:20241020T090000
DTEND;TZID=Europe/Berlin:20241020T110000
LOCATION:zš edisonova teplice Edisonova
SUMMARY:US-U16Z-1: Volejbalový klub Teplice z.s.-Volejbalový sportovní klub
  Spartak Děčín z.s.
END:VEVENT
BEGIN:VEVENT
UID:63343364-3832-4265-b564-633736666362
DTSTAMP:20260421T192716Z
DESCRIPTION:2/7 Volejbalový sportovní klub Spartak Děčín z.s. - SK VOLEJBAL
  Ústí nad Labem\, z.s. 'B' 2:0 (24\,6)
DTSTART;TZID=Europe/Berlin:20241117T090100
DTEND;TZID=Europe/Berlin:20241117T110100
LOCATION:Tělocvična SPŠSaSt a VOŠ Děčín Čsl. armády 681 Děčín\, 40502
SUMMARY:US-U16Z-2: Volejbalový sportovní klub Spartak Děčín z.s.-SK VOLEJBA
 L Ústí nad Labem\, z.s. 'B'
END:VEVENT
BEGIN:VEVENT
UID:62653435-3563-4266-b339-353530613062
DTSTAMP:20260421T192716Z
DESCRIPTION:2/10 Volejbalový sportovní klub Spartak Děčín z.s. - VK Sever Ž
 atec\, z.s. 'A' 2:0 (7\,13)
DTSTART;TZID=Europe/Berlin:20241117T090100
DTEND;TZID=Europe/Berlin:20241117T110100
LOCATION:Tělocvična SPŠSaSt a VOŠ Děčín Čsl. armády 681 Děčín\, 40502
SUMMARY:US-U16Z-2: Volejbalový sportovní klub Spartak Děčín z.s.-VK Sever Ž
 atec\, z.s. 'A'
END:VEVENT
BEGIN:VEVENT
UID:36386334-6461-4266-b137-633964393663
DTSTAMP:20260421T192716Z
DESCRIPTION:2/12 TVEROS Chomutov - Volejbalový sportovní klub Spartak Děčín
  z.s. 0:2 (-14\,-8)
DTSTART;TZID=Europe/Berlin:20241117T090100
DTEND;TZID=Europe/Berlin:20241117T110100
LOCATION:12. ZŠ Chomutov\, akademika Heyrovského 4539 Chomutov
SUMMARY:US-U16Z-2: TVEROS Chomutov-Volejbalový sportovní klub Spartak Děčín
  z.s.
END:VEVENT
BEGIN:VEVENT
UID:61313761-6366-4139-a230-303438616165
DTSTAMP:20260421T192716Z
DESCRIPTION:1/3 Volejbalový sportovní klub Spartak Děčín z.s. - Volejbalový
  klub Teplice z.s. 2:1 (-12\,19\,5)
DTSTART;TZID=Europe/Berlin:20241201T090000
DTEND;TZID=Europe/Berlin:20241201T110000
LOCATION:Tělocvična SPŠSaSt a VOŠ Děčín Čsl. armády 681 Děčín\, 40502
SUMMARY:US-U16Z-3: Volejbalový sportovní klub Spartak Děčín z.s.-Volejbalov
 ý klub Teplice z.s.
END:VEVENT
BEGIN:VEVENT
UID:65396532-6536-4631-b134-653862323337
DTSTAMP:20260421T192716Z
DESCRIPTION:1/1 SKV Ústí n. L. A - Volejbalový sportovní klub Spartak Děčín
  z.s. 2:0 (15\,16)
DTSTART;TZID=Europe/Berlin:20241201T090000
DTEND;TZID=Europe/Berlin:20241201T110000
LOCATION:Základní škola Stříbrnická\, Stříbrnická 3031 Ústí nad Labem - Sev
 erní Terasa
SUMMARY:US-U16Z-3: SKV Ústí n. L. A-Volejbalový sportovní klub Spartak Děčí
 n z.s.
END:VEVENT
BEGIN:VEVENT
UID:34666634-3634-4338-a135-363863653465
DTSTAMP:20260421T192716Z
DESCRIPTION:1/5 Volejbal Ústí n L. - Volejbalový sportovní klub Spartak Děč
 ín z.s. 1:2 (-23\,10\,-12)
DTSTART;TZID=Europe/Berlin:20241201T090000
DTEND;TZID=Europe/Berlin:20241201T110000
LOCATION:Tělocvična Gymnázia a Střední odborné školy dr. Václava Šmejkala\,
  Stará 3299 Ústí nad Labem - Severní Terasa
SUMMARY:US-U16Z-3: Volejbal Ústí n L.-Volejbalový sportovní klub Spartak Dě
 čín z.s.
END:VEVENT
BEGIN:VEVENT
UID:66323363-6136-4034-a334-356664343537
DTSTAMP:20260421T192716Z
DESCRIPTION:1/3 Volejbalový sportovní klub Spartak Děčín z.s. - VK Jirkov 2
 :0 (13\,12)
DTSTART;TZID=Europe/Berlin:20241215T090000
DTEND;TZID=Europe/Berlin:20241215T110000
LOCATION:Tělocvična SPŠSaSt a VOŠ Děčín Čsl. armády 681 Děčín\, 40502
SUMMARY:US-U16Z-4: Volejbalový sportovní klub Spartak Děčín z.s.-VK Jirkov
END:VEVENT
BEGIN:VEVENT
UID:65666135-6464-4362-a536-366565646338
DTSTAMP:20260421T192716Z
DESCRIPTION:1/1 SKV Ústí n. L. A - Volejbalový sportovní klub Spartak Děčín
  z.s. 2:0 (21\,13)
DTSTART;TZID=Europe/Berlin:20241215T090000
DTEND;TZID=Europe/Berlin:20241215T110000
LOCATION:Základní škola Stříbrnická\, Stříbrnická 3031 Ústí nad Labem - Sev
 erní Terasa
SUMMARY:US-U16Z-4: SKV Ústí n. L. A-Volejbalový sportovní klub Spartak Děčí
 n z.s.
END:VEVENT
BEGIN:VEVENT
UID:62313430-3839-4333-a237-376134616666
DTSTAMP:20260421T192716Z
DESCRIPTION:1/5 Volejbal Ústí n L. - Volejbalový sportovní klub Spartak Děč
 ín z.s. 2:0 (15\,21)
DTSTART;TZID=Europe/Berlin:20241215T090000
DTEND;TZID=Europe/Berlin:20241215T110000
LOCATION:Tělocvična Gymnázia a Střední odborné školy dr. Václava Šmejkala\,
  Stará 3299 Ústí nad Labem - Severní Terasa
SUMMARY:US-U16Z-4: Volejbal Ústí n L.-Volejbalový sportovní klub Spartak Dě
 čín z.s.
END:VEVENT
BEGIN:VEVENT
UID:39383065-3731-4933-b161-346664623037
DTSTAMP:20260421T192716Z
DESCRIPTION:1/6 Volejbalový sportovní klub Spartak Děčín z.s. - SKV Ústí n.
  L. A 0:2 (-15\,-23)
DTSTART;TZID=Europe/Berlin:20250112T090000
DTEND;TZID=Europe/Berlin:20250112T110000
LOCATION:Tělocvična SPŠSaSt a VOŠ Děčín Čsl. armády 681 Děčín\, 40502
SUMMARY:US-U16Z-5: Volejbalový sportovní klub Spartak Děčín z.s.-SKV Ústí n
 . L. A
END:VEVENT
BEGIN:VEVENT
UID:35366638-6636-4635-b263-373936646439
DTSTAMP:20260421T192716Z
DESCRIPTION:1/2 Volejbal Ústí n L. - Volejbalový sportovní klub Spartak Děč
 ín z.s. 2:1 (20\,-26\,13)
DTSTART;TZID=Europe/Berlin:20250112T090000
DTEND;TZID=Europe/Berlin:20250112T110000
LOCATION:Tělocvična Gymnázia a Střední odborné školy dr. Václava Šmejkala\,
  Stará 3299 Ústí nad Labem - Severní Terasa
SUMMARY:US-U16Z-5: Volejbal Ústí n L.-Volejbalový sportovní klub Spartak Dě
 čín z.s.
END:VEVENT
BEGIN:VEVENT
UID:38313937-6134-4939-b830-383334323261
DTSTAMP:20260421T192716Z
DESCRIPTION:1/3 Volejbalový klub Teplice z.s. - Volejbalový sportovní klub 
 Spartak Děčín z.s. 0:2 (-21\,-13)
DTSTART;TZID=Europe/Berlin:20250112T090000
DTEND;TZID=Europe/Berlin:20250112T110000
LOCATION:zš edisonova teplice Edisonova
SUMMARY:US-U16Z-5: Volejbalový klub Teplice z.s.-Volejbalový sportovní klub
  Spartak Děčín z.s.
END:VEVENT
BEGIN:VEVENT
UID:61626362-3634-4233-a563-323566343233
DTSTAMP:20260421T192716Z
DESCRIPTION:1/6 Volejbalový sportovní klub Spartak Děčín z.s. - Volejbal Ús
 tí n L. 0:2 (-20\,-19)
DTSTART;TZID=Europe/Berlin:20250323T090000
DTEND;TZID=Europe/Berlin:20250323T110000
LOCATION:Tělocvična SPŠSaSt a VOŠ Děčín Čsl. armády 681 Děčín\, 40502
SUMMARY:US-U16Z-6: Volejbalový sportovní klub Spartak Děčín z.s.-Volejbal Ú
 stí n L.
END:VEVENT
BEGIN:VEVENT
UID:38666335-3965-4730-b865-363130616531
DTSTAMP:20260421T192716Z
DESCRIPTION:1/2 SKV Ústí n. L. A - Volejbalový sportovní klub Spartak Děčín
  z.s. 2:0 (9\,14)
DTSTART;TZID=Europe/Berlin:20250323T090000
DTEND;TZID=Europe/Berlin:20250323T110000
LOCATION:Základní škola Stříbrnická\, Stříbrnická 3031 Ústí nad Labem - Sev
 erní Terasa
SUMMARY:US-U16Z-6: SKV Ústí n. L. A-Volejbalový sportovní klub Spartak Děčí
 n z.s.
END:VEVENT
BEGIN:VEVENT
UID:38343061-6438-4438-a465-663431316461
DTSTAMP:20260421T192716Z
DESCRIPTION:1/3 VK Jirkov - Volejbalový sportovní klub Spartak Děčín z.s. 2
 :1 (18\,-19\,11)
DTSTART;TZID=Europe/Berlin:20250323T090000
DTEND;TZID=Europe/Berlin:20250323T110000
LOCATION:Sportovní hala MG a ZŠ Jirkov\, Krušnohorská 1675 Jirkov
SUMMARY:US-U16Z-6: VK Jirkov-Volejbalový sportovní klub Spartak Děčín z.s.
END:VEVENT
END:VCALENDAR
