BEGIN:VCALENDAR
VERSION:2.0
PRODID:-//TJ VEROS Chomutov z.s.87373//NONSGML kigkonsult.se iCalcreator 2.41.80//
CALSCALE:GREGORIAN
UID:61616430-6232-4131-b833-326263396130
BEGIN:VEVENT
UID:30316666-6364-4662-b731-376364636239
DTSTAMP:20260421T210034Z
DESCRIPTION:3/13 TVEROS Chomutov - VK Sever Žatec\, z.s. 'B' 2:1 (-23\,18\,
 12)
DTSTART;TZID=Europe/Berlin:20240929T090200
DTEND;TZID=Europe/Berlin:20240929T110200
LOCATION:12. ZŠ Chomutov\, akademika Heyrovského 4539 Chomutov
SUMMARY:US-U16Z-KVAL: TVEROS Chomutov-VK Sever Žatec\, z.s. 'B'
END:VEVENT
BEGIN:VEVENT
UID:38363263-6362-4234-b464-326633313637
DTSTAMP:20260421T210034Z
DESCRIPTION:3/16 TVEROS Chomutov - Volejbalový klub Teplice z.s. 0:2 (-6\,-
 10)
DTSTART;TZID=Europe/Berlin:20240929T090200
DTEND;TZID=Europe/Berlin:20240929T110200
LOCATION:12. ZŠ Chomutov\, akademika Heyrovského 4539 Chomutov
SUMMARY:US-U16Z-KVAL: TVEROS Chomutov-Volejbalový klub Teplice z.s.
END:VEVENT
BEGIN:VEVENT
UID:63333562-3764-4264-a138-653831623732
DTSTAMP:20260421T210034Z
DESCRIPTION:3/18 Volejbal Ústí n L. - TVEROS Chomutov 2:0 (8\,11)
DTSTART;TZID=Europe/Berlin:20240929T090200
DTEND;TZID=Europe/Berlin:20240929T110200
LOCATION:Tělocvična Gymnázia a Střední odborné školy dr. Václava Šmejkala\,
  Stará 3299 Ústí nad Labem - Severní Terasa
SUMMARY:US-U16Z-KVAL: Volejbal Ústí n L.-TVEROS Chomutov
END:VEVENT
BEGIN:VEVENT
UID:33663331-3563-4534-b233-303563306664
DTSTAMP:20260421T210034Z
DESCRIPTION:3/18 TVEROS Chomutov - VTK Čížkovice\, z.s. 2:0 (23\,17)
DTSTART;TZID=Europe/Berlin:20241020T090200
DTEND;TZID=Europe/Berlin:20241020T110200
LOCATION:12. ZŠ Chomutov\, akademika Heyrovského 4539 Chomutov
SUMMARY:US-U16Z-1: TVEROS Chomutov-VTK Čížkovice\, z.s.
END:VEVENT
BEGIN:VEVENT
UID:38313063-3930-4335-a334-383733666262
DTSTAMP:20260421T210034Z
DESCRIPTION:3/14 VK Litvínov\, z.s. - TVEROS Chomutov 0:2 (-8\,-17)
DTSTART;TZID=Europe/Berlin:20241020T090200
DTEND;TZID=Europe/Berlin:20241020T110200
LOCATION:Sportovní hala Sportas\, U Koldomu 2049 Litvínov - Horní Litvínov
SUMMARY:US-U16Z-1: VK Litvínov\, z.s.-TVEROS Chomutov
END:VEVENT
BEGIN:VEVENT
UID:63653335-3561-4666-a363-333162613434
DTSTAMP:20260421T210034Z
DESCRIPTION:3/15 VK Sever Žatec\, z.s. 'B' - TVEROS Chomutov 1:2 (-22\,7\,-
 9)
DTSTART;TZID=Europe/Berlin:20241020T090200
DTEND;TZID=Europe/Berlin:20241020T110200
LOCATION:TJ Sever Žatec Plzeňská 2787\, Žatec
SUMMARY:US-U16Z-1: VK Sever Žatec\, z.s. 'B'-TVEROS Chomutov
END:VEVENT
BEGIN:VEVENT
UID:63363233-3133-4632-b939-383039323539
DTSTAMP:20260421T210034Z
DESCRIPTION:2/12 TVEROS Chomutov - Volejbalový sportovní klub Spartak Děčín
  z.s. 0:2 (-14\,-8)
DTSTART;TZID=Europe/Berlin:20241117T090100
DTEND;TZID=Europe/Berlin:20241117T110100
LOCATION:12. ZŠ Chomutov\, akademika Heyrovského 4539 Chomutov
SUMMARY:US-U16Z-2: TVEROS Chomutov-Volejbalový sportovní klub Spartak Děčín
  z.s.
END:VEVENT
BEGIN:VEVENT
UID:62613332-3536-4537-b032-343831333433
DTSTAMP:20260421T210034Z
DESCRIPTION:2/8 VK Sever Žatec\, z.s. 'A' - TVEROS Chomutov 1:2 (19\,-11\,-
 4)
DTSTART;TZID=Europe/Berlin:20241117T090100
DTEND;TZID=Europe/Berlin:20241117T110100
LOCATION:Sportovní hala TJ Sever Žatec\, Plzeňská 2787 Žatec
SUMMARY:US-U16Z-2: VK Sever Žatec\, z.s. 'A'-TVEROS Chomutov
END:VEVENT
BEGIN:VEVENT
UID:66643063-6132-4364-a431-373130373630
DTSTAMP:20260421T210034Z
DESCRIPTION:2/9 SK VOLEJBAL Ústí nad Labem\, z.s. 'B' - TVEROS Chomutov 2:1
  (21\,-18\,12)
DTSTART;TZID=Europe/Berlin:20241117T090100
DTEND;TZID=Europe/Berlin:20241117T110100
LOCATION:Základní škola Stříbrnická\, Stříbrnická 3031 Ústí nad Labem - Sev
 erní Terasa
SUMMARY:US-U16Z-2: SK VOLEJBAL Ústí nad Labem\, z.s. 'B'-TVEROS Chomutov
END:VEVENT
BEGIN:VEVENT
UID:65316338-6130-4966-b261-336138313763
DTSTAMP:20260421T210034Z
DESCRIPTION:2/12 TVEROS Chomutov - VK Jirkov 0:2 (-17\,-10)
DTSTART;TZID=Europe/Berlin:20241201T090100
DTEND;TZID=Europe/Berlin:20241201T110100
LOCATION:12. ZŠ Chomutov\, akademika Heyrovského 4539 Chomutov
SUMMARY:US-U16Z-3: TVEROS Chomutov-VK Jirkov
END:VEVENT
BEGIN:VEVENT
UID:64656433-3462-4332-b330-613432623839
DTSTAMP:20260421T210034Z
DESCRIPTION:2/8 VK Sever Žatec\, z.s. 'B' - TVEROS Chomutov 1:2 (18\,-16\,-
 8)
DTSTART;TZID=Europe/Berlin:20241201T090100
DTEND;TZID=Europe/Berlin:20241201T110100
LOCATION:TJ Sever Žatec Plzeňská 2787\, Žatec
SUMMARY:US-U16Z-3: VK Sever Žatec\, z.s. 'B'-TVEROS Chomutov
END:VEVENT
BEGIN:VEVENT
UID:65613730-3862-4139-a261-363662653433
DTSTAMP:20260421T210034Z
DESCRIPTION:2/9 SK VOLEJBAL Ústí nad Labem\, z.s. 'B' - TVEROS Chomutov 2:0
  (13\,25)
DTSTART;TZID=Europe/Berlin:20241201T090100
DTEND;TZID=Europe/Berlin:20241201T110100
LOCATION:Základní škola Stříbrnická\, Stříbrnická 3031 Ústí nad Labem - Sev
 erní Terasa
SUMMARY:US-U16Z-3: SK VOLEJBAL Ústí nad Labem\, z.s. 'B'-TVEROS Chomutov
END:VEVENT
BEGIN:VEVENT
UID:30313234-6439-4965-a633-646465623938
DTSTAMP:20260421T210034Z
DESCRIPTION:2/7 TVEROS Chomutov - VTK Čížkovice\, z.s. 2:1 (15\,-17\,13)
DTSTART;TZID=Europe/Berlin:20241215T090100
DTEND;TZID=Europe/Berlin:20241215T110100
LOCATION:12. ZŠ Chomutov\, akademika Heyrovského 4539 Chomutov
SUMMARY:US-U16Z-4: TVEROS Chomutov-VTK Čížkovice\, z.s.
END:VEVENT
BEGIN:VEVENT
UID:65306661-6563-4336-b830-333265336161
DTSTAMP:20260421T210034Z
DESCRIPTION:2/10 TVEROS Chomutov - Volejbalový klub Teplice z.s. 0:2 (-7\,-
 11)
DTSTART;TZID=Europe/Berlin:20241215T090100
DTEND;TZID=Europe/Berlin:20241215T110100
LOCATION:12. ZŠ Chomutov\, akademika Heyrovského 4539 Chomutov
SUMMARY:US-U16Z-4: TVEROS Chomutov-Volejbalový klub Teplice z.s.
END:VEVENT
BEGIN:VEVENT
UID:61346139-3537-4035-a362-333161643139
DTSTAMP:20260421T210034Z
DESCRIPTION:2/12 SK VOLEJBAL Ústí nad Labem\, z.s. 'B' - TVEROS Chomutov 0:
 2 (-17\,-18)
DTSTART;TZID=Europe/Berlin:20241215T090100
DTEND;TZID=Europe/Berlin:20241215T110100
LOCATION:Základní škola Stříbrnická\, Stříbrnická 3031 Ústí nad Labem - Sev
 erní Terasa
SUMMARY:US-U16Z-4: SK VOLEJBAL Ústí nad Labem\, z.s. 'B'-TVEROS Chomutov
END:VEVENT
BEGIN:VEVENT
UID:65363238-6138-4663-a434-343161343166
DTSTAMP:20260421T210034Z
DESCRIPTION:2/8 TVEROS Chomutov - SK VOLEJBAL Ústí nad Labem\, z.s. 'B' 1:2
  (12\,-23\,-12)
DTSTART;TZID=Europe/Berlin:20250112T090100
DTEND;TZID=Europe/Berlin:20250112T110100
LOCATION:12. ZŠ Chomutov\, akademika Heyrovského 4539 Chomutov
SUMMARY:US-U16Z-5: TVEROS Chomutov-SK VOLEJBAL Ústí nad Labem\, z.s. 'B'
END:VEVENT
BEGIN:VEVENT
UID:63366661-6632-4136-a130-346332636163
DTSTAMP:20260421T210034Z
DESCRIPTION:2/11 TVEROS Chomutov - VK Sever Žatec\, z.s. 'B' 1:2 (22\,-11\,
 -8)
DTSTART;TZID=Europe/Berlin:20250112T090100
DTEND;TZID=Europe/Berlin:20250112T110100
LOCATION:12. ZŠ Chomutov\, akademika Heyrovského 4539 Chomutov
SUMMARY:US-U16Z-5: TVEROS Chomutov-VK Sever Žatec\, z.s. 'B'
END:VEVENT
BEGIN:VEVENT
UID:63653962-3931-4534-b431-386566653361
DTSTAMP:20260421T210034Z
DESCRIPTION:2/10 VK Jirkov - TVEROS Chomutov 2:1 (15\,-22\,13)
DTSTART;TZID=Europe/Berlin:20250112T090100
DTEND;TZID=Europe/Berlin:20250112T110100
LOCATION:Sportovní hala MG a ZŠ Jirkov\, Krušnohorská 1675 Jirkov
SUMMARY:US-U16Z-5: VK Jirkov-TVEROS Chomutov
END:VEVENT
BEGIN:VEVENT
UID:61383734-6535-4132-b038-363834643330
DTSTAMP:20260421T210034Z
DESCRIPTION:2/12 TVEROS Chomutov - VK Sever Žatec\, z.s. 'A' 0:2 (-18\,-22)
DTSTART;TZID=Europe/Berlin:20250323T090100
DTEND;TZID=Europe/Berlin:20250323T110100
LOCATION:12. ZŠ Chomutov\, akademika Heyrovského 4539 Chomutov
SUMMARY:US-U16Z-6: TVEROS Chomutov-VK Sever Žatec\, z.s. 'A'
END:VEVENT
BEGIN:VEVENT
UID:37313037-3362-4664-b030-633565386539
DTSTAMP:20260421T210034Z
DESCRIPTION:2/8 VK Sever Žatec\, z.s. 'B' - TVEROS Chomutov 2:0 (25\,20)
DTSTART;TZID=Europe/Berlin:20250323T090100
DTEND;TZID=Europe/Berlin:20250323T110100
LOCATION:TJ Sever Žatec Plzeňská 2787\, Žatec
SUMMARY:US-U16Z-6: VK Sever Žatec\, z.s. 'B'-TVEROS Chomutov
END:VEVENT
BEGIN:VEVENT
UID:38626330-6334-4533-a166-663339646433
DTSTAMP:20260421T210034Z
DESCRIPTION:2/9 Volejbalový klub Teplice z.s. - TVEROS Chomutov 2:0 (10\,10
 )
DTSTART;TZID=Europe/Berlin:20250323T090100
DTEND;TZID=Europe/Berlin:20250323T110100
LOCATION:zš edisonova teplice Edisonova
SUMMARY:US-U16Z-6: Volejbalový klub Teplice z.s.-TVEROS Chomutov
END:VEVENT
END:VCALENDAR
