BEGIN:VCALENDAR
VERSION:2.0
PRODID:-//SK VOLEJBAL Ústí nad Labem, z.s. "B"87374//NONSGML kigkonsult.se iCalcreator 2.41.80//
CALSCALE:GREGORIAN
UID:64386265-3334-4236-b634-656435633234
BEGIN:VEVENT
UID:32363063-3266-4662-a538-646435623163
DTSTAMP:20260421T210112Z
DESCRIPTION:1/3 SK VOLEJBAL Ústí nad Labem\, z.s. 'B' - VK Litvínov\, z.s. 
 2:1 (24\,-21\,13)
DTSTART;TZID=Europe/Berlin:20240929T090000
DTEND;TZID=Europe/Berlin:20240929T110000
LOCATION:Základní škola Stříbrnická\, Stříbrnická 3031 Ústí nad Labem - Sev
 erní Terasa
SUMMARY:US-U16Z-KVAL: SK VOLEJBAL Ústí nad Labem\, z.s. 'B'-VK Litvínov\, z
 .s.
END:VEVENT
BEGIN:VEVENT
UID:31303165-6566-4632-b761-356237653734
DTSTAMP:20260421T210112Z
DESCRIPTION:1/1 VK Jirkov - SK VOLEJBAL Ústí nad Labem\, z.s. 'B' 2:0 (9\,1
 3)
DTSTART;TZID=Europe/Berlin:20240929T090000
DTEND;TZID=Europe/Berlin:20240929T110000
LOCATION:Sportovní hala MG a ZŠ Jirkov\, Krušnohorská 1675 Jirkov
SUMMARY:US-U16Z-KVAL: VK Jirkov-SK VOLEJBAL Ústí nad Labem\, z.s. 'B'
END:VEVENT
BEGIN:VEVENT
UID:65373138-3662-4133-b139-373438373739
DTSTAMP:20260421T210112Z
DESCRIPTION:1/5 Volejbalový sportovní klub Spartak Děčín z.s. - SK VOLEJBAL
  Ústí nad Labem\, z.s. 'B' 2:0 (8\,11)
DTSTART;TZID=Europe/Berlin:20240929T090000
DTEND;TZID=Europe/Berlin:20240929T110000
LOCATION:Tělocvična SPŠSaSt a VOŠ Děčín Čsl. armády 681 Děčín\, 40502
SUMMARY:US-U16Z-KVAL: Volejbalový sportovní klub Spartak Děčín z.s.-SK VOLE
 JBAL Ústí nad Labem\, z.s. 'B'
END:VEVENT
BEGIN:VEVENT
UID:36303832-3331-4434-a233-376332316566
DTSTAMP:20260421T210112Z
DESCRIPTION:2/9 SK VOLEJBAL Ústí nad Labem\, z.s. 'B' - Tělovýchovná jednot
 a Baník Most\, z.s. 2:1 (-19\,15\,10)
DTSTART;TZID=Europe/Berlin:20241020T090100
DTEND;TZID=Europe/Berlin:20241020T110100
LOCATION:Základní škola Stříbrnická\, Stříbrnická 3031 Ústí nad Labem - Sev
 erní Terasa
SUMMARY:US-U16Z-1: SK VOLEJBAL Ústí nad Labem\, z.s. 'B'-Tělovýchovná jedno
 ta Baník Most\, z.s.
END:VEVENT
BEGIN:VEVENT
UID:37653432-3463-4730-b463-653830613666
DTSTAMP:20260421T210112Z
DESCRIPTION:2/7 VK Sever Žatec\, z.s. 'A' - SK VOLEJBAL Ústí nad Labem\, z.
 s. 'B' 2:0 (23\,20)
DTSTART;TZID=Europe/Berlin:20241020T090100
DTEND;TZID=Europe/Berlin:20241020T110100
LOCATION:Sportovní hala TJ Sever Žatec\, Plzeňská 2787 Žatec
SUMMARY:US-U16Z-1: VK Sever Žatec\, z.s. 'A'-SK VOLEJBAL Ústí nad Labem\, z
 .s. 'B'
END:VEVENT
BEGIN:VEVENT
UID:39633437-3633-4566-a565-393739666632
DTSTAMP:20260421T210112Z
DESCRIPTION:2/11 VK Jirkov - SK VOLEJBAL Ústí nad Labem\, z.s. 'B' 2:0 (14\
 ,10)
DTSTART;TZID=Europe/Berlin:20241020T090100
DTEND;TZID=Europe/Berlin:20241020T110100
LOCATION:Sportovní hala MG a ZŠ Jirkov\, Krušnohorská 1675 Jirkov
SUMMARY:US-U16Z-1: VK Jirkov-SK VOLEJBAL Ústí nad Labem\, z.s. 'B'
END:VEVENT
BEGIN:VEVENT
UID:36323236-3037-4064-b163-323061346630
DTSTAMP:20260421T210112Z
DESCRIPTION:2/9 SK VOLEJBAL Ústí nad Labem\, z.s. 'B' - TVEROS Chomutov 2:1
  (21\,-18\,12)
DTSTART;TZID=Europe/Berlin:20241117T090100
DTEND;TZID=Europe/Berlin:20241117T110100
LOCATION:Základní škola Stříbrnická\, Stříbrnická 3031 Ústí nad Labem - Sev
 erní Terasa
SUMMARY:US-U16Z-2: SK VOLEJBAL Ústí nad Labem\, z.s. 'B'-TVEROS Chomutov
END:VEVENT
BEGIN:VEVENT
UID:36333330-3532-4566-b932-336461353732
DTSTAMP:20260421T210112Z
DESCRIPTION:2/7 Volejbalový sportovní klub Spartak Děčín z.s. - SK VOLEJBAL
  Ústí nad Labem\, z.s. 'B' 2:0 (24\,6)
DTSTART;TZID=Europe/Berlin:20241117T090100
DTEND;TZID=Europe/Berlin:20241117T110100
LOCATION:Tělocvična SPŠSaSt a VOŠ Děčín Čsl. armády 681 Děčín\, 40502
SUMMARY:US-U16Z-2: Volejbalový sportovní klub Spartak Děčín z.s.-SK VOLEJBA
 L Ústí nad Labem\, z.s. 'B'
END:VEVENT
BEGIN:VEVENT
UID:37613636-3939-4238-b665-646236666162
DTSTAMP:20260421T210112Z
DESCRIPTION:2/11 VK Sever Žatec\, z.s. 'A' - SK VOLEJBAL Ústí nad Labem\, z
 .s. 'B' 2:1 (6\,-11\,13)
DTSTART;TZID=Europe/Berlin:20241117T090100
DTEND;TZID=Europe/Berlin:20241117T110100
LOCATION:Sportovní hala TJ Sever Žatec\, Plzeňská 2787 Žatec
SUMMARY:US-U16Z-2: VK Sever Žatec\, z.s. 'A'-SK VOLEJBAL Ústí nad Labem\, z
 .s. 'B'
END:VEVENT
BEGIN:VEVENT
UID:35363534-3337-4661-b261-383931643462
DTSTAMP:20260421T210112Z
DESCRIPTION:2/9 SK VOLEJBAL Ústí nad Labem\, z.s. 'B' - TVEROS Chomutov 2:0
  (13\,25)
DTSTART;TZID=Europe/Berlin:20241201T090100
DTEND;TZID=Europe/Berlin:20241201T110100
LOCATION:Základní škola Stříbrnická\, Stříbrnická 3031 Ústí nad Labem - Sev
 erní Terasa
SUMMARY:US-U16Z-3: SK VOLEJBAL Ústí nad Labem\, z.s. 'B'-TVEROS Chomutov
END:VEVENT
BEGIN:VEVENT
UID:64396233-6438-4238-b865-336436373833
DTSTAMP:20260421T210112Z
DESCRIPTION:2/7 VK Jirkov - SK VOLEJBAL Ústí nad Labem\, z.s. 'B' 2:0 (18\,
 4)
DTSTART;TZID=Europe/Berlin:20241201T090100
DTEND;TZID=Europe/Berlin:20241201T110100
LOCATION:Sportovní hala MG a ZŠ Jirkov\, Krušnohorská 1675 Jirkov
SUMMARY:US-U16Z-3: VK Jirkov-SK VOLEJBAL Ústí nad Labem\, z.s. 'B'
END:VEVENT
BEGIN:VEVENT
UID:30333937-3535-4361-b737-363935303039
DTSTAMP:20260421T210112Z
DESCRIPTION:2/11 VK Sever Žatec\, z.s. 'B' - SK VOLEJBAL Ústí nad Labem\, z
 .s. 'B' 1:2 (16\,-23\,-4)
DTSTART;TZID=Europe/Berlin:20241201T090100
DTEND;TZID=Europe/Berlin:20241201T110100
LOCATION:TJ Sever Žatec Plzeňská 2787\, Žatec
SUMMARY:US-U16Z-3: VK Sever Žatec\, z.s. 'B'-SK VOLEJBAL Ústí nad Labem\, z
 .s. 'B'
END:VEVENT
BEGIN:VEVENT
UID:39616264-6561-4366-b531-383536383230
DTSTAMP:20260421T210112Z
DESCRIPTION:2/12 SK VOLEJBAL Ústí nad Labem\, z.s. 'B' - TVEROS Chomutov 0:
 2 (-17\,-18)
DTSTART;TZID=Europe/Berlin:20241215T090100
DTEND;TZID=Europe/Berlin:20241215T110100
LOCATION:Základní škola Stříbrnická\, Stříbrnická 3031 Ústí nad Labem - Sev
 erní Terasa
SUMMARY:US-U16Z-4: SK VOLEJBAL Ústí nad Labem\, z.s. 'B'-TVEROS Chomutov
END:VEVENT
BEGIN:VEVENT
UID:31353033-3665-4364-a437-356564373465
DTSTAMP:20260421T210112Z
DESCRIPTION:2/8 Volejbalový klub Teplice z.s. - SK VOLEJBAL Ústí nad Labem\
 , z.s. 'B' 2:1 (-18\,12\,5)
DTSTART;TZID=Europe/Berlin:20241215T090100
DTEND;TZID=Europe/Berlin:20241215T110100
LOCATION:zš edisonova teplice Edisonova
SUMMARY:US-U16Z-4: Volejbalový klub Teplice z.s.-SK VOLEJBAL Ústí nad Labem
 \, z.s. 'B'
END:VEVENT
BEGIN:VEVENT
UID:65376261-6234-4430-b530-633137653730
DTSTAMP:20260421T210112Z
DESCRIPTION:2/9 VTK Čížkovice\, z.s. - SK VOLEJBAL Ústí nad Labem\, z.s. 'B
 ' 1:2 (17\,-19\,-12)
DTSTART;TZID=Europe/Berlin:20241215T090100
DTEND;TZID=Europe/Berlin:20241215T110100
LOCATION:Hala při ZŠ Benešova 65\, 41112 Čížkovice
SUMMARY:US-U16Z-4: VTK Čížkovice\, z.s.-SK VOLEJBAL Ústí nad Labem\, z.s. '
 B'
END:VEVENT
BEGIN:VEVENT
UID:63613064-3737-4135-b138-396435333133
DTSTAMP:20260421T210112Z
DESCRIPTION:2/12 SK VOLEJBAL Ústí nad Labem\, z.s. 'B' - VK Jirkov 0:2 (-14
 \,-11)
DTSTART;TZID=Europe/Berlin:20250112T090100
DTEND;TZID=Europe/Berlin:20250112T110100
LOCATION:Základní škola Stříbrnická\, Stříbrnická 3031 Ústí nad Labem - Sev
 erní Terasa
SUMMARY:US-U16Z-5: SK VOLEJBAL Ústí nad Labem\, z.s. 'B'-VK Jirkov
END:VEVENT
BEGIN:VEVENT
UID:33326333-6237-4334-b364-613233306230
DTSTAMP:20260421T210112Z
DESCRIPTION:2/8 TVEROS Chomutov - SK VOLEJBAL Ústí nad Labem\, z.s. 'B' 1:2
  (12\,-23\,-12)
DTSTART;TZID=Europe/Berlin:20250112T090100
DTEND;TZID=Europe/Berlin:20250112T110100
LOCATION:12. ZŠ Chomutov\, akademika Heyrovského 4539 Chomutov
SUMMARY:US-U16Z-5: TVEROS Chomutov-SK VOLEJBAL Ústí nad Labem\, z.s. 'B'
END:VEVENT
BEGIN:VEVENT
UID:61646437-3736-4738-b766-346363383138
DTSTAMP:20260421T210112Z
DESCRIPTION:2/9 VK Sever Žatec\, z.s. 'B' - SK VOLEJBAL Ústí nad Labem\, z.
 s. 'B' 2:0 (20\,23)
DTSTART;TZID=Europe/Berlin:20250112T090100
DTEND;TZID=Europe/Berlin:20250112T110100
LOCATION:TJ Sever Žatec Plzeňská 2787\, Žatec
SUMMARY:US-U16Z-5: VK Sever Žatec\, z.s. 'B'-SK VOLEJBAL Ústí nad Labem\, z
 .s. 'B'
END:VEVENT
BEGIN:VEVENT
UID:37393462-3666-4635-b162-383737346536
DTSTAMP:20260421T210112Z
DESCRIPTION:3/18 SK VOLEJBAL Ústí nad Labem\, z.s. 'B' - VK Litvínov\, z.s.
  0:2 (-24\,-17)
DTSTART;TZID=Europe/Berlin:20250323T090200
DTEND;TZID=Europe/Berlin:20250323T110200
LOCATION:Základní škola Stříbrnická\, Stříbrnická 3031 Ústí nad Labem - Sev
 erní Terasa
SUMMARY:US-U16Z-6: SK VOLEJBAL Ústí nad Labem\, z.s. 'B'-VK Litvínov\, z.s.
END:VEVENT
BEGIN:VEVENT
UID:35356135-3935-4161-a261-343366386131
DTSTAMP:20260421T210112Z
DESCRIPTION:3/14 Tělovýchovná jednota Baník Most\, z.s. - SK VOLEJBAL Ústí 
 nad Labem\, z.s. 'B' 2:0 (20\,20)
DTSTART;TZID=Europe/Berlin:20250323T090200
DTEND;TZID=Europe/Berlin:20250323T110200
LOCATION:SPORTOVNÍ HALA MOST\, a.s.\, tř. Budovatelů 112 Most
SUMMARY:US-U16Z-6: Tělovýchovná jednota Baník Most\, z.s.-SK VOLEJBAL Ústí 
 nad Labem\, z.s. 'B'
END:VEVENT
BEGIN:VEVENT
UID:35323865-3763-4638-b538-656562623765
DTSTAMP:20260421T210112Z
DESCRIPTION:3/15 VTK Čížkovice\, z.s. - SK VOLEJBAL Ústí nad Labem\, z.s. '
 B' 2:0 (21\,16)
DTSTART;TZID=Europe/Berlin:20250323T090200
DTEND;TZID=Europe/Berlin:20250323T110200
LOCATION:Hala při ZŠ Benešova 65\, 41112 Čížkovice
SUMMARY:US-U16Z-6: VTK Čížkovice\, z.s.-SK VOLEJBAL Ústí nad Labem\, z.s. '
 B'
END:VEVENT
END:VCALENDAR
