BEGIN:VCALENDAR
VERSION:2.0
PRODID:-//Volejbalový klub Hronov, z.s. B87383//NONSGML kigkonsult.se iCalcreator 2.41.80//
CALSCALE:GREGORIAN
UID:36326462-3736-4237-a463-346362656633
BEGIN:VEVENT
UID:32363863-3837-4530-b434-343137366265
DTSTAMP:20260423T070933Z
DESCRIPTION:1/1 Volejbalový klub Hronov\, z.s. B - VK Dvůr Králové n.L. 3:0
  (20\,17\,17)
DTSTART;TZID=Europe/Berlin:20241012T100000
DTEND;TZID=Europe/Berlin:20241012T120000
LOCATION:ZŠ Hronov\, Palackého 162 Hronov
SUMMARY:HK-Z-1A: Volejbalový klub Hronov\, z.s. B-VK Dvůr Králové n.L.
END:VEVENT
BEGIN:VEVENT
UID:36393737-3031-4231-a332-313236633836
DTSTAMP:20260423T070933Z
DESCRIPTION:2/4 Volejbalový klub Hronov\, z.s. B - VK Dvůr Králové n.L. 2:3
  (12\,18\,-23\,-23\,-2)
DTSTART;TZID=Europe/Berlin:20241012T130000
DTEND;TZID=Europe/Berlin:20241012T150000
LOCATION:ZŠ Hronov\, Palackého 162 Hronov
SUMMARY:HK-Z-1A: Volejbalový klub Hronov\, z.s. B-VK Dvůr Králové n.L.
END:VEVENT
BEGIN:VEVENT
UID:37643238-6265-4534-a638-393437383333
DTSTAMP:20260423T070933Z
DESCRIPTION:3/9 Volejbalový klub Hronov\, z.s. B - Orel jednota Hradec Král
 ové 2:3 (21\,-15\,20\,-15\,-12)
DTSTART;TZID=Europe/Berlin:20241019T090000
DTEND;TZID=Europe/Berlin:20241019T110000
LOCATION:ZŠ Hronov\, Palackého 162 Hronov
SUMMARY:HK-Z-1A: Volejbalový klub Hronov\, z.s. B-Orel jednota Hradec Králo
 vé
END:VEVENT
BEGIN:VEVENT
UID:61363837-6362-4163-a463-623364663832
DTSTAMP:20260423T070933Z
DESCRIPTION:4/12 Volejbalový klub Hronov\, z.s. B - Orel jednota Hradec Krá
 lové 0:3 (-19\,-17\,-19)
DTSTART;TZID=Europe/Berlin:20241019T130000
DTEND;TZID=Europe/Berlin:20241019T150000
LOCATION:ZŠ Hronov\, Palackého 162 Hronov
SUMMARY:HK-Z-1A: Volejbalový klub Hronov\, z.s. B-Orel jednota Hradec Králo
 vé
END:VEVENT
BEGIN:VEVENT
UID:31323937-6431-4631-a462-326164616235
DTSTAMP:20260423T070933Z
DESCRIPTION:7/20 Volejbalový klub Hronov\, z.s. B - TJ Slavia Hradec Králov
 é\, z.s. C 1:3 (-18\,23\,-23\,-19)
DTSTART;TZID=Europe/Berlin:20241109T090000
DTEND;TZID=Europe/Berlin:20241109T110000
LOCATION:ZŠ Hronov\, Palackého 162 Hronov
SUMMARY:HK-Z-1A: Volejbalový klub Hronov\, z.s. B-TJ Slavia Hradec Králové\
 , z.s. C
END:VEVENT
BEGIN:VEVENT
UID:34326534-3264-4733-a139-323032623930
DTSTAMP:20260423T070933Z
DESCRIPTION:8/23 Volejbalový klub Hronov\, z.s. B - TJ Slavia Hradec Králov
 é\, z.s. C 0:3 (-21\,-24\,-16)
DTSTART;TZID=Europe/Berlin:20241109T130000
DTEND;TZID=Europe/Berlin:20241109T150000
LOCATION:ZŠ Hronov\, Palackého 162 Hronov
SUMMARY:HK-Z-1A: Volejbalový klub Hronov\, z.s. B-TJ Slavia Hradec Králové\
 , z.s. C
END:VEVENT
BEGIN:VEVENT
UID:61363234-6331-4233-b865-386465663866
DTSTAMP:20260423T070933Z
DESCRIPTION:15/44 Volejbalový klub Hronov\, z.s. B - Volejbal Červený Koste
 lec 1:3 (21\,-14\,-14\,-21)
DTSTART;TZID=Europe/Berlin:20241207T100000
DTEND;TZID=Europe/Berlin:20241207T120000
LOCATION:ZŠ Hronov\, Palackého 162 Hronov
SUMMARY:HK-Z-1A: Volejbalový klub Hronov\, z.s. B-Volejbal Červený Kostelec
END:VEVENT
BEGIN:VEVENT
UID:38306462-6632-4735-a136-313762656561
DTSTAMP:20260423T070934Z
DESCRIPTION:16/47 Volejbalový klub Hronov\, z.s. B - Volejbal Červený Koste
 lec 0:3 (-14\,-28\,-21)
DTSTART;TZID=Europe/Berlin:20241207T130000
DTEND;TZID=Europe/Berlin:20241207T150000
LOCATION:ZŠ Hronov\, Palackého 162 Hronov
SUMMARY:HK-Z-1A: Volejbalový klub Hronov\, z.s. B-Volejbal Červený Kostelec
END:VEVENT
BEGIN:VEVENT
UID:38336163-3736-4636-a364-616364363862
DTSTAMP:20260423T070934Z
DESCRIPTION:19/57 Volejbalový klub Hronov\, z.s. B - TJ LOKOMOTIVA TRUTNOV\
 , z.s. 2:3 (18\,-17\,22\,-18\,-13)
DTSTART;TZID=Europe/Berlin:20250118T090000
DTEND;TZID=Europe/Berlin:20250118T110000
LOCATION:ZŠ Hronov\, Palackého 162 Hronov
SUMMARY:HK-Z-1A: Volejbalový klub Hronov\, z.s. B-TJ LOKOMOTIVA TRUTNOV\, z
 .s.
END:VEVENT
BEGIN:VEVENT
UID:37333161-6632-4464-a364-666163336230
DTSTAMP:20260423T070934Z
DESCRIPTION:20/60 Volejbalový klub Hronov\, z.s. B - TJ LOKOMOTIVA TRUTNOV\
 , z.s. 2:3 (23\,-22\,-22\,19\,-13)
DTSTART;TZID=Europe/Berlin:20250118T130000
DTEND;TZID=Europe/Berlin:20250118T150000
LOCATION:ZŠ Hronov\, Palackého 162 Hronov
SUMMARY:HK-Z-1A: Volejbalový klub Hronov\, z.s. B-TJ LOKOMOTIVA TRUTNOV\, z
 .s.
END:VEVENT
BEGIN:VEVENT
UID:65623235-6336-4866-b230-643830313534
DTSTAMP:20260423T070934Z
DESCRIPTION:5/14 Volejbal Červený Kostelec - Volejbalový klub Hronov\, z.s.
  B 3:1 (15\,18\,-23\,11)
DTSTART;TZID=Europe/Berlin:20241102T090000
DTEND;TZID=Europe/Berlin:20241102T110000
LOCATION:Sportovní hala\, Palackého 1234 Červený Kostelec
SUMMARY:HK-Z-1A: Volejbal Červený Kostelec-Volejbalový klub Hronov\, z.s. B
END:VEVENT
BEGIN:VEVENT
UID:32386531-3234-4330-b864-323866343665
DTSTAMP:20260423T070934Z
DESCRIPTION:6/17 Volejbal Červený Kostelec - Volejbalový klub Hronov\, z.s.
  B 3:1 (13\,14\,-23\,16)
DTSTART;TZID=Europe/Berlin:20241102T130000
DTEND;TZID=Europe/Berlin:20241102T150000
LOCATION:Sportovní hala\, Palackého 1234 Červený Kostelec
SUMMARY:HK-Z-1A: Volejbal Červený Kostelec-Volejbalový klub Hronov\, z.s. B
END:VEVENT
BEGIN:VEVENT
UID:34616331-3662-4234-b864-313564333961
DTSTAMP:20260423T070934Z
DESCRIPTION:9/27 TJ LOKOMOTIVA TRUTNOV\, z.s. - Volejbalový klub Hronov\, z
 .s. B 0:3 (-13\,-14\,-17)
DTSTART;TZID=Europe/Berlin:20241005T100000
DTEND;TZID=Europe/Berlin:20241005T120000
LOCATION:Základní škola. Trutnov\, V Domcích 488\, V Domcích 488 Trutnov - 
 Horní Předměstí
SUMMARY:HK-Z-1A: TJ LOKOMOTIVA TRUTNOV\, z.s.-Volejbalový klub Hronov\, z.s
 . B
END:VEVENT
BEGIN:VEVENT
UID:65633534-3565-4737-a134-633837326131
DTSTAMP:20260423T070934Z
DESCRIPTION:10/30 TJ LOKOMOTIVA TRUTNOV\, z.s. - Volejbalový klub Hronov\, 
 z.s. B 3:2 (-18\,-20\,21\,14\,13)
DTSTART;TZID=Europe/Berlin:20241005T130000
DTEND;TZID=Europe/Berlin:20241005T150000
LOCATION:Základní škola. Trutnov\, V Domcích 488\, V Domcích 488 Trutnov - 
 Horní Předměstí
SUMMARY:HK-Z-1A: TJ LOKOMOTIVA TRUTNOV\, z.s.-Volejbalový klub Hronov\, z.s
 . B
END:VEVENT
BEGIN:VEVENT
UID:38383533-6430-4362-a362-633332313862
DTSTAMP:20260423T070934Z
DESCRIPTION:11/31 VK Dvůr Králové n.L. - Volejbalový klub Hronov\, z.s. B 3
 :2 (-12\,22\,-21\,16\,10)
DTSTART;TZID=Europe/Berlin:20241123T090000
DTEND;TZID=Europe/Berlin:20241123T110000
LOCATION:Hala ZŠ Strž\, Elišky Krásnohorské 2919 Dvůr Králové nad Labem
SUMMARY:HK-Z-1A: VK Dvůr Králové n.L.-Volejbalový klub Hronov\, z.s. B
END:VEVENT
BEGIN:VEVENT
UID:62343463-3062-4139-a265-666139366332
DTSTAMP:20260423T070934Z
DESCRIPTION:12/34 VK Dvůr Králové n.L. - Volejbalový klub Hronov\, z.s. B 0
 :3 (-24\,-16\,-11)
DTSTART;TZID=Europe/Berlin:20241123T120000
DTEND;TZID=Europe/Berlin:20241123T140000
LOCATION:Hala ZŠ Strž\, Elišky Krásnohorské 2919 Dvůr Králové nad Labem
SUMMARY:HK-Z-1A: VK Dvůr Králové n.L.-Volejbalový klub Hronov\, z.s. B
END:VEVENT
BEGIN:VEVENT
UID:39366666-3163-4237-b537-383562323436
DTSTAMP:20260423T070934Z
DESCRIPTION:13/39 Orel jednota Hradec Králové - Volejbalový klub Hronov\, z
 .s. B 3:1 (18\,17\,-22\,15)
DTSTART;TZID=Europe/Berlin:20241130T100000
DTEND;TZID=Europe/Berlin:20241130T120000
LOCATION:ZŠ Hradec Králové - Pouchov\, K Sokolovně 452 Hradec Králové - Pou
 chov
SUMMARY:HK-Z-1A: Orel jednota Hradec Králové-Volejbalový klub Hronov\, z.s.
  B
END:VEVENT
BEGIN:VEVENT
UID:38303530-6338-4865-b761-343830323335
DTSTAMP:20260423T070934Z
DESCRIPTION:14/42 Orel jednota Hradec Králové - Volejbalový klub Hronov\, z
 .s. B 3:0 (15\,11\,11)
DTSTART;TZID=Europe/Berlin:20241130T130000
DTEND;TZID=Europe/Berlin:20241130T150000
LOCATION:ZŠ Hradec Králové - Pouchov\, K Sokolovně 452 Hradec Králové - Pou
 chov
SUMMARY:HK-Z-1A: Orel jednota Hradec Králové-Volejbalový klub Hronov\, z.s.
  B
END:VEVENT
BEGIN:VEVENT
UID:38646164-3239-4562-a331-633639343836
DTSTAMP:20260423T070934Z
DESCRIPTION:17/50 TJ Slavia Hradec Králové\, z.s. C - Volejbalový klub Hron
 ov\, z.s. B 3:0 (13\,19\,21)
DTSTART;TZID=Europe/Berlin:20250111T100000
DTEND;TZID=Europe/Berlin:20250111T120000
LOCATION:Tělocvična ZŠ Jiráskovo náměstí - Hradec Králové\, Jiráskovo náměs
 tí 1166 Hradec Králové - Pražské Předměstí
SUMMARY:HK-Z-1A: TJ Slavia Hradec Králové\, z.s. C-Volejbalový klub Hronov\
 , z.s. B
END:VEVENT
BEGIN:VEVENT
UID:65616532-3964-4637-b765-346439323463
DTSTAMP:20260423T070934Z
DESCRIPTION:18/53 TJ Slavia Hradec Králové\, z.s. C - Volejbalový klub Hron
 ov\, z.s. B 3:1 (13\,20\,-21\,20)
DTSTART;TZID=Europe/Berlin:20250111T130000
DTEND;TZID=Europe/Berlin:20250111T150000
LOCATION:Tělocvična ZŠ Jiráskovo náměstí - Hradec Králové\, Jiráskovo náměs
 tí 1166 Hradec Králové - Pražské Předměstí
SUMMARY:HK-Z-1A: TJ Slavia Hradec Králové\, z.s. C-Volejbalový klub Hronov\
 , z.s. B
END:VEVENT
BEGIN:VEVENT
UID:65363866-6562-4437-b536-393561316461
DTSTAMP:20260423T070934Z
DESCRIPTION:1/2 Volejbalový klub Hronov\, z.s. B - Tělocvičná jednota Sokol
  Chlumec nad Cidlinou 2:3 (18\,20\,-16\,-16\,-9)
DTSTART;TZID=Europe/Berlin:20250301T100000
DTEND;TZID=Europe/Berlin:20250301T120000
LOCATION:ZŠ Hronov\, Palackého 162 Hronov
SUMMARY:HK-Z-1-II: Volejbalový klub Hronov\, z.s. B-Tělocvičná jednota Soko
 l Chlumec nad Cidlinou
END:VEVENT
BEGIN:VEVENT
UID:38633130-3533-4239-a663-323938653531
DTSTAMP:20260423T070934Z
DESCRIPTION:2/5 Volejbalový klub Hronov\, z.s. B - Tělocvičná jednota Sokol
  Chlumec nad Cidlinou 3:2 (10\,24\,-17\,-14\,8)
DTSTART;TZID=Europe/Berlin:20250301T130000
DTEND;TZID=Europe/Berlin:20250301T150000
LOCATION:ZŠ Hronov\, Palackého 162 Hronov
SUMMARY:HK-Z-1-II: Volejbalový klub Hronov\, z.s. B-Tělocvičná jednota Soko
 l Chlumec nad Cidlinou
END:VEVENT
BEGIN:VEVENT
UID:65343738-6637-4134-b230-323331316365
DTSTAMP:20260423T070934Z
DESCRIPTION:5/14 Volejbalový klub Hronov\, z.s. B - TJ Sokol Třebechovice p
 /O 0:3 (-22\,-21\,-18)
DTSTART;TZID=Europe/Berlin:20250216T100000
DTEND;TZID=Europe/Berlin:20250216T120000
LOCATION:ZŠ Hronov\, Palackého 162 Hronov
SUMMARY:HK-Z-1-II: Volejbalový klub Hronov\, z.s. B-TJ Sokol Třebechovice p
 /O
END:VEVENT
BEGIN:VEVENT
UID:38633633-3235-4930-a261-313763383262
DTSTAMP:20260423T070934Z
DESCRIPTION:6/17 Volejbalový klub Hronov\, z.s. B - TJ Sokol Třebechovice p
 /O 0:3 (-16\,-21\,-18)
DTSTART;TZID=Europe/Berlin:20250216T130000
DTEND;TZID=Europe/Berlin:20250216T150000
LOCATION:ZŠ Hronov\, Palackého 162 Hronov
SUMMARY:HK-Z-1-II: Volejbalový klub Hronov\, z.s. B-TJ Sokol Třebechovice p
 /O
END:VEVENT
BEGIN:VEVENT
UID:38383833-6534-4639-a232-393139313266
DTSTAMP:20260423T070934Z
DESCRIPTION:9/26 Volejbalový klub Hronov\, z.s. B - Orel jednota Studenec 3
 :1 (13\,21\,-23\,17)
DTSTART;TZID=Europe/Berlin:20250308T090000
DTEND;TZID=Europe/Berlin:20250308T110000
LOCATION:ZŠ Hronov\, Palackého 162 Hronov
SUMMARY:HK-Z-1-II: Volejbalový klub Hronov\, z.s. B-Orel jednota Studenec
END:VEVENT
BEGIN:VEVENT
UID:65363932-3432-4135-b436-323166633937
DTSTAMP:20260423T070934Z
DESCRIPTION:10/29 Volejbalový klub Hronov\, z.s. B - Orel jednota Studenec 
 1:3 (23\,-11\,-14\,-23)
DTSTART;TZID=Europe/Berlin:20250308T130000
DTEND;TZID=Europe/Berlin:20250308T150000
LOCATION:ZŠ Hronov\, Palackého 162 Hronov
SUMMARY:HK-Z-1-II: Volejbalový klub Hronov\, z.s. B-Orel jednota Studenec
END:VEVENT
BEGIN:VEVENT
UID:65383666-6634-4437-a265-366166663266
DTSTAMP:20260423T070934Z
DESCRIPTION:3/8 Orel jednota Studenec - Volejbalový klub Hronov\, z.s. B 3:
 0 (14\,17\,19)
DTSTART;TZID=Europe/Berlin:20250208T100000
DTEND;TZID=Europe/Berlin:20250208T120000
LOCATION:Sokolovna Studenec\,  Studenec59
SUMMARY:HK-Z-1-II: Orel jednota Studenec-Volejbalový klub Hronov\, z.s. B
END:VEVENT
BEGIN:VEVENT
UID:66373434-6461-4332-b337-373363383133
DTSTAMP:20260423T070934Z
DESCRIPTION:4/11 Orel jednota Studenec - Volejbalový klub Hronov\, z.s. B 1
 :3 (-22\,-21\,24\,-24)
DTSTART;TZID=Europe/Berlin:20250208T130000
DTEND;TZID=Europe/Berlin:20250208T150000
LOCATION:Sokolovna Studenec\,  Studenec59
SUMMARY:HK-Z-1-II: Orel jednota Studenec-Volejbalový klub Hronov\, z.s. B
END:VEVENT
BEGIN:VEVENT
UID:61666265-3639-4731-b131-656666363930
DTSTAMP:20260423T070934Z
DESCRIPTION:7/20 Tělocvičná jednota Sokol Chlumec nad Cidlinou - Volejbalov
 ý klub Hronov\, z.s. B 3:2 (-19\,15\,13\,-20\,10)
DTSTART;TZID=Europe/Berlin:20250222T100000
DTEND;TZID=Europe/Berlin:20250222T120000
LOCATION:Slavíčkova hala\, Sokolská 795 Chlumec nad Cidlinou - Chlumec nad 
 Cidlinou IV
SUMMARY:HK-Z-1-II: Tělocvičná jednota Sokol Chlumec nad Cidlinou-Volejbalov
 ý klub Hronov\, z.s. B
END:VEVENT
BEGIN:VEVENT
UID:39383065-3064-4637-b866-343330656562
DTSTAMP:20260423T070934Z
DESCRIPTION:8/23 Tělocvičná jednota Sokol Chlumec nad Cidlinou - Volejbalov
 ý klub Hronov\, z.s. B 0:3 (-22\,-22\,-20)
DTSTART;TZID=Europe/Berlin:20250222T130000
DTEND;TZID=Europe/Berlin:20250222T150000
LOCATION:Slavíčkova hala\, Sokolská 795 Chlumec nad Cidlinou - Chlumec nad 
 Cidlinou IV
SUMMARY:HK-Z-1-II: Tělocvičná jednota Sokol Chlumec nad Cidlinou-Volejbalov
 ý klub Hronov\, z.s. B
END:VEVENT
BEGIN:VEVENT
UID:37613932-6665-4461-b161-303635383361
DTSTAMP:20260423T070934Z
DESCRIPTION:11/32 TJ Sokol Třebechovice p/O - Volejbalový klub Hronov\, z.s
 . B 2:3 (-11\,21\,17\,-21\,-11)
DTSTART;TZID=Europe/Berlin:20250315T100000
DTEND;TZID=Europe/Berlin:20250315T120000
LOCATION:Sokolovna\, Heldovo náměstí 574 Třebechovice pod Orebem
SUMMARY:HK-Z-1-II: TJ Sokol Třebechovice p/O-Volejbalový klub Hronov\, z.s.
  B
END:VEVENT
BEGIN:VEVENT
UID:33303865-3930-4531-b766-613538616636
DTSTAMP:20260423T070934Z
DESCRIPTION:12/35 TJ Sokol Třebechovice p/O - Volejbalový klub Hronov\, z.s
 . B 0:3 (-18\,-22\,-13)
DTSTART;TZID=Europe/Berlin:20250315T130000
DTEND;TZID=Europe/Berlin:20250315T150000
LOCATION:Sokolovna\, Heldovo náměstí 574 Třebechovice pod Orebem
SUMMARY:HK-Z-1-II: TJ Sokol Třebechovice p/O-Volejbalový klub Hronov\, z.s.
  B
END:VEVENT
END:VCALENDAR
