BEGIN:VCALENDAR
VERSION:2.0
PRODID:-//B6 Brno87468//NONSGML kigkonsult.se iCalcreator 2.41.80//
CALSCALE:GREGORIAN
UID:36323336-3932-4738-a463-663838366530
BEGIN:VEVENT
UID:62636465-3930-4535-b264-336331363565
DTSTAMP:20260422T033917Z
DESCRIPTION:1/1 B6 Brno - ZŠ Milénova C 2:0 (14\,13)\nKurt 1
DTSTART;TZID=Europe/Berlin:20240914T090000
DTEND;TZID=Europe/Berlin:20240914T110000
LOCATION:Základní škola Brno\, Sirotkova 36\, Sirotkova 371 Brno - Žabovřes
 ky
SUMMARY:JM-U16Z-KVC: B6 Brno-ZŠ Milénova C
END:VEVENT
BEGIN:VEVENT
UID:63643163-6237-4061-b531-396462333762
DTSTAMP:20260422T033917Z
DESCRIPTION:10/10 B6 Brno - VOLEJBAL VYŠKOV\, z.s. 1:2 (-15\,22\,-5)\nKurt 
 1
DTSTART;TZID=Europe/Berlin:20240914T163000
DTEND;TZID=Europe/Berlin:20240914T183000
LOCATION:Základní škola Brno\, Sirotkova 36\, Sirotkova 371 Brno - Žabovřes
 ky
SUMMARY:JM-U16Z-KVC: B6 Brno-VOLEJBAL VYŠKOV\, z.s.
END:VEVENT
BEGIN:VEVENT
UID:31663062-6337-4135-a530-313139346531
DTSTAMP:20260422T033917Z
DESCRIPTION:3/3 KP Brno D - B6 Brno 0:2 (-10\,-9)\nKurt 1
DTSTART;TZID=Europe/Berlin:20240914T103000
DTEND;TZID=Europe/Berlin:20240914T123000
LOCATION:Sportovní gymnázium Ludvíka Daňka\, Botanická 63 Brno - Ponava
SUMMARY:JM-U16Z-KVC: KP Brno D-B6 Brno
END:VEVENT
BEGIN:VEVENT
UID:63376566-6462-4130-b732-376336643262
DTSTAMP:20260422T033917Z
DESCRIPTION:6/6 TJ Sokol Šlapanice B - B6 Brno 0:2 (-5\,-6)\nKurt 1
DTSTART;TZID=Europe/Berlin:20240914T130000
DTEND;TZID=Europe/Berlin:20240914T150000
LOCATION:ZŠ Na Zahrádkách \, Na Zahrádkách 1716 Šlapanice
SUMMARY:JM-U16Z-KVC: TJ Sokol Šlapanice B-B6 Brno
END:VEVENT
BEGIN:VEVENT
UID:63636666-3735-4461-b264-323166393638
DTSTAMP:20260422T033917Z
DESCRIPTION:3/3 B6 Brno - TJ Agrotec Hustopeče z.s. 2:0 (10\,19)
DTSTART;TZID=Europe/Berlin:20241012T114500
DTEND;TZID=Europe/Berlin:20241012T134500
LOCATION:ZŠ Vejrostova\, Vejrostova 1066 Brno - Bystrc
SUMMARY:JM-U16Z-IC: B6 Brno-TJ Agrotec Hustopeče z.s.
END:VEVENT
BEGIN:VEVENT
UID:34306462-6334-4337-b535-393862366630
DTSTAMP:20260422T033917Z
DESCRIPTION:1/1 VK Brno A - B6 Brno 2:0 (21\,12)
DTSTART;TZID=Europe/Berlin:20241012T090000
DTEND;TZID=Europe/Berlin:20241012T110000
LOCATION:ZŠ Vejrostova\, Vejrostova 1066 Brno - Bystrc
SUMMARY:JM-U16Z-IC: VK Brno A-B6 Brno
END:VEVENT
BEGIN:VEVENT
UID:37643937-3263-4531-b332-646261363436
DTSTAMP:20260422T033917Z
DESCRIPTION:5/5 TJ Minerva Boskovice - B6 Brno 1:2 (17\,-16\,-10)
DTSTART;TZID=Europe/Berlin:20241012T141500
DTEND;TZID=Europe/Berlin:20241012T161500
LOCATION:ZŠ Vejrostova\, Vejrostova 1066 Brno - Bystrc
SUMMARY:JM-U16Z-IC: TJ Minerva Boskovice-B6 Brno
END:VEVENT
BEGIN:VEVENT
UID:33623639-6336-4232-a438-656161326534
DTSTAMP:20260422T033917Z
DESCRIPTION:6/6 B6 Brno - Tělocvičná jednota Sokol Bučovice 2:0 (21\,20)
DTSTART;TZID=Europe/Berlin:20241109T153000
DTEND;TZID=Europe/Berlin:20241109T173000
LOCATION:ZŠ Bučovice 710\, Školní 710 Bučovice
SUMMARY:JM-U16Z-IIC: B6 Brno-Tělocvičná jednota Sokol Bučovice
END:VEVENT
BEGIN:VEVENT
UID:39613961-6433-4362-a136-626534303563
DTSTAMP:20260422T033917Z
DESCRIPTION:2/2 TJ Minerva Boskovice - B6 Brno 1:2 (20\,-21\,-13)
DTSTART;TZID=Europe/Berlin:20241109T103000
DTEND;TZID=Europe/Berlin:20241109T123000
LOCATION:ZŠ Bučovice 710\, Školní 710 Bučovice
SUMMARY:JM-U16Z-IIC: TJ Minerva Boskovice-B6 Brno
END:VEVENT
BEGIN:VEVENT
UID:38666530-3631-4464-a263-343065613231
DTSTAMP:20260422T033917Z
DESCRIPTION:3/3 SK Beach Slavkov - B6 Brno 0:2 (-4\,-16)
DTSTART;TZID=Europe/Berlin:20241109T114500
DTEND;TZID=Europe/Berlin:20241109T134500
LOCATION:ZŠ Bučovice 710\, Školní 710 Bučovice
SUMMARY:JM-U16Z-IIC: SK Beach Slavkov-B6 Brno
END:VEVENT
BEGIN:VEVENT
UID:62663038-6633-4337-a466-386636666338
DTSTAMP:20260422T033917Z
DESCRIPTION:3/3 B6 Brno - VOLEJBAL VYŠKOV\, z.s. 2:0 (19\,4)
DTSTART;TZID=Europe/Berlin:20241130T114500
DTEND;TZID=Europe/Berlin:20241130T134500
LOCATION:ZŠ Předklášteří\, Komenského 1097 Předklášteří
SUMMARY:JM-U16Z-IIIB: B6 Brno-VOLEJBAL VYŠKOV\, z.s.
END:VEVENT
BEGIN:VEVENT
UID:66343336-3564-4135-b437-386363323463
DTSTAMP:20260422T033917Z
DESCRIPTION:1/1 TJ Sokol Předklášteří - B6 Brno 1:2 (-12\,18\,-12)
DTSTART;TZID=Europe/Berlin:20241130T090000
DTEND;TZID=Europe/Berlin:20241130T110000
LOCATION:ZŠ Předklášteří\, Komenského 1097 Předklášteří
SUMMARY:JM-U16Z-IIIB: TJ Sokol Předklášteří-B6 Brno
END:VEVENT
BEGIN:VEVENT
UID:32346438-3638-4433-b331-336333306463
DTSTAMP:20260422T033917Z
DESCRIPTION:5/5 VK Znojmo - Přímětice - A - B6 Brno 2:0 (21\,17)
DTSTART;TZID=Europe/Berlin:20241130T141500
DTEND;TZID=Europe/Berlin:20241130T161500
LOCATION:ZŠ Předklášteří\, Komenského 1097 Předklášteří
SUMMARY:JM-U16Z-IIIB: VK Znojmo - Přímětice - A-B6 Brno
END:VEVENT
BEGIN:VEVENT
UID:38613965-3539-4435-b665-306462656430
DTSTAMP:20260422T033917Z
DESCRIPTION:2/2 B6 Brno - TJ Sokol Předklášteří 0:2 (-21\,-17)
DTSTART;TZID=Europe/Berlin:20241214T103000
DTEND;TZID=Europe/Berlin:20241214T123000
LOCATION:ZŠ Bučovice 710\, Školní 710 Bučovice
SUMMARY:JM-U16Z-IVB: B6 Brno-TJ Sokol Předklášteří
END:VEVENT
BEGIN:VEVENT
UID:62366332-6136-4661-a538-366336643065
DTSTAMP:20260422T033917Z
DESCRIPTION:5/5 B6 Brno - VK Brno A 0:2 (-23\,-19)
DTSTART;TZID=Europe/Berlin:20241214T141500
DTEND;TZID=Europe/Berlin:20241214T161500
LOCATION:ZŠ Bučovice 710\, Školní 710 Bučovice
SUMMARY:JM-U16Z-IVB: B6 Brno-VK Brno A
END:VEVENT
BEGIN:VEVENT
UID:65663665-6330-4130-b038-646230303431
DTSTAMP:20260422T033917Z
DESCRIPTION:4/4 Tělocvičná jednota Sokol Bučovice - B6 Brno 2:0 (24\,24)
DTSTART;TZID=Europe/Berlin:20241214T130000
DTEND;TZID=Europe/Berlin:20241214T150000
LOCATION:ZŠ Bučovice 710\, Školní 710 Bučovice
SUMMARY:JM-U16Z-IVB: Tělocvičná jednota Sokol Bučovice-B6 Brno
END:VEVENT
BEGIN:VEVENT
UID:37396466-3961-4436-b434-343437306264
DTSTAMP:20260422T033917Z
DESCRIPTION:6/6 B6 Brno - VOLEJBAL VYŠKOV\, z.s. 0:2 (-9\,-16)
DTSTART;TZID=Europe/Berlin:20250118T153000
DTEND;TZID=Europe/Berlin:20250118T173000
LOCATION:Tělocvična ZŠ Nádražní\, Nádražní 5 Vyškov - Vyškov-Město
SUMMARY:JM-U16Z-VC: B6 Brno-VOLEJBAL VYŠKOV\, z.s.
END:VEVENT
BEGIN:VEVENT
UID:36333232-3539-4465-a630-303639333930
DTSTAMP:20260422T033917Z
DESCRIPTION:2/2 TJ Minerva Boskovice - B6 Brno 2:0 (13\,21)
DTSTART;TZID=Europe/Berlin:20250118T103000
DTEND;TZID=Europe/Berlin:20250118T123000
LOCATION:Tělocvična ZŠ Nádražní\, Nádražní 5 Vyškov - Vyškov-Město
SUMMARY:JM-U16Z-VC: TJ Minerva Boskovice-B6 Brno
END:VEVENT
BEGIN:VEVENT
UID:62626632-6437-4366-a434-626231313761
DTSTAMP:20260422T033917Z
DESCRIPTION:3/3 SK Beach Slavkov - B6 Brno 2:0 (19\,19)
DTSTART;TZID=Europe/Berlin:20250118T114500
DTEND;TZID=Europe/Berlin:20250118T134500
LOCATION:Tělocvična ZŠ Nádražní\, Nádražní 5 Vyškov - Vyškov-Město
SUMMARY:JM-U16Z-VC: SK Beach Slavkov-B6 Brno
END:VEVENT
BEGIN:VEVENT
UID:36613836-3062-4334-b866-666339663638
DTSTAMP:20260422T033917Z
DESCRIPTION:1/2 B6 Brno - KP Brno C 0:2 (-18\,-12)
DTSTART;TZID=Europe/Berlin:20250201T090000
DTEND;TZID=Europe/Berlin:20250201T110000
LOCATION:tělocvičny ZŠ Novolíšeňská\, Brno\, Novolíšeňská 2411 Brno - Líšeň
SUMMARY:JM-U16Z-VID: B6 Brno-KP Brno C
END:VEVENT
BEGIN:VEVENT
UID:66326436-3435-4566-b866-656666326134
DTSTAMP:20260422T033917Z
DESCRIPTION:3/5 B6 Brno - TJ Sokol Šlapanice A 0:2 (-22\,-18)
DTSTART;TZID=Europe/Berlin:20250201T114500
DTEND;TZID=Europe/Berlin:20250201T134500
LOCATION:tělocvičny ZŠ Novolíšeňská\, Brno\, Novolíšeňská 2411 Brno - Líšeň
SUMMARY:JM-U16Z-VID: B6 Brno-TJ Sokol Šlapanice A
END:VEVENT
BEGIN:VEVENT
UID:37373537-3561-4262-a366-333638643732
DTSTAMP:20260422T033917Z
DESCRIPTION:2/4 TJ JUNIOR Brno A - B6 Brno 1:2 (-12\,24\,-13)
DTSTART;TZID=Europe/Berlin:20250201T103000
DTEND;TZID=Europe/Berlin:20250201T123000
LOCATION:tělocvičny ZŠ Novolíšeňská\, Brno\, Novolíšeňská 2411 Brno - Líšeň
SUMMARY:JM-U16Z-VID: TJ JUNIOR Brno A-B6 Brno
END:VEVENT
BEGIN:VEVENT
UID:30633233-3263-4461-b536-353437663765
DTSTAMP:20260422T033917Z
DESCRIPTION:3/3 B6 Brno - ZŠ Milénova C 2:0 (17\,17)
DTSTART;TZID=Europe/Berlin:20250222T114500
DTEND;TZID=Europe/Berlin:20250222T134500
LOCATION:Tělocvična ZŠ Nádražní\, Nádražní 5 Vyškov - Vyškov-Město
SUMMARY:JM-U16Z-VIIE: B6 Brno-ZŠ Milénova C
END:VEVENT
BEGIN:VEVENT
UID:30633630-3135-4332-b437-343531383362
DTSTAMP:20260422T033917Z
DESCRIPTION:1/1 VOLEJBAL VYŠKOV\, z.s. - B6 Brno 2:1 (11\,-20\,13)
DTSTART;TZID=Europe/Berlin:20250222T090000
DTEND;TZID=Europe/Berlin:20250222T110000
LOCATION:Tělocvična ZŠ Nádražní\, Nádražní 5 Vyškov - Vyškov-Město
SUMMARY:JM-U16Z-VIIE: VOLEJBAL VYŠKOV\, z.s.-B6 Brno
END:VEVENT
BEGIN:VEVENT
UID:61303434-3336-4633-a238-363832396231
DTSTAMP:20260422T033917Z
DESCRIPTION:5/5 TJ SOKOL LETOVICE 'B' - B6 Brno 2:1 (-20\,6\,11)
DTSTART;TZID=Europe/Berlin:20250222T141500
DTEND;TZID=Europe/Berlin:20250222T161500
LOCATION:Tělocvična ZŠ Nádražní\, Nádražní 5 Vyškov - Vyškov-Město
SUMMARY:JM-U16Z-VIIE: TJ SOKOL LETOVICE 'B'-B6 Brno
END:VEVENT
BEGIN:VEVENT
UID:32303136-6635-4333-b338-343361363935
DTSTAMP:20260422T033917Z
DESCRIPTION:3/5 B6 Brno - TJ SOKOL LETOVICE 'B' 2:0 (15\,11)
DTSTART;TZID=Europe/Berlin:20250315T114500
DTEND;TZID=Europe/Berlin:20250315T134500
LOCATION:Sportovní hala Letovice\, V zahradách 831 Letovice
SUMMARY:JM-U16Z-VIIIE: B6 Brno-TJ SOKOL LETOVICE 'B'
END:VEVENT
BEGIN:VEVENT
UID:36373434-3738-4138-a432-623439383230
DTSTAMP:20260422T033917Z
DESCRIPTION:1/2 TJ Agrotec Hustopeče z.s. - B6 Brno 0:2 (-6\,-14)
DTSTART;TZID=Europe/Berlin:20250315T090000
DTEND;TZID=Europe/Berlin:20250315T110000
LOCATION:Sportovní hala Letovice\, V zahradách 831 Letovice
SUMMARY:JM-U16Z-VIIIE: TJ Agrotec Hustopeče z.s.-B6 Brno
END:VEVENT
BEGIN:VEVENT
UID:35646133-3566-4263-a461-363331633436
DTSTAMP:20260422T033917Z
DESCRIPTION:2/3 KP Brno C - B6 Brno 0:2 (-18\,-15)
DTSTART;TZID=Europe/Berlin:20250315T103000
DTEND;TZID=Europe/Berlin:20250315T123000
LOCATION:Sportovní hala Letovice\, V zahradách 831 Letovice
SUMMARY:JM-U16Z-VIIIE: KP Brno C-B6 Brno
END:VEVENT
END:VCALENDAR
