BEGIN:VCALENDAR
VERSION:2.0
PRODID:-//SK PROSEK B87620//NONSGML kigkonsult.se iCalcreator 2.41.80//
CALSCALE:GREGORIAN
UID:37643530-6134-4764-b530-656564316132
BEGIN:VEVENT
UID:62376436-6634-4363-b233-646437303462
DTSTAMP:20260423T004327Z
DESCRIPTION:1/1 SK PROSEK B - SK Meteor Praha B 2:0 (16\,13)
DTSTART;TZID=Europe/Berlin:20240907T090000
DTEND;TZID=Europe/Berlin:20240907T110000
LOCATION:, U Meteoru 29 Praha - Libeň
SUMMARY:PP-U18M-1-A: SK PROSEK B-SK Meteor Praha B
END:VEVENT
BEGIN:VEVENT
UID:61313566-6330-4164-a233-646133373737
DTSTAMP:20260423T004327Z
DESCRIPTION:4/4 SK PROSEK B - SK Meteor Praha A 0:2 (-20\,-13)
DTSTART;TZID=Europe/Berlin:20240907T120000
DTEND;TZID=Europe/Berlin:20240907T140000
LOCATION:, U Meteoru 29 Praha - Libeň
SUMMARY:PP-U18M-1-A: SK PROSEK B-SK Meteor Praha A
END:VEVENT
BEGIN:VEVENT
UID:32366432-6337-4263-b339-363030653738
DTSTAMP:20260423T004327Z
DESCRIPTION:6/6 Volejbal Vršovice - SK PROSEK B 0:2 (-13\,-16)
DTSTART;TZID=Europe/Berlin:20240907T140000
DTEND;TZID=Europe/Berlin:20240907T160000
LOCATION:, U Meteoru 29 Praha - Libeň
SUMMARY:PP-U18M-1-A: Volejbal Vršovice-SK PROSEK B
END:VEVENT
BEGIN:VEVENT
UID:39323664-3030-4231-a561-386365396133
DTSTAMP:20260423T004327Z
DESCRIPTION:2/2 SK PROSEK B - Volejbal Vršovice 2:0 (18\,18)
DTSTART;TZID=Europe/Berlin:20241005T100000
DTEND;TZID=Europe/Berlin:20241005T120000
LOCATION:Sokol Bubeneč\, Korunovační 630 Praha - Bubeneč
SUMMARY:PP-U18M-2-A: SK PROSEK B-Volejbal Vršovice
END:VEVENT
BEGIN:VEVENT
UID:63366532-3266-4532-a164-313463663932
DTSTAMP:20260423T004327Z
DESCRIPTION:5/5 SK PROSEK B - SK Meteor Praha B 2:0 (14\,14)
DTSTART;TZID=Europe/Berlin:20241005T130000
DTEND;TZID=Europe/Berlin:20241005T150000
LOCATION:Sokol Bubeneč\, Korunovační 630 Praha - Bubeneč
SUMMARY:PP-U18M-2-A: SK PROSEK B-SK Meteor Praha B
END:VEVENT
BEGIN:VEVENT
UID:61663931-3336-4731-a463-396330633330
DTSTAMP:20260423T004327Z
DESCRIPTION:4/4 SK Meteor Praha A - SK PROSEK B 0:2 (-19\,-21)
DTSTART;TZID=Europe/Berlin:20241005T120000
DTEND;TZID=Europe/Berlin:20241005T140000
LOCATION:Sokol Bubeneč\, Korunovační 630 Praha - Bubeneč
SUMMARY:PP-U18M-2-A: SK Meteor Praha A-SK PROSEK B
END:VEVENT
BEGIN:VEVENT
UID:37666531-6663-4366-a664-383536653839
DTSTAMP:20260423T004327Z
DESCRIPTION:2/2 SK PROSEK B - SK Meteor Praha B 2:0 (18\,10)
DTSTART;TZID=Europe/Berlin:20241116T090000
DTEND;TZID=Europe/Berlin:20241116T110000
LOCATION:Sokol Bubeneč\, Korunovační 630 Praha - Bubeneč
SUMMARY:PP-U18M-3-A: SK PROSEK B-SK Meteor Praha B
END:VEVENT
BEGIN:VEVENT
UID:35323238-6561-4265-a334-343936303666
DTSTAMP:20260423T004327Z
DESCRIPTION:5/5 SK PROSEK B - Volejbal Vršovice 2:0 (21\,13)
DTSTART;TZID=Europe/Berlin:20241116T110000
DTEND;TZID=Europe/Berlin:20241116T130000
LOCATION:Sokol Bubeneč\, Korunovační 630 Praha - Bubeneč
SUMMARY:PP-U18M-3-A: SK PROSEK B-Volejbal Vršovice
END:VEVENT
BEGIN:VEVENT
UID:37306133-6638-4462-b430-613838333838
DTSTAMP:20260423T004327Z
DESCRIPTION:4/4 SK Meteor Praha A - SK PROSEK B 2:1 (-20\,19\,11)
DTSTART;TZID=Europe/Berlin:20241116T100000
DTEND;TZID=Europe/Berlin:20241116T120000
LOCATION:Sokol Bubeneč\, Korunovační 630 Praha - Bubeneč
SUMMARY:PP-U18M-3-A: SK Meteor Praha A-SK PROSEK B
END:VEVENT
BEGIN:VEVENT
UID:38333966-3537-4831-b864-643437333466
DTSTAMP:20260423T004327Z
DESCRIPTION:2/2 SK PROSEK B - SK Meteor Praha B 2:0 (22\,7)
DTSTART;TZID=Europe/Berlin:20241221T090000
DTEND;TZID=Europe/Berlin:20241221T110000
LOCATION:Sokol Bubeneč\, Korunovační 630 Praha - Bubeneč
SUMMARY:PP-U18M-4-A: SK PROSEK B-SK Meteor Praha B
END:VEVENT
BEGIN:VEVENT
UID:64653230-3531-4734-b465-313338613534
DTSTAMP:20260423T004327Z
DESCRIPTION:5/5 SK PROSEK B - Volejbal Vršovice 2:0 (8\,24)
DTSTART;TZID=Europe/Berlin:20241221T110000
DTEND;TZID=Europe/Berlin:20241221T130000
LOCATION:Sokol Bubeneč\, Korunovační 630 Praha - Bubeneč
SUMMARY:PP-U18M-4-A: SK PROSEK B-Volejbal Vršovice
END:VEVENT
BEGIN:VEVENT
UID:61313038-6433-4834-b964-376433343439
DTSTAMP:20260423T004327Z
DESCRIPTION:4/4 SK Meteor Praha A - SK PROSEK B 0:2 (-16\,-19)
DTSTART;TZID=Europe/Berlin:20241221T100000
DTEND;TZID=Europe/Berlin:20241221T120000
LOCATION:Sokol Bubeneč\, Korunovační 630 Praha - Bubeneč
SUMMARY:PP-U18M-4-A: SK Meteor Praha A-SK PROSEK B
END:VEVENT
BEGIN:VEVENT
UID:37656362-3430-4633-b464-386639623138
DTSTAMP:20260423T004327Z
DESCRIPTION:1/1 SK PROSEK B - Volejbal Vršovice 2:0 (11\,19)
DTSTART;TZID=Europe/Berlin:20250125T090000
DTEND;TZID=Europe/Berlin:20250125T110000
LOCATION:Sokol Bubeneč\, Korunovační 630 Praha - Bubeneč
SUMMARY:PP-U18M-5-A: SK PROSEK B-Volejbal Vršovice
END:VEVENT
BEGIN:VEVENT
UID:63393233-3936-4766-b533-613461373033
DTSTAMP:20260423T004327Z
DESCRIPTION:4/4 SK PROSEK B - SK Meteor Praha A 2:1 (-17\,21\,10)
DTSTART;TZID=Europe/Berlin:20250125T100000
DTEND;TZID=Europe/Berlin:20250125T120000
LOCATION:Sokol Bubeneč\, Korunovační 630 Praha - Bubeneč
SUMMARY:PP-U18M-5-A: SK PROSEK B-SK Meteor Praha A
END:VEVENT
BEGIN:VEVENT
UID:61373433-3566-4863-b039-353335653638
DTSTAMP:20260423T004327Z
DESCRIPTION:6/6 SK Meteor Praha B - SK PROSEK B 0:2 (-13\,-16)
DTSTART;TZID=Europe/Berlin:20250125T110000
DTEND;TZID=Europe/Berlin:20250125T130000
LOCATION:Sokol Bubeneč\, Korunovační 630 Praha - Bubeneč
SUMMARY:PP-U18M-5-A: SK Meteor Praha B-SK PROSEK B
END:VEVENT
BEGIN:VEVENT
UID:63346331-3432-4364-a361-366235303930
DTSTAMP:20260423T004327Z
DESCRIPTION:1/1 SK PROSEK B - SK Meteor Praha B 2:0 (12\,8)
DTSTART;TZID=Europe/Berlin:20250315T090000
DTEND;TZID=Europe/Berlin:20250315T110000
LOCATION:Sokol Bubeneč\, Korunovační 630 Praha - Bubeneč
SUMMARY:PP-U18M-6-A: SK PROSEK B-SK Meteor Praha B
END:VEVENT
BEGIN:VEVENT
UID:38303038-3438-4336-b238-633535663332
DTSTAMP:20260423T004327Z
DESCRIPTION:4/4 SK PROSEK B - SK Meteor Praha A 2:0 (23\,12)
DTSTART;TZID=Europe/Berlin:20250315T100000
DTEND;TZID=Europe/Berlin:20250315T120000
LOCATION:Sokol Bubeneč\, Korunovační 630 Praha - Bubeneč
SUMMARY:PP-U18M-6-A: SK PROSEK B-SK Meteor Praha A
END:VEVENT
BEGIN:VEVENT
UID:37626631-3139-4364-b962-323934353234
DTSTAMP:20260423T004327Z
DESCRIPTION:6/6 Volejbal Vršovice - SK PROSEK B 0:2 (-22\,-12)
DTSTART;TZID=Europe/Berlin:20250315T110000
DTEND;TZID=Europe/Berlin:20250315T130000
LOCATION:Sokol Bubeneč\, Korunovační 630 Praha - Bubeneč
SUMMARY:PP-U18M-6-A: Volejbal Vršovice-SK PROSEK B
END:VEVENT
BEGIN:VEVENT
UID:61316635-6439-4262-b663-323034363039
DTSTAMP:20260423T004327Z
DESCRIPTION:1/2 SK PROSEK B - Sokolov 2:3 (-22\,24\,-21\,15\,-5)
DTSTART;TZID=Europe/Berlin:20250412T133000
DTEND;TZID=Europe/Berlin:20250412T153000
LOCATION:Mattoni Arena Hala míčových sportů\, Západní 1812 Karlovy Vary
SUMMARY:EX-U18M-KA: SK PROSEK B-Sokolov
END:VEVENT
BEGIN:VEVENT
UID:65626632-3066-4462-a238-343431373062
DTSTAMP:20260423T004327Z
DESCRIPTION:1/1 Karlovarsko - SK PROSEK B 3:0 (21\,21\,24)
DTSTART;TZID=Europe/Berlin:20250412T103000
DTEND;TZID=Europe/Berlin:20250412T123000
LOCATION:Mattoni Arena Hala míčových sportů\, Západní 1812 Karlovy Vary
SUMMARY:EX-U18M-KA: Karlovarsko-SK PROSEK B
END:VEVENT
END:VCALENDAR
