BEGIN:VCALENDAR
VERSION:2.0
PRODID:-//TJ Šumperk A87723//NONSGML kigkonsult.se iCalcreator 2.41.80//
CALSCALE:GREGORIAN
UID:61386230-3562-4932-b366-333165653339
BEGIN:VEVENT
UID:32343563-3764-4134-b733-636137666162
DTSTAMP:20260421T223029Z
DESCRIPTION:3/6 TJ Šumperk A - VK Olomouc A 0:2 (-13\,-2)\nKurt A
DTSTART;TZID=Europe/Berlin:20240929T110000
DTEND;TZID=Europe/Berlin:20240929T130000
LOCATION:3. ZŠ Šumperk\, 8. května 870 Šumperk
SUMMARY:OLK-U16Z-KA: TJ Šumperk A-VK Olomouc A
END:VEVENT
BEGIN:VEVENT
UID:63623832-6431-4765-b064-356463333432
DTSTAMP:20260421T223029Z
DESCRIPTION:5/9 TJ Šumperk A - Přerov B 2:0 (13\,17)\nKurt A
DTSTART;TZID=Europe/Berlin:20240929T130000
DTEND;TZID=Europe/Berlin:20240929T150000
LOCATION:3. ZŠ Šumperk\, 8. května 870 Šumperk
SUMMARY:OLK-U16Z-KA: TJ Šumperk A-Přerov B
END:VEVENT
BEGIN:VEVENT
UID:65643837-3061-4539-a334-633730613765
DTSTAMP:20260421T223029Z
DESCRIPTION:1/2 VAM Olomouc B - TJ Šumperk A 1:2 (18\,-23\,-7)\nKurt A
DTSTART;TZID=Europe/Berlin:20240929T090000
DTEND;TZID=Europe/Berlin:20240929T110000
LOCATION:3. ZŠ Šumperk\, 8. května 870 Šumperk
SUMMARY:OLK-U16Z-KA: VAM Olomouc B-TJ Šumperk A
END:VEVENT
BEGIN:VEVENT
UID:39323437-6661-4139-b862-383238643337
DTSTAMP:20260421T223029Z
DESCRIPTION:4/7 TJ Sokol Troubky - TJ Šumperk A 2:0 (25\,16)\nKurt A
DTSTART;TZID=Europe/Berlin:20240929T120000
DTEND;TZID=Europe/Berlin:20240929T140000
LOCATION:3. ZŠ Šumperk\, 8. května 870 Šumperk
SUMMARY:OLK-U16Z-KA: TJ Sokol Troubky-TJ Šumperk A
END:VEVENT
BEGIN:VEVENT
UID:66333062-6430-4865-b331-633834386631
DTSTAMP:20260421T223029Z
DESCRIPTION:1/1 TJ Šumperk A - TJ Šternberk A 1:2 (19\,-15\,-7)\nKurt B
DTSTART;TZID=Europe/Berlin:20241013T100000
DTEND;TZID=Europe/Berlin:20241013T120000
LOCATION:Městská sportovní hala\, Hanusíkova 1476 Kojetín - Kojetín I-Město
SUMMARY:OLK-U16Z-1B: TJ Šumperk A-TJ Šternberk A
END:VEVENT
BEGIN:VEVENT
UID:33393736-3334-4236-a432-633634343630
DTSTAMP:20260421T223029Z
DESCRIPTION:2/4 TJ Šumperk A - KRS Uničov A 0:2 (-13\,-20)\nKurt B
DTSTART;TZID=Europe/Berlin:20241013T113000
DTEND;TZID=Europe/Berlin:20241013T133000
LOCATION:Městská sportovní hala\, Hanusíkova 1476 Kojetín - Kojetín I-Město
SUMMARY:OLK-U16Z-1B: TJ Šumperk A-KRS Uničov A
END:VEVENT
BEGIN:VEVENT
UID:31656362-3864-4066-b538-393733366565
DTSTAMP:20260421T223029Z
DESCRIPTION:3/6 SK Kojetín - TJ Šumperk A 2:0 (5\,11)\nKurt A
DTSTART;TZID=Europe/Berlin:20241013T130000
DTEND;TZID=Europe/Berlin:20241013T150000
LOCATION:Městská sportovní hala\, Hanusíkova 1476 Kojetín - Kojetín I-Město
SUMMARY:OLK-U16Z-1B: SK Kojetín-TJ Šumperk A
END:VEVENT
BEGIN:VEVENT
UID:63353536-3761-4530-a639-656232646163
DTSTAMP:20260421T223029Z
DESCRIPTION:1/1 TJ Šumperk A - VK Olomouc C 1:2 (-16\,21\,-12)\nKurt A
DTSTART;TZID=Europe/Berlin:20241027T100000
DTEND;TZID=Europe/Berlin:20241027T120000
LOCATION:Národní sportovní centrum\, Za velodromem 4187 Prostějov
SUMMARY:OLK-U16Z-2C: TJ Šumperk A-VK Olomouc C
END:VEVENT
BEGIN:VEVENT
UID:66636238-6631-4435-a261-346563626338
DTSTAMP:20260421T223029Z
DESCRIPTION:2/4 TJ Šumperk A - VK Prostějov C 0:2 (-19\,-20)\nKurt B
DTSTART;TZID=Europe/Berlin:20241027T113000
DTEND;TZID=Europe/Berlin:20241027T133000
LOCATION:Národní sportovní centrum\, Za velodromem 4187 Prostějov
SUMMARY:OLK-U16Z-2C: TJ Šumperk A-VK Prostějov C
END:VEVENT
BEGIN:VEVENT
UID:63363739-3737-4139-b861-373364623365
DTSTAMP:20260421T223029Z
DESCRIPTION:3/6 VK Prostějov B - TJ Šumperk A 0:2 (-17\,-20)\nKurt B
DTSTART;TZID=Europe/Berlin:20241027T130000
DTEND;TZID=Europe/Berlin:20241027T150000
LOCATION:Národní sportovní centrum\, Za velodromem 4187 Prostějov
SUMMARY:OLK-U16Z-2C: VK Prostějov B-TJ Šumperk A
END:VEVENT
BEGIN:VEVENT
UID:37316331-3837-4637-b264-373064353130
DTSTAMP:20260421T223029Z
DESCRIPTION:3/6 TJ Šumperk A - TJ Šternberk A 1:2 (-21\,15\,-10)\nKurt B
DTSTART;TZID=Europe/Berlin:20241110T140000
DTEND;TZID=Europe/Berlin:20241110T160000
LOCATION:Národní sportovní centrum\, Za velodromem 4187 Prostějov
SUMMARY:OLK-U16Z-3C: TJ Šumperk A-TJ Šternberk A
END:VEVENT
BEGIN:VEVENT
UID:32353834-3835-4933-b433-343463363533
DTSTAMP:20260421T223029Z
DESCRIPTION:1/2 VK Prostějov B - TJ Šumperk A 1:2 (19\,-18\,-14)\nKurt A
DTSTART;TZID=Europe/Berlin:20241110T100000
DTEND;TZID=Europe/Berlin:20241110T120000
LOCATION:Národní sportovní centrum\, Za velodromem 4187 Prostějov
SUMMARY:OLK-U16Z-3C: VK Prostějov B-TJ Šumperk A
END:VEVENT
BEGIN:VEVENT
UID:33353234-3431-4435-a431-333335346666
DTSTAMP:20260421T223029Z
DESCRIPTION:2/3 VAM Olomouc B - TJ Šumperk A 0:2 (-14\,-21)\nKurt B
DTSTART;TZID=Europe/Berlin:20241110T120000
DTEND;TZID=Europe/Berlin:20241110T140000
LOCATION:Národní sportovní centrum\, Za velodromem 4187 Prostějov
SUMMARY:OLK-U16Z-3C: VAM Olomouc B-TJ Šumperk A
END:VEVENT
BEGIN:VEVENT
UID:34306665-3233-4638-b162-626366313832
DTSTAMP:20260421T223029Z
DESCRIPTION:1/2 TJ Šumperk A - TJ Šternberk A 2:0 (15\,19)\nKurt B
DTSTART;TZID=Europe/Berlin:20241201T100000
DTEND;TZID=Europe/Berlin:20241201T120000
LOCATION:Národní sportovní centrum\, Za velodromem 4187 Prostějov
SUMMARY:OLK-U16Z-4C: TJ Šumperk A-TJ Šternberk A
END:VEVENT
BEGIN:VEVENT
UID:34393435-3866-4230-b636-313666653565
DTSTAMP:20260421T223029Z
DESCRIPTION:3/5 TJ Šumperk A - Přerov B 2:0 (5\,15)\nKurt B
DTSTART;TZID=Europe/Berlin:20241201T140000
DTEND;TZID=Europe/Berlin:20241201T160000
LOCATION:Národní sportovní centrum\, Za velodromem 4187 Prostějov
SUMMARY:OLK-U16Z-4C: TJ Šumperk A-Přerov B
END:VEVENT
BEGIN:VEVENT
UID:37353535-3962-4463-a137-333032663838
DTSTAMP:20260421T223029Z
DESCRIPTION:2/4 VK Prostějov C - TJ Šumperk A 2:1 (9\,-20\,12)\nKurt A
DTSTART;TZID=Europe/Berlin:20241201T120000
DTEND;TZID=Europe/Berlin:20241201T140000
LOCATION:Národní sportovní centrum\, Za velodromem 4187 Prostějov
SUMMARY:OLK-U16Z-4C: VK Prostějov C-TJ Šumperk A
END:VEVENT
BEGIN:VEVENT
UID:35393263-6636-4262-a330-363065396265
DTSTAMP:20260421T223029Z
DESCRIPTION:1/1 TJ Šumperk A - TJ Šternberk A 2:0 (17\,14)
DTSTART;TZID=Europe/Berlin:20241208T090000
DTEND;TZID=Europe/Berlin:20241208T110000
LOCATION:3. ZŠ Šumperk\, 8. května 870 Šumperk
SUMMARY:OLK-U16Z-5C: TJ Šumperk A-TJ Šternberk A
END:VEVENT
BEGIN:VEVENT
UID:30663966-6632-4332-b639-333061363039
DTSTAMP:20260421T223029Z
DESCRIPTION:6/6 TJ Šumperk A - VK Olomouc C 2:1 (-22\,21\,10)
DTSTART;TZID=Europe/Berlin:20241208T140000
DTEND;TZID=Europe/Berlin:20241208T160000
LOCATION:3. ZŠ Šumperk\, 8. května 870 Šumperk
SUMMARY:OLK-U16Z-5C: TJ Šumperk A-VK Olomouc C
END:VEVENT
BEGIN:VEVENT
UID:62386366-3330-4333-b134-656239643032
DTSTAMP:20260421T223029Z
DESCRIPTION:4/4 VK Prostějov B - TJ Šumperk A 1:2 (-20\,13\,-10)
DTSTART;TZID=Europe/Berlin:20241208T120000
DTEND;TZID=Europe/Berlin:20241208T140000
LOCATION:3. ZŠ Šumperk\, 8. května 870 Šumperk
SUMMARY:OLK-U16Z-5C: VK Prostějov B-TJ Šumperk A
END:VEVENT
BEGIN:VEVENT
UID:64626135-6633-4434-b135-303535343734
DTSTAMP:20260421T223029Z
DESCRIPTION:2/3 TJ Šumperk A - VK Olomouc B 2:1 (20\,-13\,14)\nKurt A
DTSTART;TZID=Europe/Berlin:20250112T101500
DTEND;TZID=Europe/Berlin:20250112T121500
LOCATION:3. ZŠ Šumperk\, 8. května 870 Šumperk
SUMMARY:OLK-U16Z-6B: TJ Šumperk A-VK Olomouc B
END:VEVENT
BEGIN:VEVENT
UID:31653566-3965-4732-a139-623430646133
DTSTAMP:20260421T223029Z
DESCRIPTION:1/1 Přerov A - TJ Šumperk A 2:0 (8\,12)\nKurt A
DTSTART;TZID=Europe/Berlin:20250112T090000
DTEND;TZID=Europe/Berlin:20250112T110000
LOCATION:3. ZŠ Šumperk\, 8. května 870 Šumperk
SUMMARY:OLK-U16Z-6B: Přerov A-TJ Šumperk A
END:VEVENT
BEGIN:VEVENT
UID:62626561-6466-4562-b863-643430303331
DTSTAMP:20260421T223029Z
DESCRIPTION:3/5 KRS Uničov A - TJ Šumperk A 1:2 (21\,-18\,-11)\nKurt A
DTSTART;TZID=Europe/Berlin:20250112T113000
DTEND;TZID=Europe/Berlin:20250112T133000
LOCATION:3. ZŠ Šumperk\, 8. května 870 Šumperk
SUMMARY:OLK-U16Z-6B: KRS Uničov A-TJ Šumperk A
END:VEVENT
BEGIN:VEVENT
UID:34653161-3362-4165-b936-333630316161
DTSTAMP:20260421T223029Z
DESCRIPTION:1/2 TJ Šumperk A - KRS Uničov A 1:2 (24\,-19\,-13)\nKurt B
DTSTART;TZID=Europe/Berlin:20250119T100000
DTEND;TZID=Europe/Berlin:20250119T120000
LOCATION:Městská sportovní hala\, Hanusíkova 1476 Kojetín - Kojetín I-Město
SUMMARY:OLK-U16Z-7B: TJ Šumperk A-KRS Uničov A
END:VEVENT
BEGIN:VEVENT
UID:35366330-6539-4134-b934-653539363861
DTSTAMP:20260421T223029Z
DESCRIPTION:3/5 TJ Šumperk A - VK Prostějov C 2:0 (13\,16)\nKurt B
DTSTART;TZID=Europe/Berlin:20250119T120000
DTEND;TZID=Europe/Berlin:20250119T140000
LOCATION:Městská sportovní hala\, Hanusíkova 1476 Kojetín - Kojetín I-Město
SUMMARY:OLK-U16Z-7B: TJ Šumperk A-VK Prostějov C
END:VEVENT
BEGIN:VEVENT
UID:37616235-6666-4263-a233-643566343934
DTSTAMP:20260421T223029Z
DESCRIPTION:2/4 SK Kojetín - TJ Šumperk A 2:0 (6\,12)\nKurt A
DTSTART;TZID=Europe/Berlin:20250119T110000
DTEND;TZID=Europe/Berlin:20250119T130000
LOCATION:Městská sportovní hala\, Hanusíkova 1476 Kojetín - Kojetín I-Město
SUMMARY:OLK-U16Z-7B: SK Kojetín-TJ Šumperk A
END:VEVENT
BEGIN:VEVENT
UID:65373763-3133-4239-a137-343639393030
DTSTAMP:20260421T223029Z
DESCRIPTION:3/6 TJ Šumperk A - VK Prostějov A 0:2 (-14\,-15)\nKurt A
DTSTART;TZID=Europe/Berlin:20250209T120000
DTEND;TZID=Europe/Berlin:20250209T140000
LOCATION:3. ZŠ Šumperk\, 8. května 870 Šumperk
SUMMARY:OLK-U16Z-8B: TJ Šumperk A-VK Prostějov A
END:VEVENT
BEGIN:VEVENT
UID:62383563-3965-4635-b538-393930643436
DTSTAMP:20260421T223029Z
DESCRIPTION:1/2 KRS Uničov A - TJ Šumperk A 2:0 (9\,16)\nKurt A
DTSTART;TZID=Europe/Berlin:20250209T100000
DTEND;TZID=Europe/Berlin:20250209T120000
LOCATION:3. ZŠ Šumperk\, 8. května 870 Šumperk
SUMMARY:OLK-U16Z-8B: KRS Uničov A-TJ Šumperk A
END:VEVENT
BEGIN:VEVENT
UID:31316337-3437-4235-a532-333932613830
DTSTAMP:20260421T223029Z
DESCRIPTION:2/3 VK Olomouc B - TJ Šumperk A 2:0 (12\,17)\nKurt A
DTSTART;TZID=Europe/Berlin:20250209T110000
DTEND;TZID=Europe/Berlin:20250209T130000
LOCATION:3. ZŠ Šumperk\, 8. května 870 Šumperk
SUMMARY:OLK-U16Z-8B: VK Olomouc B-TJ Šumperk A
END:VEVENT
BEGIN:VEVENT
UID:65393133-3265-4762-b737-643839303833
DTSTAMP:20260421T223029Z
DESCRIPTION:2/2 TJ Šumperk A - VAM Olomouc B 2:1 (21\,-23\,8)\nKurt B
DTSTART;TZID=Europe/Berlin:20250223T100000
DTEND;TZID=Europe/Berlin:20250223T120000
LOCATION:Národní sportovní centrum\, Za velodromem 4187 Prostějov
SUMMARY:OLK-U16Z-9C: TJ Šumperk A-VAM Olomouc B
END:VEVENT
BEGIN:VEVENT
UID:35643165-3534-4335-a436-376564323632
DTSTAMP:20260421T223029Z
DESCRIPTION:4/4 TJ Šumperk A - VK Prostějov B 0:2 (-21\,-12)\nKurt B
DTSTART;TZID=Europe/Berlin:20250223T110000
DTEND;TZID=Europe/Berlin:20250223T130000
LOCATION:Národní sportovní centrum\, Za velodromem 4187 Prostějov
SUMMARY:OLK-U16Z-9C: TJ Šumperk A-VK Prostějov B
END:VEVENT
BEGIN:VEVENT
UID:37613132-6661-4639-b236-316235626138
DTSTAMP:20260421T223029Z
DESCRIPTION:5/5 VK Prostějov C - TJ Šumperk A 2:1 (-24\,18\,11)\nKurt A
DTSTART;TZID=Europe/Berlin:20250223T120000
DTEND;TZID=Europe/Berlin:20250223T140000
LOCATION:Národní sportovní centrum\, Za velodromem 4187 Prostějov
SUMMARY:OLK-U16Z-9C: VK Prostějov C-TJ Šumperk A
END:VEVENT
BEGIN:VEVENT
UID:66316134-6339-4139-a635-306361326430
DTSTAMP:20260421T223029Z
DESCRIPTION:1/1 TJ Šumperk A - TJ Šumperk B 1:2 (16\,-24\,-14)\nKurt A
DTSTART;TZID=Europe/Berlin:20250316T090000
DTEND;TZID=Europe/Berlin:20250316T110000
LOCATION:3. ZŠ Šumperk\, 8. května 870 Šumperk
SUMMARY:OLK-U16Z-10D: TJ Šumperk A-TJ Šumperk B
END:VEVENT
BEGIN:VEVENT
UID:39363934-6562-4766-b738-396531396139
DTSTAMP:20260421T223029Z
DESCRIPTION:2/4 TJ Šumperk A - VK Olomouc C 2:0 (19\,18)\nKurt A
DTSTART;TZID=Europe/Berlin:20250316T100000
DTEND;TZID=Europe/Berlin:20250316T120000
LOCATION:3. ZŠ Šumperk\, 8. května 870 Šumperk
SUMMARY:OLK-U16Z-10D: TJ Šumperk A-VK Olomouc C
END:VEVENT
BEGIN:VEVENT
UID:64393763-3131-4462-a335-326235396138
DTSTAMP:20260421T223029Z
DESCRIPTION:3/6 TJ Šternberk A - TJ Šumperk A 0:2 (-19\,-18)\nKurt A
DTSTART;TZID=Europe/Berlin:20250316T110000
DTEND;TZID=Europe/Berlin:20250316T130000
LOCATION:3. ZŠ Šumperk\, 8. května 870 Šumperk
SUMMARY:OLK-U16Z-10D: TJ Šternberk A-TJ Šumperk A
END:VEVENT
END:VCALENDAR
