BEGIN:VCALENDAR
VERSION:2.0
PRODID:-//TJ Šumperk, z.s.87726//NONSGML kigkonsult.se iCalcreator 2.41.80//
CALSCALE:GREGORIAN
UID:61353439-6239-4436-a361-343761663331
BEGIN:VEVENT
UID:34616338-3230-4432-a564-353261646130
DTSTAMP:20260422T093649Z
DESCRIPTION:2/2 TJ Šumperk\, z.s. - Kojetín 0:3 (-8\,-10\,-7)
DTSTART;TZID=Europe/Berlin:20241208T170000
DTEND;TZID=Europe/Berlin:20241208T190000
LOCATION:3. ZŠ Šumperk\, 8. května 870 Šumperk
SUMMARY:OLK-U16M-1: TJ Šumperk\, z.s.-Kojetín
END:VEVENT
BEGIN:VEVENT
UID:31346239-3738-4935-b361-386562623535
DTSTAMP:20260422T093649Z
DESCRIPTION:3/3 VAM Olomouc - TJ Šumperk\, z.s. 3:2 (-21\,-18\,12\,17\,9)
DTSTART;TZID=Europe/Berlin:20250302T170000
DTEND;TZID=Europe/Berlin:20250302T190000
LOCATION:VOŠ a SPŠE Olomouc\, Božetěchova 755 Olomouc - Hodolany
SUMMARY:OLK-U16M-1: VAM Olomouc-TJ Šumperk\, z.s.
END:VEVENT
BEGIN:VEVENT
UID:61613135-3261-4932-b033-333036366534
DTSTAMP:20260422T093649Z
DESCRIPTION:3/3 TJ Šumperk\, z.s. - Kojetín 0:3 (-7\,-10\,-10)
DTSTART;TZID=Europe/Berlin:20241117T150000
DTEND;TZID=Europe/Berlin:20241117T170000
LOCATION:3. ZŠ Šumperk\, 8. května 870 Šumperk
SUMMARY:OLK-U16M-2: TJ Šumperk\, z.s.-Kojetín
END:VEVENT
BEGIN:VEVENT
UID:39383564-3132-4166-b237-646632616139
DTSTAMP:20260422T093649Z
DESCRIPTION:1/1 VAM Olomouc - TJ Šumperk\, z.s. 3:0 (5\,7\,7)
DTSTART;TZID=Europe/Berlin:20241117T100000
DTEND;TZID=Europe/Berlin:20241117T120000
LOCATION:VOŠ a SPŠE Olomouc\, Božetěchova 755 Olomouc - Hodolany
SUMMARY:OLK-U16M-2: VAM Olomouc-TJ Šumperk\, z.s.
END:VEVENT
BEGIN:VEVENT
UID:38393238-3261-4565-b430-383235323266
DTSTAMP:20260422T093649Z
DESCRIPTION:2/2 TJ Šumperk\, z.s. - VAM Olomouc 0:3 (-8\,-8\,-12)
DTSTART;TZID=Europe/Berlin:20241208T130000
DTEND;TZID=Europe/Berlin:20241208T150000
LOCATION:3. ZŠ Šumperk\, 8. května 870 Šumperk
SUMMARY:OLK-U16M-3: TJ Šumperk\, z.s.-VAM Olomouc
END:VEVENT
BEGIN:VEVENT
UID:63343438-3930-4862-a635-363037626563
DTSTAMP:20260422T093649Z
DESCRIPTION:3/3 Kojetín - TJ Šumperk\, z.s. 3:0 (12\,7\,5)
DTSTART;TZID=Europe/Berlin:20241208T150000
DTEND;TZID=Europe/Berlin:20241208T170000
LOCATION:Městská sportovní hala\, Hanusíkova 1476 Kojetín - Kojetín I-Město
SUMMARY:OLK-U16M-3: Kojetín-TJ Šumperk\, z.s.
END:VEVENT
BEGIN:VEVENT
UID:34353862-3934-4437-b965-336139653063
DTSTAMP:20260422T093649Z
DESCRIPTION:3/3 TJ Šumperk\, z.s. - Kojetín 0:3 (-11\,-13\,-17)
DTSTART;TZID=Europe/Berlin:20250323T150000
DTEND;TZID=Europe/Berlin:20250323T170000
LOCATION:3. ZŠ Šumperk\, 8. května 870 Šumperk
SUMMARY:OLK-U16M-4: TJ Šumperk\, z.s.-Kojetín
END:VEVENT
BEGIN:VEVENT
UID:65343735-3039-4661-a238-626230313939
DTSTAMP:20260422T093649Z
DESCRIPTION:1/1 VAM Olomouc - TJ Šumperk\, z.s. 3:0 (9\,16\,15)
DTSTART;TZID=Europe/Berlin:20250323T100000
DTEND;TZID=Europe/Berlin:20250323T120000
LOCATION:VOŠ a SPŠE Olomouc\, Božetěchova 755 Olomouc - Hodolany
SUMMARY:OLK-U16M-4: VAM Olomouc-TJ Šumperk\, z.s.
END:VEVENT
BEGIN:VEVENT
UID:39666661-3264-4166-b735-383439333265
DTSTAMP:20260422T093649Z
DESCRIPTION:2/2 TJ Šumperk\, z.s. - VAM Olomouc 0:3 (-21\,-15\,-15)
DTSTART;TZID=Europe/Berlin:20250216T130000
DTEND;TZID=Europe/Berlin:20250216T150000
LOCATION:3. ZŠ Šumperk\, 8. května 870 Šumperk
SUMMARY:OLK-U16M-5: TJ Šumperk\, z.s.-VAM Olomouc
END:VEVENT
BEGIN:VEVENT
UID:31663663-3161-4438-a634-623964363734
DTSTAMP:20260422T093649Z
DESCRIPTION:3/3 Kojetín - TJ Šumperk\, z.s. 3:0 (10\,6\,15)
DTSTART;TZID=Europe/Berlin:20250216T150000
DTEND;TZID=Europe/Berlin:20250216T170000
LOCATION:Městská sportovní hala\, Hanusíkova 1476 Kojetín - Kojetín I-Město
SUMMARY:OLK-U16M-5: Kojetín-TJ Šumperk\, z.s.
END:VEVENT
BEGIN:VEVENT
UID:38653133-3936-4366-a235-613034616432
DTSTAMP:20260422T093649Z
DESCRIPTION:2/2 TJ Šumperk\, z.s. - Kojetín 0:3 (-7\,-6\,-10)
DTSTART;TZID=Europe/Berlin:20250302T130000
DTEND;TZID=Europe/Berlin:20250302T150000
LOCATION:3. ZŠ Šumperk\, 8. května 870 Šumperk
SUMMARY:OLK-U16M-6: TJ Šumperk\, z.s.-Kojetín
END:VEVENT
BEGIN:VEVENT
UID:34623936-3831-4163-a465-373337363365
DTSTAMP:20260422T093649Z
DESCRIPTION:3/3 VAM Olomouc - TJ Šumperk\, z.s. 3:0 (18\,24\,15)
DTSTART;TZID=Europe/Berlin:20250302T150000
DTEND;TZID=Europe/Berlin:20250302T170000
LOCATION:VOŠ a SPŠE Olomouc\, Božetěchova 755 Olomouc - Hodolany
SUMMARY:OLK-U16M-6: VAM Olomouc-TJ Šumperk\, z.s.
END:VEVENT
END:VCALENDAR
