BEGIN:VCALENDAR
VERSION:2.0
PRODID:-//Tělocvičná jednota Sokol Písek87849//NONSGML kigkonsult.se iCalcreator 2.41.80//
CALSCALE:GREGORIAN
UID:62663834-6162-4965-b130-333063396234
BEGIN:VEVENT
UID:64643832-3166-4461-a633-616536336336
DTSTAMP:20260422T034044Z
DESCRIPTION:1/3 TJ Sokol Písek - České Budějovice A X:2\nSportovní hala Týn
  nad Vltavou
DTSTART;TZID=Europe/Berlin:20241001T190000
DTEND;TZID=Europe/Berlin:20241001T210000
LOCATION:Sportovní hala Sokol Písek\, Tyršova 395 Písek - Budějovické Předm
 ěstí
SUMMARY:JC-U16M-1: TJ Sokol Písek-České Budějovice A
END:VEVENT
BEGIN:VEVENT
UID:62353432-6138-4839-a663-306232666363
DTSTAMP:20260422T034044Z
DESCRIPTION:1/5 TJ Sokol Písek - VK České Budějovice B X:2\nSportovní hala 
 Týn nad Vltavou
DTSTART;TZID=Europe/Berlin:20241001T190000
DTEND;TZID=Europe/Berlin:20241001T210000
LOCATION:Sportovní hala Sokol Písek\, Tyršova 395 Písek - Budějovické Předm
 ěstí
SUMMARY:JC-U16M-1: TJ Sokol Písek-VK České Budějovice B
END:VEVENT
BEGIN:VEVENT
UID:38313934-6465-4638-b333-386265336437
DTSTAMP:20260422T034044Z
DESCRIPTION:2/7 TJ Slovan J. Hradec - TJ Sokol Písek 2:X\nSportovní hala Tý
 n nad Vltavou
DTSTART;TZID=Europe/Berlin:20240922T120000
DTEND;TZID=Europe/Berlin:20240922T140000
LOCATION:Sportovní hala J. Hradec\, U Stadionu 1137 Jindřichův Hradec - Jin
 dřichův Hradec II
SUMMARY:JC-U16M-1: TJ Slovan J. Hradec-TJ Sokol Písek
END:VEVENT
BEGIN:VEVENT
UID:62643532-6132-4362-a236-356437653966
DTSTAMP:20260422T034044Z
DESCRIPTION:2/9 VSK Český Krumlov - TJ Sokol Písek 2:X\nSportovní hala Týn 
 nad Vltavou
DTSTART;TZID=Europe/Berlin:20240922T130000
DTEND;TZID=Europe/Berlin:20240922T150000
LOCATION:ZŠ Za Nádražím Český Krumlov\, Za Nádražím 222 Český Krumlov - Nád
 ražní Předměstí
SUMMARY:JC-U16M-1: VSK Český Krumlov-TJ Sokol Písek
END:VEVENT
END:VCALENDAR
