BEGIN:VCALENDAR
VERSION:2.0
PRODID:-//SK VOLEJBAL Ústí nad Labem, z.s.88008//NONSGML kigkonsult.se iCalcreator 2.41.80//
CALSCALE:GREGORIAN
UID:37373237-3465-4536-a564-386566613166
BEGIN:VEVENT
UID:36353861-6164-4638-b561-653137636361
DTSTAMP:20260423T044413Z
DESCRIPTION:1/1 SKV Ústí n. L. - Volejbal Sokolov\, z.s. 2:1 (9\,-13\,13)\n
 pořádají Klatovy
DTSTART;TZID=Europe/Berlin:20240928T090000
DTEND;TZID=Europe/Berlin:20240928T110000
LOCATION:ZŠ Rabasova Rabasova 3282/3\, Ústí nad Labem
SUMMARY:KV-U14M: SKV Ústí n. L.-Volejbal Sokolov\, z.s.
END:VEVENT
BEGIN:VEVENT
UID:38366130-3739-4564-b733-636335663537
DTSTAMP:20260423T044413Z
DESCRIPTION:1/4 SKV Ústí n. L. - VK Jirkov 1:0 (0)
DTSTART;TZID=Europe/Berlin:20240928T090000
DTEND;TZID=Europe/Berlin:20240928T110000
LOCATION:ZŠ Rabasova Rabasova 3282/3\, Ústí nad Labem
SUMMARY:KV-U14M: SKV Ústí n. L.-VK Jirkov
END:VEVENT
BEGIN:VEVENT
UID:61633864-6335-4835-b364-313162633635
DTSTAMP:20260423T044413Z
DESCRIPTION:2/11 SKV Ústí n. L. - Volejbal Sokolov\, z.s. 2:0 (16\,20)\npoř
 . Ústí nad Labem
DTSTART;TZID=Europe/Berlin:20241012T090000
DTEND;TZID=Europe/Berlin:20241012T110000
LOCATION:ZŠ Rabasova Rabasova 3282/3\, Ústí nad Labem
SUMMARY:KV-U14M: SKV Ústí n. L.-Volejbal Sokolov\, z.s.
END:VEVENT
BEGIN:VEVENT
UID:62326432-3238-4365-a238-666266393765
DTSTAMP:20260423T044413Z
DESCRIPTION:2/14 SKV Ústí n. L. - VK Jirkov 2:1 (19\,-23\,13)
DTSTART;TZID=Europe/Berlin:20241012T090000
DTEND;TZID=Europe/Berlin:20241012T110000
LOCATION:ZŠ Rabasova Rabasova 3282/3\, Ústí nad Labem
SUMMARY:KV-U14M: SKV Ústí n. L.-VK Jirkov
END:VEVENT
BEGIN:VEVENT
UID:34353732-6461-4137-a465-613561613737
DTSTAMP:20260423T044413Z
DESCRIPTION:3/21 SKV Ústí n. L. - Volejbal Sokolov\, z.s. 2:0 (15\,11)\npoř
 ádá Ústí
DTSTART;TZID=Europe/Berlin:20241123T090000
DTEND;TZID=Europe/Berlin:20241123T110000
LOCATION:ZŠ Rabasova Rabasova 3282/3\, Ústí nad Labem
SUMMARY:KV-U14M: SKV Ústí n. L.-Volejbal Sokolov\, z.s.
END:VEVENT
BEGIN:VEVENT
UID:31303633-6136-4434-b939-643662303265
DTSTAMP:20260423T044413Z
DESCRIPTION:3/24 SKV Ústí n. L. - VK Jirkov 2:0 (22\,15)
DTSTART;TZID=Europe/Berlin:20241123T090000
DTEND;TZID=Europe/Berlin:20241123T110000
LOCATION:ZŠ Rabasova Rabasova 3282/3\, Ústí nad Labem
SUMMARY:KV-U14M: SKV Ústí n. L.-VK Jirkov
END:VEVENT
BEGIN:VEVENT
UID:62333839-3665-4539-a137-636563303162
DTSTAMP:20260423T044413Z
DESCRIPTION:4/31 SKV Ústí n. L. - Volejbal Sokolov\, z.s. 1:2 (-23\,17\,-13
 )\npořádá Jirkov
DTSTART;TZID=Europe/Berlin:20241214T090000
DTEND;TZID=Europe/Berlin:20241214T110000
LOCATION:ZŠ Rabasova Rabasova 3282/3\, Ústí nad Labem
SUMMARY:KV-U14M: SKV Ústí n. L.-Volejbal Sokolov\, z.s.
END:VEVENT
BEGIN:VEVENT
UID:65623461-3162-4064-b366-643036363833
DTSTAMP:20260423T044413Z
DESCRIPTION:4/34 SKV Ústí n. L. - VK Jirkov 1:2 (-21\,19\,-15)
DTSTART;TZID=Europe/Berlin:20241214T090000
DTEND;TZID=Europe/Berlin:20241214T110000
LOCATION:ZŠ Rabasova Rabasova 3282/3\, Ústí nad Labem
SUMMARY:KV-U14M: SKV Ústí n. L.-VK Jirkov
END:VEVENT
BEGIN:VEVENT
UID:62363732-3833-4330-b964-653438366366
DTSTAMP:20260423T044413Z
DESCRIPTION:5/41 SKV Ústí n. L. - Volejbal Sokolov\, z.s. 2:1 (15\,-24\,6)
 \npořádá Ústí
DTSTART;TZID=Europe/Berlin:20250111T090000
DTEND;TZID=Europe/Berlin:20250111T110000
LOCATION:ZŠ Rabasova Rabasova 3282/3\, Ústí nad Labem
SUMMARY:KV-U14M: SKV Ústí n. L.-Volejbal Sokolov\, z.s.
END:VEVENT
BEGIN:VEVENT
UID:34333061-3138-4039-b935-653834623332
DTSTAMP:20260423T044413Z
DESCRIPTION:5/44 SKV Ústí n. L. - VK Jirkov 2:0 (17\,19)
DTSTART;TZID=Europe/Berlin:20250111T090000
DTEND;TZID=Europe/Berlin:20250111T110000
LOCATION:ZŠ Rabasova Rabasova 3282/3\, Ústí nad Labem
SUMMARY:KV-U14M: SKV Ústí n. L.-VK Jirkov
END:VEVENT
BEGIN:VEVENT
UID:34333163-6539-4165-b939-373361343162
DTSTAMP:20260423T044413Z
DESCRIPTION:6/51 SKV Ústí n. L. - Volejbal Sokolov\, z.s. 2:0 (10\,10)\npoř
 ádá Jirkov
DTSTART;TZID=Europe/Berlin:20250215T090000
DTEND;TZID=Europe/Berlin:20250215T110000
LOCATION:ZŠ Rabasova Rabasova 3282/3\, Ústí nad Labem
SUMMARY:KV-U14M: SKV Ústí n. L.-Volejbal Sokolov\, z.s.
END:VEVENT
BEGIN:VEVENT
UID:64626365-6462-4039-b734-323739363365
DTSTAMP:20260423T044413Z
DESCRIPTION:6/54 SKV Ústí n. L. - VK Jirkov 2:0 (9\,17)
DTSTART;TZID=Europe/Berlin:20250215T090000
DTEND;TZID=Europe/Berlin:20250215T110000
LOCATION:ZŠ Rabasova Rabasova 3282/3\, Ústí nad Labem
SUMMARY:KV-U14M: SKV Ústí n. L.-VK Jirkov
END:VEVENT
BEGIN:VEVENT
UID:36666631-3138-4630-b739-623631613462
DTSTAMP:20260423T044413Z
DESCRIPTION:7/71 SKV Ústí n. L. - Volejbal Sokolov\, z.s. 2:1 (-18\,19\,8)
 \npoř. VK Karlovarsko
DTSTART;TZID=Europe/Berlin:20250322T090000
DTEND;TZID=Europe/Berlin:20250322T110000
LOCATION:ZŠ Rabasova Rabasova 3282/3\, Ústí nad Labem
SUMMARY:KV-U14M: SKV Ústí n. L.-Volejbal Sokolov\, z.s.
END:VEVENT
BEGIN:VEVENT
UID:34656136-6334-4631-b765-313238363131
DTSTAMP:20260423T044413Z
DESCRIPTION:7/74 SKV Ústí n. L. - VK Jirkov 2:0 (20\,16)
DTSTART;TZID=Europe/Berlin:20250322T090000
DTEND;TZID=Europe/Berlin:20250322T110000
LOCATION:ZŠ Rabasova Rabasova 3282/3\, Ústí nad Labem
SUMMARY:KV-U14M: SKV Ústí n. L.-VK Jirkov
END:VEVENT
BEGIN:VEVENT
UID:66386231-6665-4131-a233-666237316437
DTSTAMP:20260423T044413Z
DESCRIPTION:1/6 VK Karlovarsko\, z.s. - SKV Ústí n. L. 2:1 (-14\,21\,5)
DTSTART;TZID=Europe/Berlin:20240928T090000
DTEND;TZID=Europe/Berlin:20240928T110000
LOCATION:Mattoni Arena Hala míčových sportů\, Západní 1812 Karlovy Vary
SUMMARY:KV-U14M: VK Karlovarsko\, z.s.-SKV Ústí n. L.
END:VEVENT
BEGIN:VEVENT
UID:33353935-3964-4331-b530-393934393734
DTSTAMP:20260423T044413Z
DESCRIPTION:1/7 Klatovy - SKV Ústí n. L. 2:1 (14\,-20\,9)
DTSTART;TZID=Europe/Berlin:20240928T090000
DTEND;TZID=Europe/Berlin:20240928T110000
LOCATION:Sportovní hala ZŠ Čapkova\, Čapkova 136 Klatovy - Klatovy V
SUMMARY:KV-U14M: Klatovy-SKV Ústí n. L.
END:VEVENT
BEGIN:VEVENT
UID:35353063-6239-4335-a232-353466346232
DTSTAMP:20260423T044413Z
DESCRIPTION:2/16 VK Karlovarsko\, z.s. - SKV Ústí n. L. 2:1 (-17\,10\,9)
DTSTART;TZID=Europe/Berlin:20241012T090000
DTEND;TZID=Europe/Berlin:20241012T110000
LOCATION:Mattoni Arena Hala míčových sportů\, Západní 1812 Karlovy Vary
SUMMARY:KV-U14M: VK Karlovarsko\, z.s.-SKV Ústí n. L.
END:VEVENT
BEGIN:VEVENT
UID:33396263-6433-4130-b937-316336393464
DTSTAMP:20260423T044413Z
DESCRIPTION:2/17 Klatovy - SKV Ústí n. L. 2:1 (-22\,16\,8)
DTSTART;TZID=Europe/Berlin:20241012T090000
DTEND;TZID=Europe/Berlin:20241012T110000
LOCATION:Sportovní hala ZŠ Čapkova\, Čapkova 136 Klatovy - Klatovy V
SUMMARY:KV-U14M: Klatovy-SKV Ústí n. L.
END:VEVENT
BEGIN:VEVENT
UID:37386539-3366-4065-a230-656237343339
DTSTAMP:20260423T044413Z
DESCRIPTION:3/26 VK Karlovarsko\, z.s. - SKV Ústí n. L. 2:0 (16\,16)
DTSTART;TZID=Europe/Berlin:20241123T090000
DTEND;TZID=Europe/Berlin:20241123T110000
LOCATION:Mattoni Arena Hala míčových sportů\, Západní 1812 Karlovy Vary
SUMMARY:KV-U14M: VK Karlovarsko\, z.s.-SKV Ústí n. L.
END:VEVENT
BEGIN:VEVENT
UID:34313132-6538-4339-a361-663166343135
DTSTAMP:20260423T044413Z
DESCRIPTION:3/27 Klatovy - SKV Ústí n. L. 2:0 (21\,23)
DTSTART;TZID=Europe/Berlin:20241123T090000
DTEND;TZID=Europe/Berlin:20241123T110000
LOCATION:Sportovní hala ZŠ Čapkova\, Čapkova 136 Klatovy - Klatovy V
SUMMARY:KV-U14M: Klatovy-SKV Ústí n. L.
END:VEVENT
BEGIN:VEVENT
UID:30336630-3033-4339-a239-386131353638
DTSTAMP:20260423T044413Z
DESCRIPTION:4/36 VK Karlovarsko\, z.s. - SKV Ústí n. L. 2:0 (14\,21)
DTSTART;TZID=Europe/Berlin:20241214T090000
DTEND;TZID=Europe/Berlin:20241214T110000
LOCATION:Mattoni Arena Hala míčových sportů\, Západní 1812 Karlovy Vary
SUMMARY:KV-U14M: VK Karlovarsko\, z.s.-SKV Ústí n. L.
END:VEVENT
BEGIN:VEVENT
UID:62386361-6536-4534-b534-633834383532
DTSTAMP:20260423T044413Z
DESCRIPTION:4/37 Klatovy - SKV Ústí n. L. 2:0 (20\,15)
DTSTART;TZID=Europe/Berlin:20241214T090000
DTEND;TZID=Europe/Berlin:20241214T110000
LOCATION:Sportovní hala ZŠ Čapkova\, Čapkova 136 Klatovy - Klatovy V
SUMMARY:KV-U14M: Klatovy-SKV Ústí n. L.
END:VEVENT
BEGIN:VEVENT
UID:38393030-3762-4663-a463-653538646536
DTSTAMP:20260423T044413Z
DESCRIPTION:5/46 VK Karlovarsko\, z.s. - SKV Ústí n. L. 0:2 (-23\,-18)
DTSTART;TZID=Europe/Berlin:20250111T090000
DTEND;TZID=Europe/Berlin:20250111T110000
LOCATION:Mattoni Arena Hala míčových sportů\, Západní 1812 Karlovy Vary
SUMMARY:KV-U14M: VK Karlovarsko\, z.s.-SKV Ústí n. L.
END:VEVENT
BEGIN:VEVENT
UID:63623138-6436-4233-b864-343236666664
DTSTAMP:20260423T044413Z
DESCRIPTION:5/47 Klatovy - SKV Ústí n. L. 0:2 (-13\,-24)
DTSTART;TZID=Europe/Berlin:20250111T090000
DTEND;TZID=Europe/Berlin:20250111T110000
LOCATION:Sportovní hala ZŠ Čapkova\, Čapkova 136 Klatovy - Klatovy V
SUMMARY:KV-U14M: Klatovy-SKV Ústí n. L.
END:VEVENT
BEGIN:VEVENT
UID:30666662-3138-4435-a462-663534353730
DTSTAMP:20260423T044413Z
DESCRIPTION:6/56 VK Karlovarsko\, z.s. - SKV Ústí n. L. 1:2 (-20\,14\,-13)
DTSTART;TZID=Europe/Berlin:20250215T090000
DTEND;TZID=Europe/Berlin:20250215T110000
LOCATION:Mattoni Arena Hala míčových sportů\, Západní 1812 Karlovy Vary
SUMMARY:KV-U14M: VK Karlovarsko\, z.s.-SKV Ústí n. L.
END:VEVENT
BEGIN:VEVENT
UID:65666435-6535-4532-b266-353636613463
DTSTAMP:20260423T044413Z
DESCRIPTION:6/57 Klatovy - SKV Ústí n. L. 0:2 (-14\,-18)
DTSTART;TZID=Europe/Berlin:20250215T090000
DTEND;TZID=Europe/Berlin:20250215T110000
LOCATION:Sportovní hala ZŠ Čapkova\, Čapkova 136 Klatovy - Klatovy V
SUMMARY:KV-U14M: Klatovy-SKV Ústí n. L.
END:VEVENT
BEGIN:VEVENT
UID:62616461-6231-4831-b433-303666653138
DTSTAMP:20260423T044413Z
DESCRIPTION:7/76 VK Karlovarsko\, z.s. - SKV Ústí n. L. 0:2 (-23\,-11)
DTSTART;TZID=Europe/Berlin:20250322T090000
DTEND;TZID=Europe/Berlin:20250322T110000
LOCATION:Mattoni Arena Hala míčových sportů\, Západní 1812 Karlovy Vary
SUMMARY:KV-U14M: VK Karlovarsko\, z.s.-SKV Ústí n. L.
END:VEVENT
BEGIN:VEVENT
UID:64353562-3138-4061-a339-386139366335
DTSTAMP:20260423T044413Z
DESCRIPTION:7/77 Klatovy - SKV Ústí n. L. 2:0 (24\,10)
DTSTART;TZID=Europe/Berlin:20250322T090000
DTEND;TZID=Europe/Berlin:20250322T110000
LOCATION:Sportovní hala ZŠ Čapkova\, Čapkova 136 Klatovy - Klatovy V
SUMMARY:KV-U14M: Klatovy-SKV Ústí n. L.
END:VEVENT
BEGIN:VEVENT
UID:36636131-3333-4131-a139-356165333634
DTSTAMP:20260423T044413Z
DESCRIPTION:2/2 SKV Ústí n. L. - VK SPORT Rychnov nad Kněžnou\, 0:2 (-18\,-
 19)
DTSTART;TZID=Europe/Berlin:20241207T100000
DTEND;TZID=Europe/Berlin:20241207T120000
LOCATION:ZŠ Rabasova Rabasova 3282/3\, Ústí nad Labem
SUMMARY:CP-U14M-ZD: SKV Ústí n. L.-VK SPORT Rychnov nad Kněžnou\,
END:VEVENT
BEGIN:VEVENT
UID:34323535-6333-4437-b434-336532656563
DTSTAMP:20260423T044413Z
DESCRIPTION:3/3 SKV Ústí n. L. - Kolín 1:1 (23\,-23)
DTSTART;TZID=Europe/Berlin:20241207T110000
DTEND;TZID=Europe/Berlin:20241207T130000
LOCATION:ZŠ Rabasova Rabasova 3282/3\, Ústí nad Labem
SUMMARY:CP-U14M-ZD: SKV Ústí n. L.-Kolín
END:VEVENT
BEGIN:VEVENT
UID:31626239-6339-4932-b261-323364396665
DTSTAMP:20260423T044413Z
DESCRIPTION:6/6 SKV Ústí n. L. - SK Prosek 1:1 (-12\,16)
DTSTART;TZID=Europe/Berlin:20241207T140000
DTEND;TZID=Europe/Berlin:20241207T160000
LOCATION:ZŠ Rabasova Rabasova 3282/3\, Ústí nad Labem
SUMMARY:CP-U14M-ZD: SKV Ústí n. L.-SK Prosek
END:VEVENT
BEGIN:VEVENT
UID:31633835-3034-4732-b035-303264646630
DTSTAMP:20260423T044413Z
DESCRIPTION:2/8 TJ Svitavy - SKV Ústí n. L. 2:0 (21\,24)\n3C-3D
DTSTART;TZID=Europe/Berlin:20241207T160000
DTEND;TZID=Europe/Berlin:20241207T180000
LOCATION:Sportovní hala Na Střelnici\, Pražská 2162 Svitavy - Předměstí
SUMMARY:CP-U14M-Z-UMIS: TJ Svitavy-SKV Ústí n. L.
END:VEVENT
BEGIN:VEVENT
UID:61323030-3166-4262-b735-326636323331
DTSTAMP:20260423T044413Z
DESCRIPTION:1/1 SKV Ústí n. L. - VK Karlovarsko\, z.s. 1:2 (17\,-24\,-8)
DTSTART;TZID=Europe/Berlin:20250412T093000
DTEND;TZID=Europe/Berlin:20250412T113000
LOCATION:ZŠ Rabasova Rabasova 3282/3\, Ústí nad Labem
SUMMARY:MCR-U14MB: SKV Ústí n. L.-VK Karlovarsko\, z.s.
END:VEVENT
BEGIN:VEVENT
UID:39396230-6530-4362-b134-666538336339
DTSTAMP:20260423T044413Z
DESCRIPTION:4/6 SKV Ústí n. L. - Orion A 0:2 (-17\,-23)
DTSTART;TZID=Europe/Berlin:20250412T143000
DTEND;TZID=Europe/Berlin:20250412T163000
LOCATION:ZŠ Rabasova Rabasova 3282/3\, Ústí nad Labem
SUMMARY:MCR-U14MB: SKV Ústí n. L.-Orion A
END:VEVENT
BEGIN:VEVENT
UID:33396461-3737-4535-a165-663137653366
DTSTAMP:20260423T044413Z
DESCRIPTION:5/9 SKV Ústí n. L. - VK Lvi Praha\, z.s. 0:2 (-18\,-18)
DTSTART;TZID=Europe/Berlin:20250412T163000
DTEND;TZID=Europe/Berlin:20250412T183000
LOCATION:ZŠ Rabasova Rabasova 3282/3\, Ústí nad Labem
SUMMARY:MCR-U14MB: SKV Ústí n. L.-VK Lvi Praha\, z.s.
END:VEVENT
BEGIN:VEVENT
UID:33363338-3135-4636-a563-333136373332
DTSTAMP:20260423T044413Z
DESCRIPTION:2/3 TJ ABC Braník\, z.s. - SKV Ústí n. L. 2:0 (14\,12)
DTSTART;TZID=Europe/Berlin:20250412T110000
DTEND;TZID=Europe/Berlin:20250412T130000
LOCATION:Sokolovna Braník\, Branická 275 Praha - Braník
SUMMARY:MCR-U14MB: TJ ABC Braník\, z.s.-SKV Ústí n. L.
END:VEVENT
END:VCALENDAR
