BEGIN:VCALENDAR
VERSION:2.0
PRODID:-//Tělocvičná jednota Sokol Pardubice I.88040//NONSGML kigkonsult.se iCalcreator 2.41.80//
CALSCALE:GREGORIAN
UID:31656131-6465-4430-a637-333233646436
BEGIN:VEVENT
UID:31653936-3366-4635-b533-626636653865
DTSTAMP:20260422T001302Z
DESCRIPTION:2/4 Tělocvičná jednota Sokol Pardubice I. - Prostějov 2:1 (15\,
 -24\,10)
DTSTART;TZID=Europe/Berlin:20241020T103000
DTEND;TZID=Europe/Berlin:20241020T123000
LOCATION:Sokolovna\, Jiráskova 29 Pardubice - Zelené Předměstí
SUMMARY:CP-U20Z-B: Tělocvičná jednota Sokol Pardubice I.-Prostějov
END:VEVENT
BEGIN:VEVENT
UID:37326466-3165-4638-a433-396238313830
DTSTAMP:20260422T001302Z
DESCRIPTION:3/9 Tělocvičná jednota Sokol Pardubice I. - Demlova U20 1:2 (-2
 3\,16\,-13)
DTSTART;TZID=Europe/Berlin:20241020T120000
DTEND;TZID=Europe/Berlin:20241020T140000
LOCATION:Sokolovna\, Jiráskova 29 Pardubice - Zelené Předměstí
SUMMARY:CP-U20Z-B: Tělocvičná jednota Sokol Pardubice I.-Demlova U20
END:VEVENT
BEGIN:VEVENT
UID:30636139-3065-4737-a661-316439346262
DTSTAMP:20260422T001302Z
DESCRIPTION:5/15 Tělocvičná jednota Sokol Pardubice I. - SAVO Praha z.s. 2:
 1 (21\,-26\,4)
DTSTART;TZID=Europe/Berlin:20241020T153000
DTEND;TZID=Europe/Berlin:20241020T173000
LOCATION:Sokolovna\, Jiráskova 29 Pardubice - Zelené Předměstí
SUMMARY:CP-U20Z-B: Tělocvičná jednota Sokol Pardubice I.-SAVO Praha z.s.
END:VEVENT
BEGIN:VEVENT
UID:33336333-3639-4435-a638-616631653061
DTSTAMP:20260422T001302Z
DESCRIPTION:1/2 Sportovní klub Španielka Řepy z.s. - Tělocvičná jednota Sok
 ol Pardubice I. 0:2 (-16\,-20)
DTSTART;TZID=Europe/Berlin:20241020T090000
DTEND;TZID=Europe/Berlin:20241020T110000
LOCATION:Tělocvična ZŠ\, Španielova 1111 Praha - Řepy
SUMMARY:CP-U20Z-B: Sportovní klub Španielka Řepy z.s.-Tělocvičná jednota So
 kol Pardubice I.
END:VEVENT
BEGIN:VEVENT
UID:35373534-3433-4463-b036-303434633561
DTSTAMP:20260422T001302Z
DESCRIPTION:4/11 Volejbalový oddíl TJ Lanškroun\, z.s. - Tělocvičná jednota
  Sokol Pardubice I. 2:1 (-22\,23\,7)
DTSTART;TZID=Europe/Berlin:20241020T140000
DTEND;TZID=Europe/Berlin:20241020T160000
LOCATION:SOŠ a SOU Lanškroun\, Sokolská 288 Lanškroun - Ostrovské Předměstí
SUMMARY:CP-U20Z-B: Volejbalový oddíl TJ Lanškroun\, z.s.-Tělocvičná jednota
  Sokol Pardubice I.
END:VEVENT
BEGIN:VEVENT
UID:62336466-6261-4630-b033-313165333264
DTSTAMP:20260422T001302Z
DESCRIPTION:2/2 Tělocvičná jednota Sokol Pardubice I. - ABC Braník 2:0 (17\
 ,17)
DTSTART;TZID=Europe/Berlin:20241116T113000
DTEND;TZID=Europe/Berlin:20241116T133000
LOCATION:Sokolovna\, Jiráskova 29 Pardubice - Zelené Předměstí
SUMMARY:CP-U20Z-1B: Tělocvičná jednota Sokol Pardubice I.-ABC Braník
END:VEVENT
BEGIN:VEVENT
UID:37313062-6561-4332-a236-303532303564
DTSTAMP:20260422T001302Z
DESCRIPTION:6/6 Tělocvičná jednota Sokol Pardubice I. - VTK Čížkovice\, z.s
 . 2:0 (14\,17)
DTSTART;TZID=Europe/Berlin:20241116T173000
DTEND;TZID=Europe/Berlin:20241116T193000
LOCATION:Sokolovna\, Jiráskova 29 Pardubice - Zelené Předměstí
SUMMARY:CP-U20Z-1B: Tělocvičná jednota Sokol Pardubice I.-VTK Čížkovice\, z
 .s.
END:VEVENT
BEGIN:VEVENT
UID:32643866-6361-4465-b131-666435643332
DTSTAMP:20260422T001302Z
DESCRIPTION:7/9 Plzeň - Tělocvičná jednota Sokol Pardubice I. 2:1 (19\,-22\
 ,10)
DTSTART;TZID=Europe/Berlin:20241117T100000
DTEND;TZID=Europe/Berlin:20241117T120000
LOCATION:Sportovní hala - SG Plzeň\, Vejprnická 663 Plzeň - Skvrňany
SUMMARY:CP-U20Z-1B: Plzeň-Tělocvičná jednota Sokol Pardubice I.
END:VEVENT
BEGIN:VEVENT
UID:31353334-3366-4035-a334-663539383635
DTSTAMP:20260422T001302Z
DESCRIPTION:8/11 Prostějov - Tělocvičná jednota Sokol Pardubice I. 1:2 (24\
 ,-15\,-15)
DTSTART;TZID=Europe/Berlin:20241117T113000
DTEND;TZID=Europe/Berlin:20241117T133000
LOCATION:Národní sportovní centrum\, Za velodromem 4187 Prostějov
SUMMARY:CP-U20Z-1B: Prostějov-Tělocvičná jednota Sokol Pardubice I.
END:VEVENT
BEGIN:VEVENT
UID:62323439-3937-4533-a263-353230396566
DTSTAMP:20260422T001302Z
DESCRIPTION:9/15 Tělovýchovná jednota Bižuterie\, z.s. - Tělocvičná jednota
  Sokol Pardubice I. 0:2 (-17\,-16)
DTSTART;TZID=Europe/Berlin:20241117T130000
DTEND;TZID=Europe/Berlin:20241117T150000
LOCATION:Městská sportovní hala\, U Přehrady 4747 Jablonec nad Nisou
SUMMARY:CP-U20Z-1B: Tělovýchovná jednota Bižuterie\, z.s.-Tělocvičná jednot
 a Sokol Pardubice I.
END:VEVENT
BEGIN:VEVENT
UID:61316262-6464-4161-a634-303965303932
DTSTAMP:20260422T001302Z
DESCRIPTION:3/5 Tělocvičná jednota Sokol Pardubice I. - Volejbalový sportov
 ní klub Baník Sokolov\, z.s. 2:1 (-15\,19\,13)
DTSTART;TZID=Europe/Berlin:20241214T120000
DTEND;TZID=Europe/Berlin:20241214T140000
LOCATION:Sokolovna\, Jiráskova 29 Pardubice - Zelené Předměstí
SUMMARY:CP-U20Z-2A: Tělocvičná jednota Sokol Pardubice I.-Volejbalový sport
 ovní klub Baník Sokolov\, z.s.
END:VEVENT
BEGIN:VEVENT
UID:31333763-3134-4566-b963-633165613562
DTSTAMP:20260422T001302Z
DESCRIPTION:4/7 Tělocvičná jednota Sokol Pardubice I. - Volejbal Ústí nad L
 abem 1:2 (-16\,22\,-10)
DTSTART;TZID=Europe/Berlin:20241214T131500
DTEND;TZID=Europe/Berlin:20241214T151500
LOCATION:Sokolovna\, Jiráskova 29 Pardubice - Zelené Předměstí
SUMMARY:CP-U20Z-2A: Tělocvičná jednota Sokol Pardubice I.-Volejbal Ústí nad
  Labem
END:VEVENT
BEGIN:VEVENT
UID:66323636-3865-4135-b235-623765303935
DTSTAMP:20260422T001302Z
DESCRIPTION:7/14 Tělocvičná jednota Sokol Pardubice I. - Plzeň 0:2 (-20\,-1
 7)
DTSTART;TZID=Europe/Berlin:20241214T170000
DTEND;TZID=Europe/Berlin:20241214T190000
LOCATION:Sokolovna\, Jiráskova 29 Pardubice - Zelené Předměstí
SUMMARY:CP-U20Z-2A: Tělocvičná jednota Sokol Pardubice I.-Plzeň
END:VEVENT
BEGIN:VEVENT
UID:39373433-3864-4263-a332-376162666230
DTSTAMP:20260422T001302Z
DESCRIPTION:2/4 Volejbalový oddíl TJ Lanškroun\, z.s. - Tělocvičná jednota 
 Sokol Pardubice I. 2:1 (24\,-24\,13)
DTSTART;TZID=Europe/Berlin:20241214T104500
DTEND;TZID=Europe/Berlin:20241214T124500
LOCATION:SOŠ a SOU Lanškroun\, Sokolská 288 Lanškroun - Ostrovské Předměstí
SUMMARY:CP-U20Z-2A: Volejbalový oddíl TJ Lanškroun\, z.s.-Tělocvičná jednot
 a Sokol Pardubice I.
END:VEVENT
BEGIN:VEVENT
UID:38306362-6331-4262-a634-616337366633
DTSTAMP:20260422T001302Z
DESCRIPTION:6/11 Tělovýchovná jednota Jiskra Nový Bor\, z.s. - Tělocvičná j
 ednota Sokol Pardubice I. 0:2 (-15\,-28)
DTSTART;TZID=Europe/Berlin:20241214T154500
DTEND;TZID=Europe/Berlin:20241214T174500
LOCATION:Sportovní hala Františka Arnošta Nový Bor\, U hřiště 1391 Nový Bor
SUMMARY:CP-U20Z-2A: Tělovýchovná jednota Jiskra Nový Bor\, z.s.-Tělocvičná 
 jednota Sokol Pardubice I.
END:VEVENT
BEGIN:VEVENT
UID:62326466-3462-4237-b864-623366343162
DTSTAMP:20260422T001302Z
DESCRIPTION:1/1 Tělocvičná jednota Sokol Pardubice I. - Volejbalový oddíl T
 J Lanškroun\, z.s. 0:2 (-24\,-8)
DTSTART;TZID=Europe/Berlin:20250322T093000
DTEND;TZID=Europe/Berlin:20250322T113000
LOCATION:Sokolovna\, Jiráskova 29 Pardubice - Zelené Předměstí
SUMMARY:CP-U20Z-3A: Tělocvičná jednota Sokol Pardubice I.-Volejbalový oddíl
  TJ Lanškroun\, z.s.
END:VEVENT
BEGIN:VEVENT
UID:31386130-6639-4334-a239-383862313439
DTSTAMP:20260422T001302Z
DESCRIPTION:5/10 Tělocvičná jednota Sokol Pardubice I. - Prostějov 1:2 (-14
 \,21\,-5)
DTSTART;TZID=Europe/Berlin:20250322T143000
DTEND;TZID=Europe/Berlin:20250322T163000
LOCATION:Sokolovna\, Jiráskova 29 Pardubice - Zelené Předměstí
SUMMARY:CP-U20Z-3A: Tělocvičná jednota Sokol Pardubice I.-Prostějov
END:VEVENT
BEGIN:VEVENT
UID:31643636-3537-4330-b863-393535663366
DTSTAMP:20260422T001302Z
DESCRIPTION:7/13 Tělocvičná jednota Sokol Pardubice I. - Volejbal Ústí nad 
 Labem 0:2 (-20\,-17)
DTSTART;TZID=Europe/Berlin:20250322T170000
DTEND;TZID=Europe/Berlin:20250322T190000
LOCATION:Sokolovna\, Jiráskova 29 Pardubice - Zelené Předměstí
SUMMARY:CP-U20Z-3A: Tělocvičná jednota Sokol Pardubice I.-Volejbal Ústí nad
  Labem
END:VEVENT
BEGIN:VEVENT
UID:38376330-3962-4638-a264-396561303533
DTSTAMP:20260422T001302Z
DESCRIPTION:3/5 ABC Braník - Tělocvičná jednota Sokol Pardubice I. 0:2 (-23
 \,-20)
DTSTART;TZID=Europe/Berlin:20250322T120000
DTEND;TZID=Europe/Berlin:20250322T140000
LOCATION:ZŠ Jílovská\, Jílovská 1048 Praha - Lhotka
SUMMARY:CP-U20Z-3A: ABC Braník-Tělocvičná jednota Sokol Pardubice I.
END:VEVENT
BEGIN:VEVENT
UID:36326138-3532-4963-b465-643933356664
DTSTAMP:20260422T001302Z
DESCRIPTION:6/12 Plzeň - Tělocvičná jednota Sokol Pardubice I. 2:0 (13\,12)
DTSTART;TZID=Europe/Berlin:20250322T154500
DTEND;TZID=Europe/Berlin:20250322T174500
LOCATION:Sportovní hala - SG Plzeň\, Vejprnická 663 Plzeň - Skvrňany
SUMMARY:CP-U20Z-3A: Plzeň-Tělocvičná jednota Sokol Pardubice I.
END:VEVENT
BEGIN:VEVENT
UID:31363834-3136-4639-b933-343631383233
DTSTAMP:20260422T001302Z
DESCRIPTION:1/1 Tělocvičná jednota Sokol Pardubice I. - Tělovýchovná jednot
 a Bižuterie\, z.s. 2:0 (19\,12)
DTSTART;TZID=Europe/Berlin:20250412T090000
DTEND;TZID=Europe/Berlin:20250412T110000
LOCATION:Sokolovna\, Jiráskova 29 Pardubice - Zelené Předměstí
SUMMARY:CP-U20Z-4B: Tělocvičná jednota Sokol Pardubice I.-Tělovýchovná jedn
 ota Bižuterie\, z.s.
END:VEVENT
BEGIN:VEVENT
UID:32303665-3531-4034-b635-393839643162
DTSTAMP:20260422T001302Z
DESCRIPTION:3/7 Tělocvičná jednota Sokol Pardubice I. - VSK Spartak Děčín z
 .s. 2:0 (18\,18)
DTSTART;TZID=Europe/Berlin:20250412T113000
DTEND;TZID=Europe/Berlin:20250412T133000
LOCATION:Sokolovna\, Jiráskova 29 Pardubice - Zelené Předměstí
SUMMARY:CP-U20Z-4B: Tělocvičná jednota Sokol Pardubice I.-VSK Spartak Děčín
  z.s.
END:VEVENT
BEGIN:VEVENT
UID:61333163-6635-4261-a637-383861313662
DTSTAMP:20260422T001302Z
DESCRIPTION:5/13 Tělocvičná jednota Sokol Pardubice I. - ABC Braník 2:0 (23
 \,24)
DTSTART;TZID=Europe/Berlin:20250412T150000
DTEND;TZID=Europe/Berlin:20250412T170000
LOCATION:Sokolovna\, Jiráskova 29 Pardubice - Zelené Předměstí
SUMMARY:CP-U20Z-4B: Tělocvičná jednota Sokol Pardubice I.-ABC Braník
END:VEVENT
BEGIN:VEVENT
UID:37313137-6535-4438-b261-306162306463
DTSTAMP:20260422T001302Z
DESCRIPTION:2/5 VTK Čížkovice\, z.s. - Tělocvičná jednota Sokol Pardubice I
 . 0:2 (-18\,-12)
DTSTART;TZID=Europe/Berlin:20250412T101500
DTEND;TZID=Europe/Berlin:20250412T121500
LOCATION:Hala při ZŠ Benešova 65\, 41112 Čížkovice
SUMMARY:CP-U20Z-4B: VTK Čížkovice\, z.s.-Tělocvičná jednota Sokol Pardubice
  I.
END:VEVENT
BEGIN:VEVENT
UID:30306534-6566-4338-b464-643866373332
DTSTAMP:20260422T001302Z
DESCRIPTION:4/12 Demlova U20 - Tělocvičná jednota Sokol Pardubice I. 2:1 (-
 20\,21\,12)
DTSTART;TZID=Europe/Berlin:20250412T134500
DTEND;TZID=Europe/Berlin:20250412T154500
LOCATION:ZŠ Jihlava Demlova\, Demlova 4178 Jihlava
SUMMARY:CP-U20Z-4B: Demlova U20-Tělocvičná jednota Sokol Pardubice I.
END:VEVENT
END:VCALENDAR
