BEGIN:VCALENDAR
VERSION:2.0
PRODID:-//Blue Ostrava, ZŠ Formana88107//NONSGML kigkonsult.se iCalcreator 2.41.80//
CALSCALE:GREGORIAN
UID:63366462-6131-4939-a666-633261653333
BEGIN:VEVENT
UID:31343732-3939-4066-a362-316233326538
DTSTAMP:20260423T050015Z
DESCRIPTION:2/2 Blue Ostrava\, ZŠ Formana - Red Frýdlant n/O 0:2 (-22\,-22)
DTSTART;TZID=Europe/Berlin:20241013T103000
DTEND;TZID=Europe/Berlin:20241013T123000
LOCATION:Tělocvična Msgr. Šrámka\, Msgr. Šrámka 1105 Nový Jičín
SUMMARY:MS-U14M-KVA: Blue Ostrava\, ZŠ Formana-Red Frýdlant n/O
END:VEVENT
BEGIN:VEVENT
UID:37383836-6633-4835-b766-373336633563
DTSTAMP:20260423T050015Z
DESCRIPTION:3/3 Vlci Nový Jičín A - Blue Ostrava\, ZŠ Formana 1:2 (-19\,21\
 ,-12)
DTSTART;TZID=Europe/Berlin:20241013T120000
DTEND;TZID=Europe/Berlin:20241013T140000
LOCATION:Tělocvična Msgr. Šrámka\, Msgr. Šrámka 1105 Nový Jičín
SUMMARY:MS-U14M-KVA: Vlci Nový Jičín A-Blue Ostrava\, ZŠ Formana
END:VEVENT
BEGIN:VEVENT
UID:36666234-3064-4439-b336-353365393235
DTSTAMP:20260423T050015Z
DESCRIPTION:3/3 Blue Ostrava\, ZŠ Formana - Green F-M 2:0 (2\,11)
DTSTART;TZID=Europe/Berlin:20241115T180000
DTEND;TZID=Europe/Berlin:20241115T200000
LOCATION:ZŠ ALBRECHTICE\, Školní 20 Albrechtice
SUMMARY:MS-U14M-T1B: Blue Ostrava\, ZŠ Formana-Green F-M
END:VEVENT
BEGIN:VEVENT
UID:31393363-3865-4135-b363-366466643363
DTSTAMP:20260423T050015Z
DESCRIPTION:2/2 Blue Ostrava\, ZŠ Albrechtice - Blue Ostrava\, ZŠ Formana 0
 :2 (-21\,-17)
DTSTART;TZID=Europe/Berlin:20241115T163000
DTEND;TZID=Europe/Berlin:20241115T183000
LOCATION:ZŠ ALBRECHTICE\, Školní 20 Albrechtice
SUMMARY:MS-U14M-T1B: Blue Ostrava\, ZŠ Albrechtice-Blue Ostrava\, ZŠ Forman
 a
END:VEVENT
BEGIN:VEVENT
UID:39656239-3236-4662-b739-363065333431
DTSTAMP:20260423T050015Z
DESCRIPTION:1/1 Blue Ostrava\, ZŠ Formana - VK Ostrava 0:2 (-17\,-6)
DTSTART;TZID=Europe/Berlin:20250329T090000
DTEND;TZID=Europe/Berlin:20250329T110000
LOCATION:Sportovní hala Brušperk\, Sportovní 584 Brušperk
SUMMARY:MS-U14M-T2A: Blue Ostrava\, ZŠ Formana-VK Ostrava
END:VEVENT
BEGIN:VEVENT
UID:61626531-3261-4137-b632-303039353930
DTSTAMP:20260423T050015Z
DESCRIPTION:2/3 Blue Ostrava\, ZŠ Formana - Green F-M 2:0 (6\,7)
DTSTART;TZID=Europe/Berlin:20250329T103000
DTEND;TZID=Europe/Berlin:20250329T123000
LOCATION:Sportovní hala Brušperk\, Sportovní 584 Brušperk
SUMMARY:MS-U14M-T2A: Blue Ostrava\, ZŠ Formana-Green F-M
END:VEVENT
BEGIN:VEVENT
UID:62646332-6339-4862-b039-336661623566
DTSTAMP:20260423T050015Z
DESCRIPTION:3/5 Volejbal Ostrava - Blue Ostrava\, ZŠ Formana 2:0 (14\,16)
DTSTART;TZID=Europe/Berlin:20250329T120000
DTEND;TZID=Europe/Berlin:20250329T140000
LOCATION:Sportovní hala Brušperk\, Sportovní 584 Brušperk
SUMMARY:MS-U14M-T2A: Volejbal Ostrava-Blue Ostrava\, ZŠ Formana
END:VEVENT
BEGIN:VEVENT
UID:37333338-3839-4765-b761-373535333539
DTSTAMP:20260423T050015Z
DESCRIPTION:1/1 Blue Ostrava\, ZŠ Formana - VK Ostrava 0:2 (-16\,-19)
DTSTART;TZID=Europe/Berlin:20250126T090000
DTEND;TZID=Europe/Berlin:20250126T110000
LOCATION:Jugoslávská\, Jugoslávská 2906 Ostrava - Zábřeh
SUMMARY:MS-U14M-T3A: Blue Ostrava\, ZŠ Formana-VK Ostrava
END:VEVENT
BEGIN:VEVENT
UID:38633334-6563-4633-a563-383362316636
DTSTAMP:20260423T050015Z
DESCRIPTION:2/3 Blue Ostrava\, ZŠ Formana - Green F-M 2:0 (13\,12)
DTSTART;TZID=Europe/Berlin:20250126T103000
DTEND;TZID=Europe/Berlin:20250126T123000
LOCATION:Jugoslávská\, Jugoslávská 2906 Ostrava - Zábřeh
SUMMARY:MS-U14M-T3A: Blue Ostrava\, ZŠ Formana-Green F-M
END:VEVENT
BEGIN:VEVENT
UID:34343838-3833-4231-a564-666162383433
DTSTAMP:20260423T050015Z
DESCRIPTION:3/5 Volejbal Ostrava - Blue Ostrava\, ZŠ Formana 2:0 (19\,22)
DTSTART;TZID=Europe/Berlin:20250126T120000
DTEND;TZID=Europe/Berlin:20250126T140000
LOCATION:Jugoslávská\, Jugoslávská 2906 Ostrava - Zábřeh
SUMMARY:MS-U14M-T3A: Volejbal Ostrava-Blue Ostrava\, ZŠ Formana
END:VEVENT
BEGIN:VEVENT
UID:32313532-3830-4961-b565-333538393964
DTSTAMP:20260423T050015Z
DESCRIPTION:3/3 Blue Ostrava\, ZŠ Formana - Green F-M 2:0 (11\,7)
DTSTART;TZID=Europe/Berlin:20250215T120000
DTEND;TZID=Europe/Berlin:20250215T140000
LOCATION:ZŠ ALBRECHTICE\, Školní 20 Albrechtice
SUMMARY:MS-U14M-T4B: Blue Ostrava\, ZŠ Formana-Green F-M
END:VEVENT
BEGIN:VEVENT
UID:64393235-3361-4033-b837-643333393834
DTSTAMP:20260423T050015Z
DESCRIPTION:1/1 Blue Ostrava\, ZŠ Albrechtice - Blue Ostrava\, ZŠ Formana 0
 :2 (-12\,-14)
DTSTART;TZID=Europe/Berlin:20250215T090000
DTEND;TZID=Europe/Berlin:20250215T110000
LOCATION:ZŠ ALBRECHTICE\, Školní 20 Albrechtice
SUMMARY:MS-U14M-T4B: Blue Ostrava\, ZŠ Albrechtice-Blue Ostrava\, ZŠ Forman
 a
END:VEVENT
BEGIN:VEVENT
UID:32666363-6334-4862-a136-346439353933
DTSTAMP:20260423T050015Z
DESCRIPTION:3/3 Blue Ostrava\, ZŠ Formana - Blue Ostrava\, ZŠ Albrechtice 1
 :2 (17\,-23\,-11)
DTSTART;TZID=Europe/Berlin:20250228T170000
DTEND;TZID=Europe/Berlin:20250228T190000
LOCATION:ZŠ ALBRECHTICE\, Školní 20 Albrechtice
SUMMARY:MS-U14M-T5B: Blue Ostrava\, ZŠ Formana-Blue Ostrava\, ZŠ Albrechtic
 e
END:VEVENT
BEGIN:VEVENT
UID:31346430-3930-4363-b936-326266316133
DTSTAMP:20260423T050015Z
DESCRIPTION:1/1 Green F-M - Blue Ostrava\, ZŠ Formana 0:2 (-13\,-14)
DTSTART;TZID=Europe/Berlin:20250228T140000
DTEND;TZID=Europe/Berlin:20250228T160000
LOCATION:ZŠ ALBRECHTICE\, Školní 20 Albrechtice
SUMMARY:MS-U14M-T5B: Green F-M-Blue Ostrava\, ZŠ Formana
END:VEVENT
BEGIN:VEVENT
UID:64376638-6334-4437-b033-383037626562
DTSTAMP:20260423T050015Z
DESCRIPTION:2/2 Blue Ostrava\, ZŠ Formana - Green F-M 2:0 (8\,11)
DTSTART;TZID=Europe/Berlin:20250321T153000
DTEND;TZID=Europe/Berlin:20250321T173000
LOCATION:ZŠ ALBRECHTICE\, Školní 20 Albrechtice
SUMMARY:MS-U14M-T6B: Blue Ostrava\, ZŠ Formana-Green F-M
END:VEVENT
BEGIN:VEVENT
UID:39663261-3965-4431-a531-313939306333
DTSTAMP:20260423T050015Z
DESCRIPTION:3/3 Blue Ostrava\, ZŠ Albrechtice - Blue Ostrava\, ZŠ Formana 0
 :2 (-22\,-23)
DTSTART;TZID=Europe/Berlin:20250321T170000
DTEND;TZID=Europe/Berlin:20250321T190000
LOCATION:ZŠ ALBRECHTICE\, Školní 20 Albrechtice
SUMMARY:MS-U14M-T6B: Blue Ostrava\, ZŠ Albrechtice-Blue Ostrava\, ZŠ Forman
 a
END:VEVENT
END:VCALENDAR
