BEGIN:VCALENDAR
VERSION:2.0
PRODID:-//Sportovní klub Meteor Praha88117//NONSGML kigkonsult.se iCalcreator 2.41.80//
CALSCALE:GREGORIAN
UID:36313938-6566-4237-b835-396165386237
BEGIN:VEVENT
UID:39393963-3430-4933-a630-356430643034
DTSTAMP:20260422T033932Z
DESCRIPTION:3/6 Sportovní klub Meteor Praha - Tělovýchovná jednota Bižuteri
 e\, z.s. 0:2 (-7\,-9)
DTSTART;TZID=Europe/Berlin:20241019T120000
DTEND;TZID=Europe/Berlin:20241019T140000
LOCATION:ZŠ Žernosecká\, Žernosecká 1597 Praha - Kobylisy
SUMMARY:CP-U20Z-A: Sportovní klub Meteor Praha-Tělovýchovná jednota Bižuter
 ie\, z.s.
END:VEVENT
BEGIN:VEVENT
UID:66376566-3135-4661-b965-353236386431
DTSTAMP:20260422T033932Z
DESCRIPTION:6/11 Sportovní klub Meteor Praha - Volejbal Ústí nad Labem 0:2 
 (-16\,-10)
DTSTART;TZID=Europe/Berlin:20241019T154500
DTEND;TZID=Europe/Berlin:20241019T174500
LOCATION:ZŠ Žernosecká\, Žernosecká 1597 Praha - Kobylisy
SUMMARY:CP-U20Z-A: Sportovní klub Meteor Praha-Volejbal Ústí nad Labem
END:VEVENT
BEGIN:VEVENT
UID:37396465-3666-4865-b535-623430353631
DTSTAMP:20260422T033932Z
DESCRIPTION:7/13 Sportovní klub Meteor Praha - Plzeň 0:2 (-6\,-9)
DTSTART;TZID=Europe/Berlin:20241019T170000
DTEND;TZID=Europe/Berlin:20241019T190000
LOCATION:ZŠ Žernosecká\, Žernosecká 1597 Praha - Kobylisy
SUMMARY:CP-U20Z-A: Sportovní klub Meteor Praha-Plzeň
END:VEVENT
BEGIN:VEVENT
UID:39656434-3036-4934-b835-663833643035
DTSTAMP:20260422T033932Z
DESCRIPTION:1/2 Volejbalový klub Realistic Karlovy Vary - Sportovní klub Me
 teor Praha 1:2 (18\,-19\,-13)
DTSTART;TZID=Europe/Berlin:20241019T093000
DTEND;TZID=Europe/Berlin:20241019T113000
LOCATION:Mattoni Arena Hala míčových sportů\, Západní 1812 Karlovy Vary
SUMMARY:CP-U20Z-A: Volejbalový klub Realistic Karlovy Vary-Sportovní klub M
 eteor Praha
END:VEVENT
BEGIN:VEVENT
UID:66623739-6232-4933-b235-663130326366
DTSTAMP:20260422T033932Z
DESCRIPTION:5/10 Volejbalový sportovní klub Baník Sokolov\, z.s. - Sportovn
 í klub Meteor Praha 2:0 (14\,13)
DTSTART;TZID=Europe/Berlin:20241019T143000
DTEND;TZID=Europe/Berlin:20241019T163000
LOCATION:Jiskra\, Maxima Gorkého 280 Sokolov
SUMMARY:CP-U20Z-A: Volejbalový sportovní klub Baník Sokolov\, z.s.-Sportovn
 í klub Meteor Praha
END:VEVENT
BEGIN:VEVENT
UID:34316439-3263-4565-b031-653731363733
DTSTAMP:20260422T033932Z
DESCRIPTION:1/1 Sportovní klub Meteor Praha - Sportovní klub Španielka Řepy
  z.s. 0:2 (-5\,-16)
DTSTART;TZID=Europe/Berlin:20241116T100000
DTEND;TZID=Europe/Berlin:20241116T120000
LOCATION:ZŠ Žernosecká\, Žernosecká 1597 Praha - Kobylisy
SUMMARY:CP-U20Z-1C: Sportovní klub Meteor Praha-Sportovní klub Španielka Ře
 py z.s.
END:VEVENT
BEGIN:VEVENT
UID:38666463-3336-4666-a233-383333373133
DTSTAMP:20260422T033932Z
DESCRIPTION:2/3 Sportovní klub Meteor Praha - POUCHOV U20 0:2 (-20\,-9)
DTSTART;TZID=Europe/Berlin:20241116T110000
DTEND;TZID=Europe/Berlin:20241116T130000
LOCATION:ZŠ Žernosecká\, Žernosecká 1597 Praha - Kobylisy
SUMMARY:CP-U20Z-1C: Sportovní klub Meteor Praha-POUCHOV U20
END:VEVENT
BEGIN:VEVENT
UID:33346530-3937-4532-a539-386633666261
DTSTAMP:20260422T033932Z
DESCRIPTION:4/6 Sportovní klub Meteor Praha - SAVO Praha z.s. 0:2 (-9\,-20)
DTSTART;TZID=Europe/Berlin:20241116T130000
DTEND;TZID=Europe/Berlin:20241116T150000
LOCATION:ZŠ Žernosecká\, Žernosecká 1597 Praha - Kobylisy
SUMMARY:CP-U20Z-1C: Sportovní klub Meteor Praha-SAVO Praha z.s.
END:VEVENT
BEGIN:VEVENT
UID:31653034-6533-4231-b765-343831366437
DTSTAMP:20260422T033932Z
DESCRIPTION:6/10 Sportovní klub Meteor Praha - Volejbalový klub Realistic K
 arlovy Vary 2:0 (22\,18)
DTSTART;TZID=Europe/Berlin:20241116T150000
DTEND;TZID=Europe/Berlin:20241116T170000
LOCATION:ZŠ Žernosecká\, Žernosecká 1597 Praha - Kobylisy
SUMMARY:CP-U20Z-1C: Sportovní klub Meteor Praha-Volejbalový klub Realistic 
 Karlovy Vary
END:VEVENT
BEGIN:VEVENT
UID:65386235-6231-4635-b338-623761363931
DTSTAMP:20260422T033932Z
DESCRIPTION:2/4 Sportovní klub Meteor Praha - Volejbalový klub Realistic Ka
 rlovy Vary 2:0 (15\,21)
DTSTART;TZID=Europe/Berlin:20241214T110000
DTEND;TZID=Europe/Berlin:20241214T130000
LOCATION:ZŠ Žernosecká\, Žernosecká 1597 Praha - Kobylisy
SUMMARY:CP-U20Z-2C: Sportovní klub Meteor Praha-Volejbalový klub Realistic 
 Karlovy Vary
END:VEVENT
BEGIN:VEVENT
UID:64623265-3966-4631-a364-343839326562
DTSTAMP:20260422T033932Z
DESCRIPTION:4/7 Sportovní klub Meteor Praha - Tělovýchovná jednota Bižuteri
 e\, z.s. 0:2 (-6\,-13)
DTSTART;TZID=Europe/Berlin:20241214T130000
DTEND;TZID=Europe/Berlin:20241214T150000
LOCATION:ZŠ Žernosecká\, Žernosecká 1597 Praha - Kobylisy
SUMMARY:CP-U20Z-2C: Sportovní klub Meteor Praha-Tělovýchovná jednota Bižute
 rie\, z.s.
END:VEVENT
BEGIN:VEVENT
UID:38613133-3565-4136-b264-313763646134
DTSTAMP:20260422T033932Z
DESCRIPTION:6/10 Sportovní klub Meteor Praha - VTK Čížkovice\, z.s. 1:2 (-2
 1\,20\,-10)
DTSTART;TZID=Europe/Berlin:20241214T150000
DTEND;TZID=Europe/Berlin:20241214T170000
LOCATION:ZŠ Žernosecká\, Žernosecká 1597 Praha - Kobylisy
SUMMARY:CP-U20Z-2C: Sportovní klub Meteor Praha-VTK Čížkovice\, z.s.
END:VEVENT
BEGIN:VEVENT
UID:30366363-6162-4234-b233-353665326364
DTSTAMP:20260422T033932Z
DESCRIPTION:1/1 POUCHOV U20 - Sportovní klub Meteor Praha 2:0 (17\,11)\nK S
 okolovně 544\, Hradec Králové Pouchov
DTSTART;TZID=Europe/Berlin:20241214T093000
DTEND;TZID=Europe/Berlin:20241214T113000
LOCATION:Hala Pouchov\, K Sokolovně 544 Hradec Králové - Pouchov
SUMMARY:CP-U20Z-2C: POUCHOV U20-Sportovní klub Meteor Praha
END:VEVENT
BEGIN:VEVENT
UID:36306238-3163-4963-b366-393134353962
DTSTAMP:20260422T033932Z
DESCRIPTION:3/3 VTK Čížkovice\, z.s. - Sportovní klub Meteor Praha 2:0 (9\,
 21)
DTSTART;TZID=Europe/Berlin:20250322T093000
DTEND;TZID=Europe/Berlin:20250322T113000
LOCATION:Hala při ZŠ Benešova 65\, 41112 Čížkovice
SUMMARY:CP-U20Z-3C: VTK Čížkovice\, z.s.-Sportovní klub Meteor Praha
END:VEVENT
BEGIN:VEVENT
UID:33383033-3034-4437-a465-373262326465
DTSTAMP:20260422T033932Z
DESCRIPTION:5/5 Sportovní klub Španielka Řepy z.s. - Sportovní klub Meteor 
 Praha 2:0 (15\,20)
DTSTART;TZID=Europe/Berlin:20250322T110000
DTEND;TZID=Europe/Berlin:20250322T130000
LOCATION:Tělocvična ZŠ\, Španielova 1111 Praha - Řepy
SUMMARY:CP-U20Z-3C: Sportovní klub Španielka Řepy z.s.-Sportovní klub Meteo
 r Praha
END:VEVENT
BEGIN:VEVENT
UID:62626566-6164-4163-b538-363331316235
DTSTAMP:20260422T033932Z
DESCRIPTION:6/6 VSK Spartak Děčín z.s. - Sportovní klub Meteor Praha 2:0 (1
 2\,22)
DTSTART;TZID=Europe/Berlin:20250322T123000
DTEND;TZID=Europe/Berlin:20250322T143000
LOCATION:SH ZŠ Dr M. Tyrše\, Vrchlického 630 Děčín - Děčín II-Nové Město
SUMMARY:CP-U20Z-3C: VSK Spartak Děčín z.s.-Sportovní klub Meteor Praha
END:VEVENT
BEGIN:VEVENT
UID:66353762-3338-4635-b131-396130653262
DTSTAMP:20260422T033932Z
DESCRIPTION:7/9 Volejbalový klub Realistic Karlovy Vary - Sportovní klub Me
 teor Praha 2:0 (31\,14)
DTSTART;TZID=Europe/Berlin:20250322T140000
DTEND;TZID=Europe/Berlin:20250322T160000
LOCATION:Mattoni Arena Hala míčových sportů\, Západní 1812 Karlovy Vary
SUMMARY:CP-U20Z-3C: Volejbalový klub Realistic Karlovy Vary-Sportovní klub 
 Meteor Praha
END:VEVENT
BEGIN:VEVENT
UID:65306466-3165-4333-b765-643533656665
DTSTAMP:20260422T033932Z
DESCRIPTION:1/2 SAVO Praha z.s. - Sportovní klub Meteor Praha 2:0 (18\,24)
DTSTART;TZID=Europe/Berlin:20250412T083000
DTEND;TZID=Europe/Berlin:20250412T103000
LOCATION:FZŠ Mezi Školami\, Mezi školami 2322 Praha - Stodůlky
SUMMARY:CP-U20Z-4C: SAVO Praha z.s.-Sportovní klub Meteor Praha
END:VEVENT
BEGIN:VEVENT
UID:64626338-3361-4538-b533-326563663737
DTSTAMP:20260422T033932Z
DESCRIPTION:3/6 POUCHOV U20 - Sportovní klub Meteor Praha 0:2 (-21\,-23)
DTSTART;TZID=Europe/Berlin:20250412T113000
DTEND;TZID=Europe/Berlin:20250412T133000
LOCATION:Hala Pouchov\, K Sokolovně 544 Hradec Králové - Pouchov
SUMMARY:CP-U20Z-4C: POUCHOV U20-Sportovní klub Meteor Praha
END:VEVENT
BEGIN:VEVENT
UID:62336435-6361-4437-b663-656534316334
DTSTAMP:20260422T033932Z
DESCRIPTION:4/7 Volejbalový klub Realistic Karlovy Vary - Sportovní klub Me
 teor Praha 0:2 (-19\,-18)
DTSTART;TZID=Europe/Berlin:20250412T131500
DTEND;TZID=Europe/Berlin:20250412T151500
LOCATION:Mattoni Arena Hala míčových sportů\, Západní 1812 Karlovy Vary
SUMMARY:CP-U20Z-4C: Volejbalový klub Realistic Karlovy Vary-Sportovní klub 
 Meteor Praha
END:VEVENT
BEGIN:VEVENT
UID:37663234-3461-4564-a161-643361323261
DTSTAMP:20260422T033932Z
DESCRIPTION:5/10 Sportovní klub Španielka Řepy z.s. - Sportovní klub Meteor
  Praha 1:2 (19\,-21\,-13)
DTSTART;TZID=Europe/Berlin:20250412T144500
DTEND;TZID=Europe/Berlin:20250412T164500
LOCATION:Tělocvična ZŠ\, Španielova 1111 Praha - Řepy
SUMMARY:CP-U20Z-4C: Sportovní klub Španielka Řepy z.s.-Sportovní klub Meteo
 r Praha
END:VEVENT
END:VCALENDAR
