BEGIN:VCALENDAR
VERSION:2.0
PRODID:-//TJ Tatran Střešovice88132//NONSGML kigkonsult.se iCalcreator 2.41.80//
CALSCALE:GREGORIAN
UID:35656133-3237-4138-a130-303461613236
BEGIN:VEVENT
UID:64353838-3666-4833-a130-393862303565
DTSTAMP:20260423T044306Z
DESCRIPTION:1/3 Tatran Střešovice - Sokol Praha Vršovice A 3:2 (14\,-17\,17
 \,-20\,14)
DTSTART;TZID=Europe/Berlin:20241001T203000
DTEND;TZID=Europe/Berlin:20241001T223000
LOCATION:TJ Tatran Střešovice - tělocvična\, Sibeliova 368 Praha - Střešovi
 ce
SUMMARY:PP-Z-H: Tatran Střešovice-Sokol Praha Vršovice A
END:VEVENT
BEGIN:VEVENT
UID:63373836-3963-4535-b735-646361633233
DTSTAMP:20260423T044306Z
DESCRIPTION:3/14 Tatran Střešovice - Volejbal Modřany 1:3 (-22\,19\,-24\,-9
 )
DTSTART;TZID=Europe/Berlin:20241015T203000
DTEND;TZID=Europe/Berlin:20241015T223000
LOCATION:TJ Tatran Střešovice - tělocvična\, Sibeliova 368 Praha - Střešovi
 ce
SUMMARY:PP-Z-H: Tatran Střešovice-Volejbal Modřany
END:VEVENT
BEGIN:VEVENT
UID:35343466-6565-4333-a139-336464313465
DTSTAMP:20260423T044306Z
DESCRIPTION:6/36 Tatran Střešovice - Žižkov B 0:3 (-23\,-14\,-20)
DTSTART;TZID=Europe/Berlin:20241105T203000
DTEND;TZID=Europe/Berlin:20241105T223000
LOCATION:TJ Tatran Střešovice - tělocvična\, Sibeliova 368 Praha - Střešovi
 ce
SUMMARY:PP-Z-H: Tatran Střešovice-Žižkov B
END:VEVENT
BEGIN:VEVENT
UID:39653233-6437-4066-a535-343666616432
DTSTAMP:20260423T044306Z
DESCRIPTION:8/47 Tatran Střešovice - TJ Sokol Nusle B 3:2 (-23\,20\,-19\,21
 \,8)
DTSTART;TZID=Europe/Berlin:20241119T203000
DTEND;TZID=Europe/Berlin:20241119T223000
LOCATION:TJ Tatran Střešovice - tělocvična\, Sibeliova 368 Praha - Střešovi
 ce
SUMMARY:PP-Z-H: Tatran Střešovice-TJ Sokol Nusle B
END:VEVENT
BEGIN:VEVENT
UID:64653935-6539-4462-a666-323563663639
DTSTAMP:20260423T044306Z
DESCRIPTION:10/58 Tatran Střešovice - SK Meteor Praha C 3:2 (18\,-21\,15\,-
 21\,7)
DTSTART;TZID=Europe/Berlin:20241203T203000
DTEND;TZID=Europe/Berlin:20241203T223000
LOCATION:TJ Tatran Střešovice - tělocvična\, Sibeliova 368 Praha - Střešovi
 ce
SUMMARY:PP-Z-H: Tatran Střešovice-SK Meteor Praha C
END:VEVENT
BEGIN:VEVENT
UID:39326637-3032-4136-b261-663930316465
DTSTAMP:20260423T044306Z
DESCRIPTION:13/77 Tatran Střešovice - TJ ČZU Praha 3:1 (18\,21\,-22\,18)
DTSTART;TZID=Europe/Berlin:20250107T203000
DTEND;TZID=Europe/Berlin:20250107T223000
LOCATION:TJ Tatran Střešovice - tělocvična\, Sibeliova 368 Praha - Střešovi
 ce
SUMMARY:PP-Z-H: Tatran Střešovice-TJ ČZU Praha
END:VEVENT
BEGIN:VEVENT
UID:66353133-3936-4432-a364-363531303533
DTSTAMP:20260423T044306Z
DESCRIPTION:15/90 Tatran Střešovice - TJ Jižní Město Chodov 2:3 (-23\,20\,2
 2\,-23\,-12)
DTSTART;TZID=Europe/Berlin:20250121T203000
DTEND;TZID=Europe/Berlin:20250121T223000
LOCATION:TJ Tatran Střešovice - tělocvična\, Sibeliova 368 Praha - Střešovi
 ce
SUMMARY:PP-Z-H: Tatran Střešovice-TJ Jižní Město Chodov
END:VEVENT
BEGIN:VEVENT
UID:64363065-3539-4235-b764-306334633035
DTSTAMP:20260423T044306Z
DESCRIPTION:18/104 Tatran Střešovice - VSK MFF UK 'A' 3:1 (16\,-9\,24\,16)
DTSTART;TZID=Europe/Berlin:20250225T203000
DTEND;TZID=Europe/Berlin:20250225T223000
LOCATION:TJ Tatran Střešovice - tělocvična\, Sibeliova 368 Praha - Střešovi
 ce
SUMMARY:PP-Z-H: Tatran Střešovice-VSK MFF UK 'A'
END:VEVENT
BEGIN:VEVENT
UID:37653038-3831-4137-b133-386464383363
DTSTAMP:20260423T044306Z
DESCRIPTION:20/117 Tatran Střešovice - TJ Kyje 3:0 (10\,18\,18)
DTSTART;TZID=Europe/Berlin:20250311T203000
DTEND;TZID=Europe/Berlin:20250311T223000
LOCATION:TJ Tatran Střešovice - tělocvična\, Sibeliova 368 Praha - Střešovi
 ce
SUMMARY:PP-Z-H: Tatran Střešovice-TJ Kyje
END:VEVENT
BEGIN:VEVENT
UID:38376136-6462-4666-b138-613164336530
DTSTAMP:20260423T044306Z
DESCRIPTION:22/130 Tatran Střešovice - Olymp Praha B 0:3 (-17\,-22\,-17)
DTSTART;TZID=Europe/Berlin:20250325T203000
DTEND;TZID=Europe/Berlin:20250325T223000
LOCATION:TJ Tatran Střešovice - tělocvična\, Sibeliova 368 Praha - Střešovi
 ce
SUMMARY:PP-Z-H: Tatran Střešovice-Olymp Praha B
END:VEVENT
BEGIN:VEVENT
UID:62313463-3933-4736-b233-383334386662
DTSTAMP:20260423T044306Z
DESCRIPTION:2/11 TJ ČZU Praha - Tatran Střešovice 1:3 (27\,-24\,-15\,-32)
DTSTART;TZID=Europe/Berlin:20241009T203000
DTEND;TZID=Europe/Berlin:20241009T223000
LOCATION:Sportcentrum Suchdol ČZU\, Sídlištní 1167 Praha - Suchdol
SUMMARY:PP-Z-H: TJ ČZU Praha-Tatran Střešovice
END:VEVENT
BEGIN:VEVENT
UID:65393839-3163-4461-b030-376366643532
DTSTAMP:20260423T044306Z
DESCRIPTION:4/24 TJ Jižní Město Chodov - Tatran Střešovice 0:3 (-20\,-19\,-
 16)
DTSTART;TZID=Europe/Berlin:20241024T202000
DTEND;TZID=Europe/Berlin:20241024T222000
LOCATION:SKŠ ZŠ Mikulova Praha\, Mikulova 1594 Praha - Chodov
SUMMARY:PP-Z-H: TJ Jižní Město Chodov-Tatran Střešovice
END:VEVENT
BEGIN:VEVENT
UID:65333835-6563-4761-a233-303633643330
DTSTAMP:20260423T044306Z
DESCRIPTION:7/38 VSK MFF UK 'A' - Tatran Střešovice 1:3 (-23\,25\,-22\,-11)
DTSTART;TZID=Europe/Berlin:20241112T200000
DTEND;TZID=Europe/Berlin:20241112T220000
LOCATION:, Ohradní 1366 Praha - Michle
SUMMARY:PP-Z-H: VSK MFF UK 'A'-Tatran Střešovice
END:VEVENT
BEGIN:VEVENT
UID:63353637-6166-4065-b533-363862623964
DTSTAMP:20260423T044306Z
DESCRIPTION:9/51 TJ Kyje - Tatran Střešovice 2:3 (20\,18\,-12\,-15\,-7)
DTSTART;TZID=Europe/Berlin:20241125T182000
DTEND;TZID=Europe/Berlin:20241125T202000
LOCATION:TJ Kyje\, Hamerská 1307 Praha - Kyje
SUMMARY:PP-Z-H: TJ Kyje-Tatran Střešovice
END:VEVENT
BEGIN:VEVENT
UID:35646337-3735-4138-b064-633863623539
DTSTAMP:20260423T044306Z
DESCRIPTION:11/64 Olymp Praha B - Tatran Střešovice 1:3 (-18\,24\,-22\,-16)
DTSTART;TZID=Europe/Berlin:20241215T180000
DTEND;TZID=Europe/Berlin:20241215T200000
LOCATION:VCM OLYMP PRAHA \, Radlická 115 Praha - Radlice
SUMMARY:PP-Z-H: Olymp Praha B-Tatran Střešovice
END:VEVENT
BEGIN:VEVENT
UID:61363139-6433-4865-b033-623230336661
DTSTAMP:20260423T044306Z
DESCRIPTION:12/69 Sokol Praha Vršovice A - Tatran Střešovice 3:0 (13\,20\,1
 2)
DTSTART;TZID=Europe/Berlin:20241216T201500
DTEND;TZID=Europe/Berlin:20241216T221500
LOCATION:Sokolovna Vršovice\, Sportovní 111 Praha - Vršovice
SUMMARY:PP-Z-H: Sokol Praha Vršovice A-Tatran Střešovice
END:VEVENT
BEGIN:VEVENT
UID:31656338-6438-4664-b935-633535613431
DTSTAMP:20260423T044306Z
DESCRIPTION:14/80 Volejbal Modřany - Tatran Střešovice 1:3 (17\,-15\,-14\,-
 23)
DTSTART;TZID=Europe/Berlin:20250115T200000
DTEND;TZID=Europe/Berlin:20250115T220000
LOCATION:TJ Sokol Modřany\, K Vltavě 410 Praha - Modřany
SUMMARY:PP-Z-H: Volejbal Modřany-Tatran Střešovice
END:VEVENT
BEGIN:VEVENT
UID:37393833-6561-4566-a133-303465323930
DTSTAMP:20260423T044306Z
DESCRIPTION:17/102 Žižkov B - Tatran Střešovice 2:3 (-20\,-19\,20\,16\,-13)
DTSTART;TZID=Europe/Berlin:20250206T203000
DTEND;TZID=Europe/Berlin:20250206T223000
LOCATION:TJ Sokol Žižkov I.\, Hartigova 929 Praha - Žižkov
SUMMARY:PP-Z-H: Žižkov B-Tatran Střešovice
END:VEVENT
BEGIN:VEVENT
UID:37666161-3135-4663-b561-333065306439
DTSTAMP:20260423T044306Z
DESCRIPTION:19/113 TJ Sokol Nusle B - Tatran Střešovice 1:3 (-22\,-18\,19\,
 -24)
DTSTART;TZID=Europe/Berlin:20250306T203000
DTEND;TZID=Europe/Berlin:20250306T223000
LOCATION:TJ Sokol Nusle\, Na květnici 700 Praha - Nusle
SUMMARY:PP-Z-H: TJ Sokol Nusle B-Tatran Střešovice
END:VEVENT
BEGIN:VEVENT
UID:66333037-3565-4231-a130-393334336231
DTSTAMP:20260423T044306Z
DESCRIPTION:21/124 SK Meteor Praha C - Tatran Střešovice 3:2 (18\,-23\,22\,
 -23\,12)
DTSTART;TZID=Europe/Berlin:20250319T203000
DTEND;TZID=Europe/Berlin:20250319T223000
LOCATION:Tělocvična ZŠ Na Šutce\, Na Šutce 440 Praha - Troja
SUMMARY:PP-Z-H: SK Meteor Praha C-Tatran Střešovice
END:VEVENT
END:VCALENDAR
