BEGIN:VCALENDAR
VERSION:2.0
PRODID:-//SK Meteor Praha F88144//NONSGML kigkonsult.se iCalcreator 2.41.80//
CALSCALE:GREGORIAN
UID:33383361-3666-4163-b034-663763656463
BEGIN:VEVENT
UID:38343934-3338-4063-b132-626464383762
DTSTAMP:20260422T184106Z
DESCRIPTION:1/3 SK Meteor F - TJ Sokol Michle 2:3 (-21\,22\,15\,-21\,-11)
DTSTART;TZID=Europe/Berlin:20241002T203000
DTEND;TZID=Europe/Berlin:20241002T223000
LOCATION:Sportovní centrum ČVUT Pod Juliskou\, Pod Juliskou 1805 Praha - De
 jvice
SUMMARY:PP-M-H: SK Meteor F-TJ Sokol Michle
END:VEVENT
BEGIN:VEVENT
UID:31323837-6661-4363-a639-643338666439
DTSTAMP:20260422T184106Z
DESCRIPTION:3/14 SK Meteor F - TJ Kyje 0:3 (-21\,-24\,-21)
DTSTART;TZID=Europe/Berlin:20241016T203000
DTEND;TZID=Europe/Berlin:20241016T223000
LOCATION:Sportovní centrum ČVUT Pod Juliskou\, Pod Juliskou 1805 Praha - De
 jvice
SUMMARY:PP-M-H: SK Meteor F-TJ Kyje
END:VEVENT
BEGIN:VEVENT
UID:32316135-3963-4934-b834-633838353264
DTSTAMP:20260422T184107Z
DESCRIPTION:5/25 SK Meteor F - Sokol Hostivař PV C 0:3 (-22\,-18\,-16)
DTSTART;TZID=Europe/Berlin:20241030T203000
DTEND;TZID=Europe/Berlin:20241030T223000
LOCATION:Sportovní centrum ČVUT Pod Juliskou\, Pod Juliskou 1805 Praha - De
 jvice
SUMMARY:PP-M-H: SK Meteor F-Sokol Hostivař PV C
END:VEVENT
BEGIN:VEVENT
UID:38383661-6239-4939-b035-313862303861
DTSTAMP:20260422T184107Z
DESCRIPTION:6/36 SK Meteor F - SK Meteor G 3:1 (15\,16\,-20\,19)
DTSTART;TZID=Europe/Berlin:20241106T203000
DTEND;TZID=Europe/Berlin:20241106T223000
LOCATION:Sportovní centrum ČVUT Pod Juliskou\, Pod Juliskou 1805 Praha - De
 jvice
SUMMARY:PP-M-H: SK Meteor F-SK Meteor G
END:VEVENT
BEGIN:VEVENT
UID:30303662-6564-4638-a464-656566393134
DTSTAMP:20260422T184107Z
DESCRIPTION:8/47 SK Meteor F - ČVUT Praha 3:1 (21\,20\,-19\,19)
DTSTART;TZID=Europe/Berlin:20241120T203000
DTEND;TZID=Europe/Berlin:20241120T223000
LOCATION:Sportovní centrum ČVUT Pod Juliskou\, Pod Juliskou 1805 Praha - De
 jvice
SUMMARY:PP-M-H: SK Meteor F-ČVUT Praha
END:VEVENT
BEGIN:VEVENT
UID:34326565-3765-4633-a536-393036393635
DTSTAMP:20260422T184107Z
DESCRIPTION:10/58 SK Meteor F - Volejbal Modřany B 2:3 (-18\,24\,22\,-28\,-
 12)
DTSTART;TZID=Europe/Berlin:20241204T203000
DTEND;TZID=Europe/Berlin:20241204T223000
LOCATION:Sportovní centrum ČVUT Pod Juliskou\, Pod Juliskou 1805 Praha - De
 jvice
SUMMARY:PP-M-H: SK Meteor F-Volejbal Modřany B
END:VEVENT
BEGIN:VEVENT
UID:66326436-3465-4365-b238-636561343336
DTSTAMP:20260422T184107Z
DESCRIPTION:13/77 SK Meteor F - SK PROSEK Junioři 2:3 (24\,24\,-18\,-28\,-6
 )
DTSTART;TZID=Europe/Berlin:20250108T203000
DTEND;TZID=Europe/Berlin:20250108T223000
LOCATION:Sportovní centrum ČVUT Pod Juliskou\, Pod Juliskou 1805 Praha - De
 jvice
SUMMARY:PP-M-H: SK Meteor F-SK PROSEK Junioři
END:VEVENT
BEGIN:VEVENT
UID:35303564-6638-4635-b330-346130656131
DTSTAMP:20260422T184107Z
DESCRIPTION:15/90 SK Meteor F - Volejbal Modřany C 2:3 (-21\,-23\,23\,21\,-
 12)
DTSTART;TZID=Europe/Berlin:20250122T203000
DTEND;TZID=Europe/Berlin:20250122T223000
LOCATION:Sportovní centrum ČVUT Pod Juliskou\, Pod Juliskou 1805 Praha - De
 jvice
SUMMARY:PP-M-H: SK Meteor F-Volejbal Modřany C
END:VEVENT
BEGIN:VEVENT
UID:31376338-6266-4430-b562-323233643133
DTSTAMP:20260422T184107Z
DESCRIPTION:18/104 SK Meteor F - SK PROSEK B 1:3 (-22\,-17\,22\,-20)
DTSTART;TZID=Europe/Berlin:20250226T203000
DTEND;TZID=Europe/Berlin:20250226T223000
LOCATION:Sportovní centrum ČVUT Pod Juliskou\, Pod Juliskou 1805 Praha - De
 jvice
SUMMARY:PP-M-H: SK Meteor F-SK PROSEK B
END:VEVENT
BEGIN:VEVENT
UID:61633130-6335-4639-b735-353439333537
DTSTAMP:20260422T184107Z
DESCRIPTION:20/117 SK Meteor F - SK Dansport Praha 0:3 (-26\,-9\,-19)
DTSTART;TZID=Europe/Berlin:20250312T203000
DTEND;TZID=Europe/Berlin:20250312T223000
LOCATION:Sportovní centrum ČVUT Pod Juliskou\, Pod Juliskou 1805 Praha - De
 jvice
SUMMARY:PP-M-H: SK Meteor F-SK Dansport Praha
END:VEVENT
BEGIN:VEVENT
UID:61626562-3933-4265-a262-663632386630
DTSTAMP:20260422T184107Z
DESCRIPTION:22/130 SK Meteor F - SK Španielka Řepy 1:3 (-18\,23\,-24\,-20)
DTSTART;TZID=Europe/Berlin:20250326T203000
DTEND;TZID=Europe/Berlin:20250326T223000
LOCATION:Sportovní centrum ČVUT Pod Juliskou\, Pod Juliskou 1805 Praha - De
 jvice
SUMMARY:PP-M-H: SK Meteor F-SK Španielka Řepy
END:VEVENT
BEGIN:VEVENT
UID:66643734-6639-4136-b139-323235343539
DTSTAMP:20260422T184107Z
DESCRIPTION:2/11 SK PROSEK Junioři - SK Meteor F 3:1 (15\,-28\,23\,19)
DTSTART;TZID=Europe/Berlin:20241009T181500
DTEND;TZID=Europe/Berlin:20241009T201500
LOCATION:SH SK Prosek\, Lovosická 559 Praha - Letňany
SUMMARY:PP-M-H: SK PROSEK Junioři-SK Meteor F
END:VEVENT
BEGIN:VEVENT
UID:37663338-6661-4536-a233-663066653330
DTSTAMP:20260422T184107Z
DESCRIPTION:4/24 Volejbal Modřany C - SK Meteor F 3:0 (19\,18\,13)
DTSTART;TZID=Europe/Berlin:20241022T200000
DTEND;TZID=Europe/Berlin:20241022T220000
LOCATION:TJ Sokol Modřany\, K Vltavě 410 Praha - Modřany
SUMMARY:PP-M-H: Volejbal Modřany C-SK Meteor F
END:VEVENT
BEGIN:VEVENT
UID:31363135-3764-4564-b665-323366316463
DTSTAMP:20260422T184107Z
DESCRIPTION:7/38 SK PROSEK B - SK Meteor F 3:0 (23\,20\,16)
DTSTART;TZID=Europe/Berlin:20241111T193000
DTEND;TZID=Europe/Berlin:20241111T213000
LOCATION:Gymnázium Litoměřická\, Litoměřická 726 Praha - Prosek
SUMMARY:PP-M-H: SK PROSEK B-SK Meteor F
END:VEVENT
BEGIN:VEVENT
UID:65663431-3135-4466-b939-613739383832
DTSTAMP:20260422T184107Z
DESCRIPTION:9/51 SK Dansport Praha - SK Meteor F 3:2 (-26\,-23\,14\,14\,8)
DTSTART;TZID=Europe/Berlin:20241128T200000
DTEND;TZID=Europe/Berlin:20241128T220000
LOCATION:Sportovní hala Gymnázia Jana Keplera\, Parléřova 118 Praha - Hradč
 any
SUMMARY:PP-M-H: SK Dansport Praha-SK Meteor F
END:VEVENT
BEGIN:VEVENT
UID:33323838-3533-4136-b336-343266646666
DTSTAMP:20260422T184107Z
DESCRIPTION:11/64 SK Španielka Řepy - SK Meteor F 3:2 (-17\,18\,20\,-19\,7)
DTSTART;TZID=Europe/Berlin:20241210T200000
DTEND;TZID=Europe/Berlin:20241210T220000
LOCATION:Sportovní centrum Řepy\, Na chobotě 109 Praha - Řepy
SUMMARY:PP-M-H: SK Španielka Řepy-SK Meteor F
END:VEVENT
BEGIN:VEVENT
UID:65326165-3965-4638-b038-353733346437
DTSTAMP:20260422T184107Z
DESCRIPTION:12/69 TJ Sokol Michle - SK Meteor F 3:X
DTSTART;TZID=Europe/Berlin:20250213T203000
DTEND;TZID=Europe/Berlin:20250213T223000
LOCATION:TJ Sokol Michle\, Pod Stárkou 36 Praha - Michle
SUMMARY:PP-M-H: TJ Sokol Michle-SK Meteor F
END:VEVENT
BEGIN:VEVENT
UID:36313936-3837-4461-b264-663134643464
DTSTAMP:20260422T184107Z
DESCRIPTION:14/80 TJ Kyje - SK Meteor F 2:3 (-16\,21\,26\,-27\,-11)
DTSTART;TZID=Europe/Berlin:20250113T203000
DTEND;TZID=Europe/Berlin:20250113T223000
LOCATION:TJ Kyje\, Hamerská 1307 Praha - Kyje
SUMMARY:PP-M-H: TJ Kyje-SK Meteor F
END:VEVENT
BEGIN:VEVENT
UID:33653665-3634-4266-b133-396466373062
DTSTAMP:20260422T184107Z
DESCRIPTION:16/91 Sokol Hostivař PV C - SK Meteor F 3:0 (24\,18\,18)
DTSTART;TZID=Europe/Berlin:20250127T195000
DTEND;TZID=Europe/Berlin:20250127T215000
LOCATION:Sokol Bubeneč\, Korunovační 630 Praha - Bubeneč
SUMMARY:PP-M-H: Sokol Hostivař PV C-SK Meteor F
END:VEVENT
BEGIN:VEVENT
UID:33393236-6139-4965-a339-646232666530
DTSTAMP:20260422T184107Z
DESCRIPTION:17/102 SK Meteor G - SK Meteor F 3:1 (-21\,17\,14\,20)
DTSTART;TZID=Europe/Berlin:20250205T202000
DTEND;TZID=Europe/Berlin:20250205T222000
LOCATION:ZŠ Žernosecká\, Žernosecká 1597 Praha - Kobylisy
SUMMARY:PP-M-H: SK Meteor G-SK Meteor F
END:VEVENT
BEGIN:VEVENT
UID:63643135-6635-4432-b534-636164613862
DTSTAMP:20260422T184107Z
DESCRIPTION:19/113 ČVUT Praha - SK Meteor F 3:0 (22\,14\,19)
DTSTART;TZID=Europe/Berlin:20250304T203000
DTEND;TZID=Europe/Berlin:20250304T223000
LOCATION:Sportovní centrum ČVUT Pod Juliskou\, Pod Juliskou 1805 Praha - De
 jvice
SUMMARY:PP-M-H: ČVUT Praha-SK Meteor F
END:VEVENT
BEGIN:VEVENT
UID:63376439-3539-4865-b862-383963316538
DTSTAMP:20260422T184107Z
DESCRIPTION:21/124 Volejbal Modřany B - SK Meteor F 3:1 (-26\,15\,14\,12)
DTSTART;TZID=Europe/Berlin:20250321T193000
DTEND;TZID=Europe/Berlin:20250321T213000
LOCATION:TJ Sokol Modřany\, K Vltavě 410 Praha - Modřany
SUMMARY:PP-M-H: Volejbal Modřany B-SK Meteor F
END:VEVENT
END:VCALENDAR
