BEGIN:VCALENDAR
VERSION:2.0
PRODID:-//SK Meteor Praha G88145//NONSGML kigkonsult.se iCalcreator 2.41.80//
CALSCALE:GREGORIAN
UID:62303466-6135-4261-b030-313261663130
BEGIN:VEVENT
UID:66326461-6531-4330-b766-623836623031
DTSTAMP:20260422T221323Z
DESCRIPTION:1/4 SK Meteor G - SK Španielka Řepy 0:3 (-20\,-23\,-17)
DTSTART;TZID=Europe/Berlin:20241002T202000
DTEND;TZID=Europe/Berlin:20241002T222000
LOCATION:ZŠ Žernosecká\, Žernosecká 1597 Praha - Kobylisy
SUMMARY:PP-M-H: SK Meteor G-SK Španielka Řepy
END:VEVENT
BEGIN:VEVENT
UID:62383561-6330-4862-b563-363839656536
DTSTAMP:20260422T221323Z
DESCRIPTION:3/15 SK Meteor G - SK PROSEK Junioři 2:3 (24\,-23\,23\,-22\,-10
 )
DTSTART;TZID=Europe/Berlin:20241016T202000
DTEND;TZID=Europe/Berlin:20241016T222000
LOCATION:ZŠ Žernosecká\, Žernosecká 1597 Praha - Kobylisy
SUMMARY:PP-M-H: SK Meteor G-SK PROSEK Junioři
END:VEVENT
BEGIN:VEVENT
UID:30383765-6538-4435-b434-316561333764
DTSTAMP:20260422T221323Z
DESCRIPTION:5/26 SK Meteor G - Volejbal Modřany C 2:3 (22\,-19\,-20\,23\,-1
 1)
DTSTART;TZID=Europe/Berlin:20250206T194500
DTEND;TZID=Europe/Berlin:20250206T214500
LOCATION:ZŠ Žernosecká\, Žernosecká 1597 Praha - Kobylisy
SUMMARY:PP-M-H: SK Meteor G-Volejbal Modřany C
END:VEVENT
BEGIN:VEVENT
UID:31613463-3466-4166-b263-383931363738
DTSTAMP:20260422T221323Z
DESCRIPTION:7/37 SK Meteor G - Sokol Hostivař PV C 1:3 (23\,-15\,-19\,-18)
DTSTART;TZID=Europe/Berlin:20241113T202000
DTEND;TZID=Europe/Berlin:20241113T222000
LOCATION:ZŠ Žernosecká\, Žernosecká 1597 Praha - Kobylisy
SUMMARY:PP-M-H: SK Meteor G-Sokol Hostivař PV C
END:VEVENT
BEGIN:VEVENT
UID:31356535-3766-4230-a336-303337303266
DTSTAMP:20260422T221323Z
DESCRIPTION:8/48 SK Meteor G - SK PROSEK B 0:3 (-14\,-22\,-22)
DTSTART;TZID=Europe/Berlin:20241120T202000
DTEND;TZID=Europe/Berlin:20241120T222000
LOCATION:ZŠ Žernosecká\, Žernosecká 1597 Praha - Kobylisy
SUMMARY:PP-M-H: SK Meteor G-SK PROSEK B
END:VEVENT
BEGIN:VEVENT
UID:64613762-3438-4230-a432-663530383663
DTSTAMP:20260422T221323Z
DESCRIPTION:10/59 SK Meteor G - SK Dansport Praha 1:3 (20\,-23\,-17\,-16)
DTSTART;TZID=Europe/Berlin:20241204T202000
DTEND;TZID=Europe/Berlin:20241204T222000
LOCATION:ZŠ Žernosecká\, Žernosecká 1597 Praha - Kobylisy
SUMMARY:PP-M-H: SK Meteor G-SK Dansport Praha
END:VEVENT
BEGIN:VEVENT
UID:62313932-3538-4565-a435-636630366265
DTSTAMP:20260422T221323Z
DESCRIPTION:13/76 SK Meteor G - TJ Sokol Michle 3:0 (16\,23\,20)
DTSTART;TZID=Europe/Berlin:20250108T202000
DTEND;TZID=Europe/Berlin:20250108T222000
LOCATION:ZŠ Žernosecká\, Žernosecká 1597 Praha - Kobylisy
SUMMARY:PP-M-H: SK Meteor G-TJ Sokol Michle
END:VEVENT
BEGIN:VEVENT
UID:65373835-6630-4430-b361-663531383736
DTSTAMP:20260422T221323Z
DESCRIPTION:15/89 SK Meteor G - TJ Kyje 3:1 (15\,-18\,16\,23)
DTSTART;TZID=Europe/Berlin:20250122T202000
DTEND;TZID=Europe/Berlin:20250122T222000
LOCATION:ZŠ Žernosecká\, Žernosecká 1597 Praha - Kobylisy
SUMMARY:PP-M-H: SK Meteor G-TJ Kyje
END:VEVENT
BEGIN:VEVENT
UID:38656564-6533-4461-b739-623961333164
DTSTAMP:20260422T221323Z
DESCRIPTION:17/102 SK Meteor G - SK Meteor F 3:1 (-21\,17\,14\,20)
DTSTART;TZID=Europe/Berlin:20250205T202000
DTEND;TZID=Europe/Berlin:20250205T222000
LOCATION:ZŠ Žernosecká\, Žernosecká 1597 Praha - Kobylisy
SUMMARY:PP-M-H: SK Meteor G-SK Meteor F
END:VEVENT
BEGIN:VEVENT
UID:61376339-3535-4138-a636-303930323066
DTSTAMP:20260422T221323Z
DESCRIPTION:20/116 SK Meteor G - ČVUT Praha 0:3 (-13\,-21\,-15)
DTSTART;TZID=Europe/Berlin:20250312T202000
DTEND;TZID=Europe/Berlin:20250312T222000
LOCATION:ZŠ Žernosecká\, Žernosecká 1597 Praha - Kobylisy
SUMMARY:PP-M-H: SK Meteor G-ČVUT Praha
END:VEVENT
BEGIN:VEVENT
UID:31343964-6333-4462-a433-653130643461
DTSTAMP:20260422T221323Z
DESCRIPTION:22/129 SK Meteor G - Volejbal Modřany B 0:3 (-25\,-16\,-21)
DTSTART;TZID=Europe/Berlin:20250326T202000
DTEND;TZID=Europe/Berlin:20250326T222000
LOCATION:ZŠ Žernosecká\, Žernosecká 1597 Praha - Kobylisy
SUMMARY:PP-M-H: SK Meteor G-Volejbal Modřany B
END:VEVENT
BEGIN:VEVENT
UID:31366536-3833-4939-b361-373339393931
DTSTAMP:20260422T221323Z
DESCRIPTION:2/10 TJ Sokol Michle - SK Meteor G 0:3 (-20\,-18\,-21)
DTSTART;TZID=Europe/Berlin:20241010T203000
DTEND;TZID=Europe/Berlin:20241010T223000
LOCATION:TJ Sokol Michle\, Pod Stárkou 36 Praha - Michle
SUMMARY:PP-M-H: TJ Sokol Michle-SK Meteor G
END:VEVENT
BEGIN:VEVENT
UID:65636666-3235-4632-b662-643831356162
DTSTAMP:20260422T221323Z
DESCRIPTION:4/23 TJ Kyje - SK Meteor G 3:1 (-25\,17\,21\,21)
DTSTART;TZID=Europe/Berlin:20241021T203000
DTEND;TZID=Europe/Berlin:20241021T223000
LOCATION:TJ Kyje\, Hamerská 1307 Praha - Kyje
SUMMARY:PP-M-H: TJ Kyje-SK Meteor G
END:VEVENT
BEGIN:VEVENT
UID:62383261-3066-4966-b932-353331303562
DTSTAMP:20260422T221323Z
DESCRIPTION:6/36 SK Meteor F - SK Meteor G 3:1 (15\,16\,-20\,19)
DTSTART;TZID=Europe/Berlin:20241106T203000
DTEND;TZID=Europe/Berlin:20241106T223000
LOCATION:Sportovní centrum ČVUT Pod Juliskou\, Pod Juliskou 1805 Praha - De
 jvice
SUMMARY:PP-M-H: SK Meteor F-SK Meteor G
END:VEVENT
BEGIN:VEVENT
UID:66393137-6430-4332-a432-646161373832
DTSTAMP:20260422T221323Z
DESCRIPTION:9/50 ČVUT Praha - SK Meteor G 3:1 (18\,-19\,15\,18)
DTSTART;TZID=Europe/Berlin:20241126T203000
DTEND;TZID=Europe/Berlin:20241126T223000
LOCATION:Sportovní centrum ČVUT Pod Juliskou\, Pod Juliskou 1805 Praha - De
 jvice
SUMMARY:PP-M-H: ČVUT Praha-SK Meteor G
END:VEVENT
BEGIN:VEVENT
UID:65396638-3565-4337-a430-656231333237
DTSTAMP:20260422T221323Z
DESCRIPTION:11/63 Volejbal Modřany B - SK Meteor G 3:0 (21\,31\,16)
DTSTART;TZID=Europe/Berlin:20241213T193000
DTEND;TZID=Europe/Berlin:20241213T213000
LOCATION:TJ Sokol Modřany\, K Vltavě 410 Praha - Modřany
SUMMARY:PP-M-H: Volejbal Modřany B-SK Meteor G
END:VEVENT
BEGIN:VEVENT
UID:66336565-6236-4238-b535-383765303738
DTSTAMP:20260422T221323Z
DESCRIPTION:12/70 SK Španielka Řepy - SK Meteor G 3:2 (-23\,23\,20\,-23\,12
 )
DTSTART;TZID=Europe/Berlin:20241217T200000
DTEND;TZID=Europe/Berlin:20241217T220000
LOCATION:Sportovní centrum Řepy\, Na chobotě 109 Praha - Řepy
SUMMARY:PP-M-H: SK Španielka Řepy-SK Meteor G
END:VEVENT
BEGIN:VEVENT
UID:30633130-3938-4563-b565-323732343364
DTSTAMP:20260422T221323Z
DESCRIPTION:14/81 SK PROSEK Junioři - SK Meteor G 3:0 (16\,18\,11)
DTSTART;TZID=Europe/Berlin:20250115T181500
DTEND;TZID=Europe/Berlin:20250115T201500
LOCATION:SH SK Prosek\, Lovosická 559 Praha - Letňany
SUMMARY:PP-M-H: SK PROSEK Junioři-SK Meteor G
END:VEVENT
BEGIN:VEVENT
UID:63393064-3837-4866-b161-333237313638
DTSTAMP:20260422T221323Z
DESCRIPTION:16/92 Volejbal Modřany C - SK Meteor G 3:1 (-21\,23\,15\,10)
DTSTART;TZID=Europe/Berlin:20250128T200000
DTEND;TZID=Europe/Berlin:20250128T220000
LOCATION:TJ Sokol Modřany\, K Vltavě 410 Praha - Modřany
SUMMARY:PP-M-H: Volejbal Modřany C-SK Meteor G
END:VEVENT
BEGIN:VEVENT
UID:38306532-6464-4361-a463-363462666665
DTSTAMP:20260422T221323Z
DESCRIPTION:18/103 Sokol Hostivař PV C - SK Meteor G 3:1 (-24\,12\,28\,17)
DTSTART;TZID=Europe/Berlin:20250224T195000
DTEND;TZID=Europe/Berlin:20250224T215000
LOCATION:Sokol Bubeneč\, Korunovační 630 Praha - Bubeneč
SUMMARY:PP-M-H: Sokol Hostivař PV C-SK Meteor G
END:VEVENT
BEGIN:VEVENT
UID:63623163-6336-4434-b565-353166393832
DTSTAMP:20260422T221323Z
DESCRIPTION:19/114 SK PROSEK B - SK Meteor G 3:0 (18\,14\,23)
DTSTART;TZID=Europe/Berlin:20250303T193000
DTEND;TZID=Europe/Berlin:20250303T213000
LOCATION:Gymnázium Litoměřická\, Litoměřická 726 Praha - Prosek
SUMMARY:PP-M-H: SK PROSEK B-SK Meteor G
END:VEVENT
BEGIN:VEVENT
UID:30303134-3034-4333-a631-643866626132
DTSTAMP:20260422T221323Z
DESCRIPTION:21/125 SK Dansport Praha - SK Meteor G 3:1 (23\,29\,-14\,20)
DTSTART;TZID=Europe/Berlin:20250320T200000
DTEND;TZID=Europe/Berlin:20250320T220000
LOCATION:Sportovní hala Gymnázia Jana Keplera\, Parléřova 118 Praha - Hradč
 any
SUMMARY:PP-M-H: SK Dansport Praha-SK Meteor G
END:VEVENT
END:VCALENDAR
