BEGIN:VCALENDAR
VERSION:2.0
PRODID:-//ČVUT Praha88147//NONSGML kigkonsult.se iCalcreator 2.41.80//
CALSCALE:GREGORIAN
UID:35663664-6435-4361-a435-396137313165
BEGIN:VEVENT
UID:30313865-6436-4766-a436-626533633532
DTSTAMP:20260422T224245Z
DESCRIPTION:1/6 ČVUT Praha - SK Dansport Praha 3:1 (14\,14\,-17\,13)
DTSTART;TZID=Europe/Berlin:20241001T203000
DTEND;TZID=Europe/Berlin:20241001T223000
LOCATION:Sportovní centrum ČVUT Pod Juliskou\, Pod Juliskou 1805 Praha - De
 jvice
SUMMARY:PP-M-H: ČVUT Praha-SK Dansport Praha
END:VEVENT
BEGIN:VEVENT
UID:36633332-6366-4630-b238-356463316636
DTSTAMP:20260422T224245Z
DESCRIPTION:3/17 ČVUT Praha - SK Španielka Řepy 3:1 (-24\,28\,20\,21)
DTSTART;TZID=Europe/Berlin:20241015T203000
DTEND;TZID=Europe/Berlin:20241015T223000
LOCATION:Sportovní centrum ČVUT Pod Juliskou\, Pod Juliskou 1805 Praha - De
 jvice
SUMMARY:PP-M-H: ČVUT Praha-SK Španielka Řepy
END:VEVENT
BEGIN:VEVENT
UID:62613635-3536-4866-b633-313438393331
DTSTAMP:20260422T224245Z
DESCRIPTION:5/28 ČVUT Praha - SK PROSEK Junioři 3:2 (21\,-24\,19\,-22\,11)
DTSTART;TZID=Europe/Berlin:20241029T203000
DTEND;TZID=Europe/Berlin:20241029T223000
LOCATION:Sportovní centrum ČVUT Pod Juliskou\, Pod Juliskou 1805 Praha - De
 jvice
SUMMARY:PP-M-H: ČVUT Praha-SK PROSEK Junioři
END:VEVENT
BEGIN:VEVENT
UID:61616130-3163-4733-a464-376135363266
DTSTAMP:20260422T224245Z
DESCRIPTION:7/39 ČVUT Praha - Volejbal Modřany C 3:1 (18\,20\,-23\,22)
DTSTART;TZID=Europe/Berlin:20241112T203000
DTEND;TZID=Europe/Berlin:20241112T223000
LOCATION:Sportovní centrum ČVUT Pod Juliskou\, Pod Juliskou 1805 Praha - De
 jvice
SUMMARY:PP-M-H: ČVUT Praha-Volejbal Modřany C
END:VEVENT
BEGIN:VEVENT
UID:66663261-3735-4661-a631-656232656134
DTSTAMP:20260422T224245Z
DESCRIPTION:9/50 ČVUT Praha - SK Meteor G 3:1 (18\,-19\,15\,18)
DTSTART;TZID=Europe/Berlin:20241126T203000
DTEND;TZID=Europe/Berlin:20241126T223000
LOCATION:Sportovní centrum ČVUT Pod Juliskou\, Pod Juliskou 1805 Praha - De
 jvice
SUMMARY:PP-M-H: ČVUT Praha-SK Meteor G
END:VEVENT
BEGIN:VEVENT
UID:31396330-3234-4133-a530-363732626131
DTSTAMP:20260422T224245Z
DESCRIPTION:11/61 ČVUT Praha - Sokol Hostivař PV C 3:0 (20\,19\,16)
DTSTART;TZID=Europe/Berlin:20241210T203000
DTEND;TZID=Europe/Berlin:20241210T223000
LOCATION:Sportovní centrum ČVUT Pod Juliskou\, Pod Juliskou 1805 Praha - De
 jvice
SUMMARY:PP-M-H: ČVUT Praha-Sokol Hostivař PV C
END:VEVENT
BEGIN:VEVENT
UID:35653830-6464-4831-a438-383034643861
DTSTAMP:20260422T224245Z
DESCRIPTION:13/74 ČVUT Praha - Volejbal Modřany B 3:0 (15\,23\,19)
DTSTART;TZID=Europe/Berlin:20250107T203000
DTEND;TZID=Europe/Berlin:20250107T223000
LOCATION:Sportovní centrum ČVUT Pod Juliskou\, Pod Juliskou 1805 Praha - De
 jvice
SUMMARY:PP-M-H: ČVUT Praha-Volejbal Modřany B
END:VEVENT
BEGIN:VEVENT
UID:33343462-6233-4866-a430-366561616165
DTSTAMP:20260422T224245Z
DESCRIPTION:15/87 ČVUT Praha - TJ Sokol Michle 3:1 (16\,22\,-22\,17)
DTSTART;TZID=Europe/Berlin:20250121T203000
DTEND;TZID=Europe/Berlin:20250121T223000
LOCATION:Sportovní centrum ČVUT Pod Juliskou\, Pod Juliskou 1805 Praha - De
 jvice
SUMMARY:PP-M-H: ČVUT Praha-TJ Sokol Michle
END:VEVENT
BEGIN:VEVENT
UID:30343638-6434-4936-b664-316530333432
DTSTAMP:20260422T224245Z
DESCRIPTION:17/100 ČVUT Praha - TJ Kyje 3:0 (13\,19\,17)
DTSTART;TZID=Europe/Berlin:20250204T203000
DTEND;TZID=Europe/Berlin:20250204T223000
LOCATION:Sportovní centrum ČVUT Pod Juliskou\, Pod Juliskou 1805 Praha - De
 jvice
SUMMARY:PP-M-H: ČVUT Praha-TJ Kyje
END:VEVENT
BEGIN:VEVENT
UID:64613064-3562-4361-a235-643137653265
DTSTAMP:20260422T224245Z
DESCRIPTION:19/113 ČVUT Praha - SK Meteor F 3:0 (22\,14\,19)
DTSTART;TZID=Europe/Berlin:20250304T203000
DTEND;TZID=Europe/Berlin:20250304T223000
LOCATION:Sportovní centrum ČVUT Pod Juliskou\, Pod Juliskou 1805 Praha - De
 jvice
SUMMARY:PP-M-H: ČVUT Praha-SK Meteor F
END:VEVENT
BEGIN:VEVENT
UID:61356263-3735-4837-a532-326130643835
DTSTAMP:20260422T224245Z
DESCRIPTION:21/126 ČVUT Praha - SK PROSEK B 3:0 (18\,19\,23)
DTSTART;TZID=Europe/Berlin:20250318T203000
DTEND;TZID=Europe/Berlin:20250318T223000
LOCATION:Sportovní centrum ČVUT Pod Juliskou\, Pod Juliskou 1805 Praha - De
 jvice
SUMMARY:PP-M-H: ČVUT Praha-SK PROSEK B
END:VEVENT
BEGIN:VEVENT
UID:39623063-3462-4566-a462-343932326136
DTSTAMP:20260422T224245Z
DESCRIPTION:2/8 Volejbal Modřany B - ČVUT Praha 3:1 (22\,20\,-17\,16)
DTSTART;TZID=Europe/Berlin:20241011T193000
DTEND;TZID=Europe/Berlin:20241011T213000
LOCATION:TJ Sokol Modřany\, K Vltavě 410 Praha - Modřany
SUMMARY:PP-M-H: Volejbal Modřany B-ČVUT Praha
END:VEVENT
BEGIN:VEVENT
UID:34633338-3533-4237-b661-316231646166
DTSTAMP:20260422T224245Z
DESCRIPTION:4/21 TJ Sokol Michle - ČVUT Praha 1:3 (-18\,-19\,15\,-26)
DTSTART;TZID=Europe/Berlin:20241024T203000
DTEND;TZID=Europe/Berlin:20241024T223000
LOCATION:TJ Sokol Michle\, Pod Stárkou 36 Praha - Michle
SUMMARY:PP-M-H: TJ Sokol Michle-ČVUT Praha
END:VEVENT
BEGIN:VEVENT
UID:37663863-3333-4339-a336-633166643630
DTSTAMP:20260422T224245Z
DESCRIPTION:6/34 TJ Kyje - ČVUT Praha 0:3 (-22\,-10\,-22)
DTSTART;TZID=Europe/Berlin:20241104T203000
DTEND;TZID=Europe/Berlin:20241104T223000
LOCATION:TJ Kyje\, Hamerská 1307 Praha - Kyje
SUMMARY:PP-M-H: TJ Kyje-ČVUT Praha
END:VEVENT
BEGIN:VEVENT
UID:33353630-3139-4335-b335-353932316466
DTSTAMP:20260422T224245Z
DESCRIPTION:8/47 SK Meteor F - ČVUT Praha 3:1 (21\,20\,-19\,19)
DTSTART;TZID=Europe/Berlin:20241120T203000
DTEND;TZID=Europe/Berlin:20241120T223000
LOCATION:Sportovní centrum ČVUT Pod Juliskou\, Pod Juliskou 1805 Praha - De
 jvice
SUMMARY:PP-M-H: SK Meteor F-ČVUT Praha
END:VEVENT
BEGIN:VEVENT
UID:63643265-6637-4038-b363-656538306163
DTSTAMP:20260422T224245Z
DESCRIPTION:10/60 SK PROSEK B - ČVUT Praha 2:3 (23\,-22\,18\,-18\,-10)
DTSTART;TZID=Europe/Berlin:20241202T193000
DTEND;TZID=Europe/Berlin:20241202T213000
LOCATION:Gymnázium Litoměřická\, Litoměřická 726 Praha - Prosek
SUMMARY:PP-M-H: SK PROSEK B-ČVUT Praha
END:VEVENT
BEGIN:VEVENT
UID:31633636-3839-4265-a364-363238666564
DTSTAMP:20260422T224245Z
DESCRIPTION:12/72 SK Dansport Praha - ČVUT Praha 0:3 (-19\,-19\,-21)
DTSTART;TZID=Europe/Berlin:20241219T200000
DTEND;TZID=Europe/Berlin:20241219T220000
LOCATION:Sportovní hala Gymnázia Jana Keplera\, Parléřova 118 Praha - Hradč
 any
SUMMARY:PP-M-H: SK Dansport Praha-ČVUT Praha
END:VEVENT
BEGIN:VEVENT
UID:39626364-6237-4937-a164-393632613466
DTSTAMP:20260422T224245Z
DESCRIPTION:14/83 SK Španielka Řepy - ČVUT Praha 0:3 (-19\,-20\,-21)
DTSTART;TZID=Europe/Berlin:20250211T200000
DTEND;TZID=Europe/Berlin:20250211T220000
LOCATION:Sportovní centrum Řepy\, Na chobotě 109 Praha - Řepy
SUMMARY:PP-M-H: SK Španielka Řepy-ČVUT Praha
END:VEVENT
BEGIN:VEVENT
UID:36366263-3262-4363-b437-336265636232
DTSTAMP:20260422T224245Z
DESCRIPTION:16/94 SK PROSEK Junioři - ČVUT Praha 0:3 (-25\,-18\,-16)
DTSTART;TZID=Europe/Berlin:20250129T181500
DTEND;TZID=Europe/Berlin:20250129T201500
LOCATION:SH SK Prosek\, Lovosická 559 Praha - Letňany
SUMMARY:PP-M-H: SK PROSEK Junioři-ČVUT Praha
END:VEVENT
BEGIN:VEVENT
UID:31353562-6436-4234-b730-653164333438
DTSTAMP:20260422T224245Z
DESCRIPTION:18/105 Volejbal Modřany C - ČVUT Praha 0:3 (-25\,-23\,-26)
DTSTART;TZID=Europe/Berlin:20250225T200000
DTEND;TZID=Europe/Berlin:20250225T220000
LOCATION:TJ Sokol Modřany\, K Vltavě 410 Praha - Modřany
SUMMARY:PP-M-H: Volejbal Modřany C-ČVUT Praha
END:VEVENT
BEGIN:VEVENT
UID:36633663-3733-4434-b662-363039376438
DTSTAMP:20260422T224245Z
DESCRIPTION:20/116 SK Meteor G - ČVUT Praha 0:3 (-13\,-21\,-15)
DTSTART;TZID=Europe/Berlin:20250312T202000
DTEND;TZID=Europe/Berlin:20250312T222000
LOCATION:ZŠ Žernosecká\, Žernosecká 1597 Praha - Kobylisy
SUMMARY:PP-M-H: SK Meteor G-ČVUT Praha
END:VEVENT
BEGIN:VEVENT
UID:39353337-3865-4931-b633-653866373331
DTSTAMP:20260422T224245Z
DESCRIPTION:22/127 Sokol Hostivař PV C - ČVUT Praha 2:3 (15\,-21\,-18\,15\,
 -11)
DTSTART;TZID=Europe/Berlin:20250324T195000
DTEND;TZID=Europe/Berlin:20250324T215000
LOCATION:Sokol Bubeneč\, Korunovační 630 Praha - Bubeneč
SUMMARY:PP-M-H: Sokol Hostivař PV C-ČVUT Praha
END:VEVENT
BEGIN:VEVENT
UID:61376432-3939-4430-b163-353130366536
DTSTAMP:20260422T224245Z
DESCRIPTION:1/2 ČVUT Praha - Chabařovice 3:1 (-19\,23\,21\,20)
DTSTART;TZID=Europe/Berlin:20250426T120000
DTEND;TZID=Europe/Berlin:20250426T140000
LOCATION:Jiskra\, Maxima Gorkého 280 Sokolov
SUMMARY:2-M-KA: ČVUT Praha-Chabařovice
END:VEVENT
BEGIN:VEVENT
UID:65366131-3638-4136-b132-323964393631
DTSTAMP:20260422T224245Z
DESCRIPTION:3/5 ČVUT Praha - Roztoky 1:3 (27\,-21\,-16\,-17)
DTSTART;TZID=Europe/Berlin:20250427T100000
DTEND;TZID=Europe/Berlin:20250427T120000
LOCATION:Jiskra\, Maxima Gorkého 280 Sokolov
SUMMARY:2-M-KA: ČVUT Praha-Roztoky
END:VEVENT
BEGIN:VEVENT
UID:66326634-3163-4561-b764-353865343831
DTSTAMP:20260422T224245Z
DESCRIPTION:2/4 Sokolov - ČVUT Praha 2:3 (22\,-22\,24\,-23\,-8)
DTSTART;TZID=Europe/Berlin:20250426T170000
DTEND;TZID=Europe/Berlin:20250426T190000
LOCATION:Jiskra\, Maxima Gorkého 280 Sokolov
SUMMARY:2-M-KA: Sokolov-ČVUT Praha
END:VEVENT
END:VCALENDAR
