BEGIN:VCALENDAR
VERSION:2.0
PRODID:-//TJ Lokomotiva Plzeň B (U14)88230//NONSGML kigkonsult.se iCalcreator 2.41.80//
CALSCALE:GREGORIAN
UID:38653363-3339-4134-b233-386262306261
BEGIN:VEVENT
UID:34333338-3862-4562-b336-393366623339
DTSTAMP:20260425T232051Z
DESCRIPTION:3/3 Loko Plzeň B - Klatovy B 2:1 (22\,-26\,13)
DTSTART;TZID=Europe/Berlin:20240928T110000
DTEND;TZID=Europe/Berlin:20240928T130000
LOCATION:Městská sportovní hala  -  hala 2\, Úslavská 2357 Plzeň - Východní
  Předměstí
SUMMARY:P-U14Z6-1A: Loko Plzeň B-Klatovy B
END:VEVENT
BEGIN:VEVENT
UID:35363134-6232-4166-a464-636235656138
DTSTAMP:20260425T232051Z
DESCRIPTION:1/1 Rokycany A - Loko Plzeň B 2:0 (12\,16)
DTSTART;TZID=Europe/Berlin:20240928T090000
DTEND;TZID=Europe/Berlin:20240928T110000
LOCATION:Hala Gymnázia Rokycany\, Mládežníků 1115 Rokycany - Nové Město
SUMMARY:P-U14Z6-1A: Rokycany A-Loko Plzeň B
END:VEVENT
BEGIN:VEVENT
UID:63373239-6465-4432-a630-623634386333
DTSTAMP:20260425T232051Z
DESCRIPTION:5/5 Slavia Plzeň B - Loko Plzeň B 0:2 (-12\,-17)
DTSTART;TZID=Europe/Berlin:20240928T130000
DTEND;TZID=Europe/Berlin:20240928T150000
LOCATION:Tělocvična 15.ZŠ\, Terezie Brzkové 863 Plzeň - Skvrňany
SUMMARY:P-U14Z6-1A: Slavia Plzeň B-Loko Plzeň B
END:VEVENT
BEGIN:VEVENT
UID:63323037-3839-4962-b165-653835393861
DTSTAMP:20260425T232051Z
DESCRIPTION:2/2 Loko Plzeň B - Rokycany C 1:2 (-11\,18\,-15)
DTSTART;TZID=Europe/Berlin:20241020T100000
DTEND;TZID=Europe/Berlin:20241020T120000
LOCATION:Sportovní hala ZŠ Čapkova\, Čapkova 136 Klatovy - Klatovy V
SUMMARY:P-U14Z6-2B: Loko Plzeň B-Rokycany C
END:VEVENT
BEGIN:VEVENT
UID:64393639-3830-4034-a430-313939333964
DTSTAMP:20260425T232051Z
DESCRIPTION:3/3 Loko Plzeň B - Lhota 0:2 (-19\,-23)
DTSTART;TZID=Europe/Berlin:20241020T110000
DTEND;TZID=Europe/Berlin:20241020T130000
LOCATION:Sportovní hala ZŠ Čapkova\, Čapkova 136 Klatovy - Klatovy V
SUMMARY:P-U14Z6-2B: Loko Plzeň B-Lhota
END:VEVENT
BEGIN:VEVENT
UID:61313331-3062-4933-a637-366137626137
DTSTAMP:20260425T232051Z
DESCRIPTION:6/6 Klatovy B - Loko Plzeň B 2:0 (19\,18)
DTSTART;TZID=Europe/Berlin:20241020T140000
DTEND;TZID=Europe/Berlin:20241020T160000
LOCATION:Sportovní hala ZŠ Čapkova\, Čapkova 136 Klatovy - Klatovy V
SUMMARY:P-U14Z6-2B: Klatovy B-Loko Plzeň B
END:VEVENT
BEGIN:VEVENT
UID:36366664-6535-4938-a632-373537643362
DTSTAMP:20260425T232051Z
DESCRIPTION:1/1 Loko Plzeň B - Loko Plzeň A 2:0 (18\,22)
DTSTART;TZID=Europe/Berlin:20241124T090000
DTEND;TZID=Europe/Berlin:20241124T110000
LOCATION:Sportovní hala Šťáhlavy\, U hřiště 525 Šťáhlavy
SUMMARY:P-U14Z6-3C: Loko Plzeň B-Loko Plzeň A
END:VEVENT
BEGIN:VEVENT
UID:64623738-3035-4632-b633-343834333139
DTSTAMP:20260425T232051Z
DESCRIPTION:4/4 Loko Plzeň B - Rokycany B 2:0 (18\,19)
DTSTART;TZID=Europe/Berlin:20241124T120000
DTEND;TZID=Europe/Berlin:20241124T140000
LOCATION:Sportovní hala Šťáhlavy\, U hřiště 525 Šťáhlavy
SUMMARY:P-U14Z6-3C: Loko Plzeň B-Rokycany B
END:VEVENT
BEGIN:VEVENT
UID:36366334-6438-4462-a534-306264653663
DTSTAMP:20260425T232051Z
DESCRIPTION:6/6 Slavia Plzeň B - Loko Plzeň B 0:2 (-13\,-22)
DTSTART;TZID=Europe/Berlin:20241124T140000
DTEND;TZID=Europe/Berlin:20241124T160000
LOCATION:Sportovní hala Šťáhlavy\, U hřiště 525 Šťáhlavy
SUMMARY:P-U14Z6-3C: Slavia Plzeň B-Loko Plzeň B
END:VEVENT
BEGIN:VEVENT
UID:61613430-3239-4363-b530-616661343833
DTSTAMP:20260425T232051Z
DESCRIPTION:3/3 Loko Plzeň B - Rokycany C 2:1 (20\,-25\,9)
DTSTART;TZID=Europe/Berlin:20241215T110000
DTEND;TZID=Europe/Berlin:20241215T130000
LOCATION:Městská sportovní hala  -  hala 2\, Úslavská 2357 Plzeň - Východní
  Předměstí
SUMMARY:P-U14Z6-4B: Loko Plzeň B-Rokycany C
END:VEVENT
BEGIN:VEVENT
UID:62373261-6462-4561-b435-616365383863
DTSTAMP:20260425T232051Z
DESCRIPTION:1/1 Klatovy B - Loko Plzeň B 1:2 (24\,-21\,-14)
DTSTART;TZID=Europe/Berlin:20241215T090000
DTEND;TZID=Europe/Berlin:20241215T110000
LOCATION:Sportovní hala ZŠ Čapkova\, Čapkova 136 Klatovy - Klatovy V
SUMMARY:P-U14Z6-4B: Klatovy B-Loko Plzeň B
END:VEVENT
BEGIN:VEVENT
UID:33346434-6163-4935-b139-643234343763
DTSTAMP:20260425T232051Z
DESCRIPTION:5/5 Šťáhlavy - Loko Plzeň B 0:2 (-23\,-19)
DTSTART;TZID=Europe/Berlin:20241215T130000
DTEND;TZID=Europe/Berlin:20241215T150000
LOCATION:Sportovní hala Šťáhlavy\, U hřiště 525 Šťáhlavy
SUMMARY:P-U14Z6-4B: Šťáhlavy-Loko Plzeň B
END:VEVENT
BEGIN:VEVENT
UID:66663161-6234-4437-b561-356139626237
DTSTAMP:20260425T232051Z
DESCRIPTION:3/3 Loko Plzeň B - Slavia Plzeň A 0:2 (-13\,-22)
DTSTART;TZID=Europe/Berlin:20250118T110000
DTEND;TZID=Europe/Berlin:20250118T130000
LOCATION:Sportovní hala ZŠ Čapkova\, Čapkova 136 Klatovy - Klatovy V
SUMMARY:P-U14Z6-5A: Loko Plzeň B-Slavia Plzeň A
END:VEVENT
BEGIN:VEVENT
UID:65343064-6638-4735-b435-363362376564
DTSTAMP:20260425T232051Z
DESCRIPTION:1/1 Klatovy A - Loko Plzeň B 2:0 (13\,5)
DTSTART;TZID=Europe/Berlin:20250118T090000
DTEND;TZID=Europe/Berlin:20250118T110000
LOCATION:Sportovní hala ZŠ Čapkova\, Čapkova 136 Klatovy - Klatovy V
SUMMARY:P-U14Z6-5A: Klatovy A-Loko Plzeň B
END:VEVENT
BEGIN:VEVENT
UID:31663065-6632-4238-b132-613534353733
DTSTAMP:20260425T232051Z
DESCRIPTION:5/5 Rokycany A - Loko Plzeň B 2:0 (13\,6)
DTSTART;TZID=Europe/Berlin:20250118T130000
DTEND;TZID=Europe/Berlin:20250118T150000
LOCATION:Sportovní hala ZŠ Čapkova\, Čapkova 136 Klatovy - Klatovy V
SUMMARY:P-U14Z6-5A: Rokycany A-Loko Plzeň B
END:VEVENT
BEGIN:VEVENT
UID:64343330-6236-4531-b034-306337633132
DTSTAMP:20260425T232051Z
DESCRIPTION:1/1 Loko Plzeň B - Lhota 2:1 (21\,-20\,12)
DTSTART;TZID=Europe/Berlin:20250215T090000
DTEND;TZID=Europe/Berlin:20250215T110000
LOCATION:Hala Gymnázia Rokycany\, Mládežníků 1115 Rokycany - Nové Město
SUMMARY:P-U14Z6-6B: Loko Plzeň B-Lhota
END:VEVENT
BEGIN:VEVENT
UID:35393763-6638-4362-b163-616663326463
DTSTAMP:20260425T232051Z
DESCRIPTION:4/4 Loko Plzeň B - Vejprnice 0:2 (-14\,-15)
DTSTART;TZID=Europe/Berlin:20250215T120000
DTEND;TZID=Europe/Berlin:20250215T140000
LOCATION:Hala Gymnázia Rokycany\, Mládežníků 1115 Rokycany - Nové Město
SUMMARY:P-U14Z6-6B: Loko Plzeň B-Vejprnice
END:VEVENT
BEGIN:VEVENT
UID:39663233-3131-4630-a336-356137393161
DTSTAMP:20260425T232051Z
DESCRIPTION:6/6 Loko Plzeň A - Loko Plzeň B 2:0 (24\,23)
DTSTART;TZID=Europe/Berlin:20250215T140000
DTEND;TZID=Europe/Berlin:20250215T160000
LOCATION:Hala Gymnázia Rokycany\, Mládežníků 1115 Rokycany - Nové Město
SUMMARY:P-U14Z6-6B: Loko Plzeň A-Loko Plzeň B
END:VEVENT
BEGIN:VEVENT
UID:32373161-3136-4831-a162-346231633934
DTSTAMP:20260425T232051Z
DESCRIPTION:1/1 Loko Plzeň B - Slavia Plzeň B 1:2 (25\,-21\,-4)
DTSTART;TZID=Europe/Berlin:20250316T090000
DTEND;TZID=Europe/Berlin:20250316T110000
LOCATION:Městská sportovní hala  -  hala 1\, Úslavská 2357 Plzeň - Východní
  Předměstí
SUMMARY:P-U14Z6-7C: Loko Plzeň B-Slavia Plzeň B
END:VEVENT
BEGIN:VEVENT
UID:35363665-6338-4562-b436-386266376132
DTSTAMP:20260425T232051Z
DESCRIPTION:4/4 Loko Plzeň B - Šťáhlavy 1:2 (-22\,26\,-6)
DTSTART;TZID=Europe/Berlin:20250316T120000
DTEND;TZID=Europe/Berlin:20250316T140000
LOCATION:Městská sportovní hala  -  hala 1\, Úslavská 2357 Plzeň - Východní
  Předměstí
SUMMARY:P-U14Z6-7C: Loko Plzeň B-Šťáhlavy
END:VEVENT
BEGIN:VEVENT
UID:63373338-6436-4362-a235-353761633839
DTSTAMP:20260425T232051Z
DESCRIPTION:6/6 Rokycany B - Loko Plzeň B 0:2 (-19\,-21)
DTSTART;TZID=Europe/Berlin:20250316T140000
DTEND;TZID=Europe/Berlin:20250316T160000
LOCATION:Městská sportovní hala  -  hala 1\, Úslavská 2357 Plzeň - Východní
  Předměstí
SUMMARY:P-U14Z6-7C: Rokycany B-Loko Plzeň B
END:VEVENT
END:VCALENDAR
