BEGIN:VCALENDAR
VERSION:2.0
PRODID:-//VK Královo Pole Brno - ZŠ Milénova "B" "Dívky"88291//NONSGML kigkonsult.se iCalcreator 2.41.80//
CALSCALE:GREGORIAN
UID:65346332-6634-4638-b032-613432393933
BEGIN:VEVENT
UID:61386139-3230-4161-b365-343034336161
DTSTAMP:20260422T052720Z
DESCRIPTION:3/3 ZŠ Milénova 'B' 'Dívky' - ASK Blansko 'Dívky' 2:0 (27\,13)
DTSTART;TZID=Europe/Berlin:20241006T090000
DTEND;TZID=Europe/Berlin:20241006T110000
LOCATION:Sportovní hala Letovice\, V zahradách 831 Letovice
SUMMARY:JM-U14Z-KVC: ZŠ Milénova 'B' 'Dívky'-ASK Blansko 'Dívky'
END:VEVENT
BEGIN:VEVENT
UID:35643265-3737-4532-a233-356666366363
DTSTAMP:20260422T052720Z
DESCRIPTION:8/8 ZŠ Milénova 'B' 'Dívky' - TJ Sokol Letovice 'A' 'Dívky' 0:2
  (-13\,-16)
DTSTART;TZID=Europe/Berlin:20241006T121500
DTEND;TZID=Europe/Berlin:20241006T141500
LOCATION:Sportovní hala Letovice\, V zahradách 831 Letovice
SUMMARY:JM-U14Z-KVC: ZŠ Milénova 'B' 'Dívky'-TJ Sokol Letovice 'A' 'Dívky'
END:VEVENT
BEGIN:VEVENT
UID:36306333-6661-4561-a531-303564636663
DTSTAMP:20260422T052720Z
DESCRIPTION:13/13 ZŠ Milénova 'B' 'Dívky' - VK Královo Pole 'E' 'Dívky' 1:1
  (13\,-13)
DTSTART;TZID=Europe/Berlin:20241006T151500
DTEND;TZID=Europe/Berlin:20241006T171500
LOCATION:Sportovní hala Letovice\, V zahradách 831 Letovice
SUMMARY:JM-U14Z-KVC: ZŠ Milénova 'B' 'Dívky'-VK Královo Pole 'E' 'Dívky'
END:VEVENT
BEGIN:VEVENT
UID:36343237-3831-4662-a236-376137666562
DTSTAMP:20260422T052720Z
DESCRIPTION:6/6 VS Drásov 'Chlapci\, mix' - ZŠ Milénova 'B' 'Dívky' 2:0 (15
 \,15)
DTSTART;TZID=Europe/Berlin:20241006T104500
DTEND;TZID=Europe/Berlin:20241006T124500
LOCATION:Sportovní hala Letovice\, V zahradách 831 Letovice
SUMMARY:JM-U14Z-KVC: VS Drásov 'Chlapci\, mix'-ZŠ Milénova 'B' 'Dívky'
END:VEVENT
BEGIN:VEVENT
UID:35656431-3937-4538-b665-336139313461
DTSTAMP:20260422T052720Z
DESCRIPTION:10/10 TJ TESLA Brno 'B' 'Chlapci\, mix' - ZŠ Milénova 'B' 'Dívk
 y' 2:0 (20\,11)
DTSTART;TZID=Europe/Berlin:20241006T134500
DTEND;TZID=Europe/Berlin:20241006T154500
LOCATION:Sportovní hala Letovice\, V zahradách 831 Letovice
SUMMARY:JM-U14Z-KVC: TJ TESLA Brno 'B' 'Chlapci\, mix'-ZŠ Milénova 'B' 'Dív
 ky'
END:VEVENT
BEGIN:VEVENT
UID:36396561-6634-4562-b137-613937383233
DTSTAMP:20260422T052720Z
DESCRIPTION:6/6 ZŠ Milénova 'B' 'Dívky' - TJ Sokol Šlapanice 'Dívky' 0:2 (-
 19\,-13)
DTSTART;TZID=Europe/Berlin:20241103T174500
DTEND;TZID=Europe/Berlin:20241103T194500
LOCATION:Tělocvična ZŠ Šlapanice\, Masarykovo náměstí 1594 Šlapanice
SUMMARY:JM-U14Z-ID: ZŠ Milénova 'B' 'Dívky'-TJ Sokol Šlapanice 'Dívky'
END:VEVENT
BEGIN:VEVENT
UID:36363734-6162-4136-a465-336164353666
DTSTAMP:20260422T052720Z
DESCRIPTION:2/2 Orel Křenovice 'Dívky' - ZŠ Milénova 'B' 'Dívky' 2:0 (17\,2
 1)
DTSTART;TZID=Europe/Berlin:20241103T150000
DTEND;TZID=Europe/Berlin:20241103T170000
LOCATION:Tělocvična ZŠ Šlapanice\, Masarykovo náměstí 1594 Šlapanice
SUMMARY:JM-U14Z-ID: Orel Křenovice 'Dívky'-ZŠ Milénova 'B' 'Dívky'
END:VEVENT
BEGIN:VEVENT
UID:66363666-6466-4331-a565-343539333434
DTSTAMP:20260422T052720Z
DESCRIPTION:3/3 VK Královo Pole 'D' 'Dívky' - ZŠ Milénova 'B' 'Dívky' 2:0 (
 8\,14)
DTSTART;TZID=Europe/Berlin:20241103T163000
DTEND;TZID=Europe/Berlin:20241103T183000
LOCATION:Tělocvična ZŠ Šlapanice\, Masarykovo náměstí 1594 Šlapanice
SUMMARY:JM-U14Z-ID: VK Královo Pole 'D' 'Dívky'-ZŠ Milénova 'B' 'Dívky'
END:VEVENT
BEGIN:VEVENT
UID:65363131-3033-4264-b464-343730623836
DTSTAMP:20260422T052720Z
DESCRIPTION:3/3 ZŠ Milénova 'B' 'Dívky' - VK Královo Pole 'F' 'Dívky' 0:2 (
 -17\,-21)
DTSTART;TZID=Europe/Berlin:20241117T114500
DTEND;TZID=Europe/Berlin:20241117T134500
LOCATION:Hala u ZŠ TGM Drásov\, Školní 167 Drásov
SUMMARY:JM-U14Z-IIE: ZŠ Milénova 'B' 'Dívky'-VK Královo Pole 'F' 'Dívky'
END:VEVENT
BEGIN:VEVENT
UID:34656434-3831-4135-b338-396465613765
DTSTAMP:20260422T052720Z
DESCRIPTION:1/1 VS Drásov 'Dívky' - ZŠ Milénova 'B' 'Dívky' 2:0 (14\,13)
DTSTART;TZID=Europe/Berlin:20241117T090000
DTEND;TZID=Europe/Berlin:20241117T110000
LOCATION:Hala u ZŠ TGM Drásov\, Školní 167 Drásov
SUMMARY:JM-U14Z-IIE: VS Drásov 'Dívky'-ZŠ Milénova 'B' 'Dívky'
END:VEVENT
BEGIN:VEVENT
UID:63343430-3338-4561-b430-663332666466
DTSTAMP:20260422T052720Z
DESCRIPTION:5/5 TJ Sokol Újezd u Brna 'Dívky' - ZŠ Milénova 'B' 'Dívky' 2:1
  (-22\,17\,7)
DTSTART;TZID=Europe/Berlin:20241117T141500
DTEND;TZID=Europe/Berlin:20241117T161500
LOCATION:Hala u ZŠ TGM Drásov\, Školní 167 Drásov
SUMMARY:JM-U14Z-IIE: TJ Sokol Újezd u Brna 'Dívky'-ZŠ Milénova 'B' 'Dívky'
END:VEVENT
BEGIN:VEVENT
UID:63623461-6364-4766-b739-393762656663
DTSTAMP:20260422T052720Z
DESCRIPTION:2/2 ZŠ Milénova 'B' 'Dívky' - VK Královo Pole 'E' 'Dívky' 2:1 (
 -25\,6\,9)
DTSTART;TZID=Europe/Berlin:20241215T090000
DTEND;TZID=Europe/Berlin:20241215T110000
SUMMARY:JM-U14Z-IIIF: ZŠ Milénova 'B' 'Dívky'-VK Královo Pole 'E' 'Dívky'
END:VEVENT
BEGIN:VEVENT
UID:65663635-3564-4635-b366-393262313533
DTSTAMP:20260422T052720Z
DESCRIPTION:5/5 ZŠ Milénova 'B' 'Dívky' - Volejbal Brno 'Chlapci\, mix' 2:0
  (20\,21)
DTSTART;TZID=Europe/Berlin:20241215T114500
DTEND;TZID=Europe/Berlin:20241215T134500
SUMMARY:JM-U14Z-IIIF: ZŠ Milénova 'B' 'Dívky'-Volejbal Brno 'Chlapci\, mix'
END:VEVENT
BEGIN:VEVENT
UID:31333331-6366-4562-b464-336362336564
DTSTAMP:20260422T052720Z
DESCRIPTION:4/4 ASK Blansko 'Dívky' - ZŠ Milénova 'B' 'Dívky' 0:2 (-16\,-12
 )
DTSTART;TZID=Europe/Berlin:20241215T103000
DTEND;TZID=Europe/Berlin:20241215T123000
SUMMARY:JM-U14Z-IIIF: ASK Blansko 'Dívky'-ZŠ Milénova 'B' 'Dívky'
END:VEVENT
BEGIN:VEVENT
UID:33613230-3831-4166-b962-626466336334
DTSTAMP:20260422T052720Z
DESCRIPTION:1/1 ZŠ Milénova 'B' 'Dívky' - VK Královo Pole 'E' 'Dívky' 2:0 (
 16\,15)
DTSTART;TZID=Europe/Berlin:20250112T090000
DTEND;TZID=Europe/Berlin:20250112T110000
LOCATION:ZŠ Milénova 14\, Milénova 808 Brno - Lesná
SUMMARY:JM-U14Z-IVD: ZŠ Milénova 'B' 'Dívky'-VK Královo Pole 'E' 'Dívky'
END:VEVENT
BEGIN:VEVENT
UID:31353665-6438-4764-b035-313166626261
DTSTAMP:20260422T052720Z
DESCRIPTION:4/4 ZŠ Milénova 'B' 'Dívky' - VK Brno 'A' 'Dívky' 0:2 (-22\,-22
 )
DTSTART;TZID=Europe/Berlin:20250112T130000
DTEND;TZID=Europe/Berlin:20250112T150000
LOCATION:ZŠ Milénova 14\, Milénova 808 Brno - Lesná
SUMMARY:JM-U14Z-IVD: ZŠ Milénova 'B' 'Dívky'-VK Brno 'A' 'Dívky'
END:VEVENT
BEGIN:VEVENT
UID:39333333-6535-4864-b138-313431383066
DTSTAMP:20260422T052720Z
DESCRIPTION:6/6 VK Královo Pole 'F' 'Dívky' - ZŠ Milénova 'B' 'Dívky' 2:1 (
 11\,-9\,13)
DTSTART;TZID=Europe/Berlin:20250112T153000
DTEND;TZID=Europe/Berlin:20250112T173000
LOCATION:ZŠ Milénova 14\, Milénova 808 Brno - Lesná
SUMMARY:JM-U14Z-IVD: VK Královo Pole 'F' 'Dívky'-ZŠ Milénova 'B' 'Dívky'
END:VEVENT
BEGIN:VEVENT
UID:38653037-3033-4339-a437-643830383438
DTSTAMP:20260422T052720Z
DESCRIPTION:1/2 ZŠ Milénova 'B' 'Dívky' - TJ Sokol Předklášteří 'Dívky' 0:2
  (-13\,-23)
DTSTART;TZID=Europe/Berlin:20250223T090000
DTEND;TZID=Europe/Berlin:20250223T110000
LOCATION:Hala ZŠ Újezd u Brna\, Školní 284 Újezd u Brna
SUMMARY:JM-U14Z-VD: ZŠ Milénova 'B' 'Dívky'-TJ Sokol Předklášteří 'Dívky'
END:VEVENT
BEGIN:VEVENT
UID:63353439-3363-4338-a366-386366353939
DTSTAMP:20260422T052720Z
DESCRIPTION:3/5 ZŠ Milénova 'B' 'Dívky' - VK Královo Pole 'F' 'Dívky' 2:1 (
 -23\,13\,9)
DTSTART;TZID=Europe/Berlin:20250223T114500
DTEND;TZID=Europe/Berlin:20250223T134500
LOCATION:Hala ZŠ Újezd u Brna\, Školní 284 Újezd u Brna
SUMMARY:JM-U14Z-VD: ZŠ Milénova 'B' 'Dívky'-VK Královo Pole 'F' 'Dívky'
END:VEVENT
BEGIN:VEVENT
UID:61393762-3830-4936-a130-633939396237
DTSTAMP:20260422T052720Z
DESCRIPTION:2/4 TJ Sokol Újezd u Brna 'Dívky' - ZŠ Milénova 'B' 'Dívky' 1:2
  (-24\,23\,-3)
DTSTART;TZID=Europe/Berlin:20250223T103000
DTEND;TZID=Europe/Berlin:20250223T123000
LOCATION:Hala ZŠ Újezd u Brna\, Školní 284 Újezd u Brna
SUMMARY:JM-U14Z-VD: TJ Sokol Újezd u Brna 'Dívky'-ZŠ Milénova 'B' 'Dívky'
END:VEVENT
BEGIN:VEVENT
UID:30353235-3338-4263-b266-396163363261
DTSTAMP:20260422T052720Z
DESCRIPTION:1/2 ZŠ Milénova 'B' 'Dívky' - TJ Sokol Újezd u Brna 'Dívky' 2:0
  (12\,16)
DTSTART;TZID=Europe/Berlin:20250323T090000
DTEND;TZID=Europe/Berlin:20250323T110000
LOCATION:ZŠ Vejrostova\, Vejrostova 1066 Brno - Bystrc
SUMMARY:JM-U14Z-VID: ZŠ Milénova 'B' 'Dívky'-TJ Sokol Újezd u Brna 'Dívky'
END:VEVENT
BEGIN:VEVENT
UID:37613861-3466-4634-a464-383737313739
DTSTAMP:20260422T052720Z
DESCRIPTION:3/5 ZŠ Milénova 'B' 'Dívky' - TJ JUNIOR Brno 'B' 'Dívky' 1:2 (-
 14\,21\,-8)
DTSTART;TZID=Europe/Berlin:20250323T114500
DTEND;TZID=Europe/Berlin:20250323T134500
LOCATION:ZŠ Vejrostova\, Vejrostova 1066 Brno - Bystrc
SUMMARY:JM-U14Z-VID: ZŠ Milénova 'B' 'Dívky'-TJ JUNIOR Brno 'B' 'Dívky'
END:VEVENT
BEGIN:VEVENT
UID:62643030-3964-4736-b235-373466336437
DTSTAMP:20260422T052720Z
DESCRIPTION:2/4 VK Brno 'A' 'Dívky' - ZŠ Milénova 'B' 'Dívky' 1:2 (-22\,22\
 ,-14)
DTSTART;TZID=Europe/Berlin:20250323T103000
DTEND;TZID=Europe/Berlin:20250323T123000
LOCATION:ZŠ Vejrostova\, Vejrostova 1066 Brno - Bystrc
SUMMARY:JM-U14Z-VID: VK Brno 'A' 'Dívky'-ZŠ Milénova 'B' 'Dívky'
END:VEVENT
END:VCALENDAR
