BEGIN:VCALENDAR
VERSION:2.0
PRODID:-//VK Královo Pole "E" "Dívky"88308//NONSGML kigkonsult.se iCalcreator 2.41.80//
CALSCALE:GREGORIAN
UID:31633965-3632-4633-b130-656235666566
BEGIN:VEVENT
UID:61616233-6661-4533-a265-643866323137
DTSTAMP:20260422T085132Z
DESCRIPTION:5/5 VK Královo Pole 'E' 'Dívky' - ASK Blansko 'Dívky' 2:0 (23\,
 23)
DTSTART;TZID=Europe/Berlin:20241006T104500
DTEND;TZID=Europe/Berlin:20241006T124500
LOCATION:Sportovní hala Letovice\, V zahradách 831 Letovice
SUMMARY:JM-U14Z-KVC: VK Královo Pole 'E' 'Dívky'-ASK Blansko 'Dívky'
END:VEVENT
BEGIN:VEVENT
UID:65333737-3836-4535-a465-616230383039
DTSTAMP:20260422T085132Z
DESCRIPTION:11/11 VK Královo Pole 'E' 'Dívky' - VS Drásov 'Chlapci\, mix' 0
 :2 (-20\,-13)
DTSTART;TZID=Europe/Berlin:20241006T134500
DTEND;TZID=Europe/Berlin:20241006T154500
LOCATION:Sportovní hala Letovice\, V zahradách 831 Letovice
SUMMARY:JM-U14Z-KVC: VK Královo Pole 'E' 'Dívky'-VS Drásov 'Chlapci\, mix'
END:VEVENT
BEGIN:VEVENT
UID:64323835-6139-4361-b336-626134666238
DTSTAMP:20260422T085132Z
DESCRIPTION:1/1 TJ Sokol Letovice 'A' 'Dívky' - VK Královo Pole 'E' 'Dívky'
  2:0 (12\,15)
DTSTART;TZID=Europe/Berlin:20241006T090000
DTEND;TZID=Europe/Berlin:20241006T110000
LOCATION:Sportovní hala Letovice\, V zahradách 831 Letovice
SUMMARY:JM-U14Z-KVC: TJ Sokol Letovice 'A' 'Dívky'-VK Královo Pole 'E' 'Dív
 ky'
END:VEVENT
BEGIN:VEVENT
UID:62613064-3363-4331-a463-663438386564
DTSTAMP:20260422T085132Z
DESCRIPTION:7/7 TJ TESLA Brno 'B' 'Chlapci\, mix' - VK Královo Pole 'E' 'Dí
 vky' 2:0 (7\,13)
DTSTART;TZID=Europe/Berlin:20241006T121500
DTEND;TZID=Europe/Berlin:20241006T141500
LOCATION:Sportovní hala Letovice\, V zahradách 831 Letovice
SUMMARY:JM-U14Z-KVC: TJ TESLA Brno 'B' 'Chlapci\, mix'-VK Královo Pole 'E' 
 'Dívky'
END:VEVENT
BEGIN:VEVENT
UID:35643337-6134-4263-a239-646463316161
DTSTAMP:20260422T085132Z
DESCRIPTION:13/13 ZŠ Milénova 'B' 'Dívky' - VK Královo Pole 'E' 'Dívky' 1:1
  (13\,-13)
DTSTART;TZID=Europe/Berlin:20241006T151500
DTEND;TZID=Europe/Berlin:20241006T171500
LOCATION:Sportovní hala Letovice\, V zahradách 831 Letovice
SUMMARY:JM-U14Z-KVC: ZŠ Milénova 'B' 'Dívky'-VK Královo Pole 'E' 'Dívky'
END:VEVENT
BEGIN:VEVENT
UID:33376663-3934-4531-b537-666136303534
DTSTAMP:20260422T085132Z
DESCRIPTION:1/1 VK Královo Pole 'E' 'Dívky' - VK Královo Pole 'F' 'Dívky' 0
 :2 (-21\,-15)
DTSTART;TZID=Europe/Berlin:20241103T090000
DTEND;TZID=Europe/Berlin:20241103T110000
LOCATION:ZŠ Milénova 14\, Milénova 808 Brno - Lesná
SUMMARY:JM-U14Z-IE: VK Královo Pole 'E' 'Dívky'-VK Královo Pole 'F' 'Dívky'
END:VEVENT
BEGIN:VEVENT
UID:38343362-6431-4536-b936-393835353165
DTSTAMP:20260422T085132Z
DESCRIPTION:4/4 VK Královo Pole 'E' 'Dívky' - TJ Agrotec Hustopeče 'Chlapci
 \, mix' 0:2 (-21\,-9)
DTSTART;TZID=Europe/Berlin:20241103T130000
DTEND;TZID=Europe/Berlin:20241103T150000
LOCATION:ZŠ Milénova 14\, Milénova 808 Brno - Lesná
SUMMARY:JM-U14Z-IE: VK Královo Pole 'E' 'Dívky'-TJ Agrotec Hustopeče 'Chlap
 ci\, mix'
END:VEVENT
BEGIN:VEVENT
UID:63623636-3539-4230-a136-323863613134
DTSTAMP:20260422T085132Z
DESCRIPTION:6/6 TJ Sokol Újezd u Brna 'Dívky' - VK Královo Pole 'E' 'Dívky'
  2:0 (11\,19)
DTSTART;TZID=Europe/Berlin:20241103T153000
DTEND;TZID=Europe/Berlin:20241103T173000
LOCATION:ZŠ Milénova 14\, Milénova 808 Brno - Lesná
SUMMARY:JM-U14Z-IE: TJ Sokol Újezd u Brna 'Dívky'-VK Královo Pole 'E' 'Dívk
 y'
END:VEVENT
BEGIN:VEVENT
UID:31353934-6463-4335-a639-373530626433
DTSTAMP:20260422T085132Z
DESCRIPTION:1/2 VK Královo Pole 'E' 'Dívky' - ASK Blansko 'Dívky' 1:2 (-16\
 ,20\,-11)
DTSTART;TZID=Europe/Berlin:20241117T090000
DTEND;TZID=Europe/Berlin:20241117T110000
LOCATION:ZŠ Vejrostova\, Vejrostova 1066 Brno - Bystrc
SUMMARY:JM-U14Z-IIF: VK Královo Pole 'E' 'Dívky'-ASK Blansko 'Dívky'
END:VEVENT
BEGIN:VEVENT
UID:66643938-6539-4564-b635-303430623932
DTSTAMP:20260422T085132Z
DESCRIPTION:3/5 VK Královo Pole 'E' 'Dívky' - Volejbal Brno 'Chlapci\, mix'
  2:1 (24\,-16\,12)
DTSTART;TZID=Europe/Berlin:20241117T114500
DTEND;TZID=Europe/Berlin:20241117T134500
LOCATION:ZŠ Vejrostova\, Vejrostova 1066 Brno - Bystrc
SUMMARY:JM-U14Z-IIF: VK Královo Pole 'E' 'Dívky'-Volejbal Brno 'Chlapci\, m
 ix'
END:VEVENT
BEGIN:VEVENT
UID:37313534-3365-4463-b636-656565366663
DTSTAMP:20260422T085132Z
DESCRIPTION:2/4 VK Brno 'A' 'Dívky' - VK Královo Pole 'E' 'Dívky' 2:0 (8\,2
 1)
DTSTART;TZID=Europe/Berlin:20241117T103000
DTEND;TZID=Europe/Berlin:20241117T123000
LOCATION:ZŠ Vejrostova\, Vejrostova 1066 Brno - Bystrc
SUMMARY:JM-U14Z-IIF: VK Brno 'A' 'Dívky'-VK Královo Pole 'E' 'Dívky'
END:VEVENT
BEGIN:VEVENT
UID:37363433-3036-4433-b536-326536383766
DTSTAMP:20260422T085132Z
DESCRIPTION:6/6 VK Královo Pole 'E' 'Dívky' - ASK Blansko 'Dívky' 2:0 (20\,
 15)
DTSTART;TZID=Europe/Berlin:20241215T114500
DTEND;TZID=Europe/Berlin:20241215T134500
SUMMARY:JM-U14Z-IIIF: VK Královo Pole 'E' 'Dívky'-ASK Blansko 'Dívky'
END:VEVENT
BEGIN:VEVENT
UID:33396338-3432-4237-b635-323032333732
DTSTAMP:20260422T085132Z
DESCRIPTION:2/2 ZŠ Milénova 'B' 'Dívky' - VK Královo Pole 'E' 'Dívky' 2:1 (
 -25\,6\,9)
DTSTART;TZID=Europe/Berlin:20241215T090000
DTEND;TZID=Europe/Berlin:20241215T110000
SUMMARY:JM-U14Z-IIIF: ZŠ Milénova 'B' 'Dívky'-VK Královo Pole 'E' 'Dívky'
END:VEVENT
BEGIN:VEVENT
UID:36626234-3335-4461-b839-316436616566
DTSTAMP:20260422T085132Z
DESCRIPTION:3/3 Volejbal Brno 'Chlapci\, mix' - VK Královo Pole 'E' 'Dívky'
  2:0 (24\,21)
DTSTART;TZID=Europe/Berlin:20241215T103000
DTEND;TZID=Europe/Berlin:20241215T123000
SUMMARY:JM-U14Z-IIIF: Volejbal Brno 'Chlapci\, mix'-VK Královo Pole 'E' 'Dí
 vky'
END:VEVENT
BEGIN:VEVENT
UID:38353334-6263-4732-b166-666538336162
DTSTAMP:20260422T085132Z
DESCRIPTION:3/3 VK Královo Pole 'E' 'Dívky' - VK Královo Pole 'F' 'Dívky' 0
 :2 (-25\,-22)
DTSTART;TZID=Europe/Berlin:20250112T114500
DTEND;TZID=Europe/Berlin:20250112T134500
LOCATION:ZŠ Milénova 14\, Milénova 808 Brno - Lesná
SUMMARY:JM-U14Z-IVD: VK Královo Pole 'E' 'Dívky'-VK Královo Pole 'F' 'Dívky
 '
END:VEVENT
BEGIN:VEVENT
UID:37623831-6630-4937-b134-316231383634
DTSTAMP:20260422T085132Z
DESCRIPTION:1/1 ZŠ Milénova 'B' 'Dívky' - VK Královo Pole 'E' 'Dívky' 2:0 (
 16\,15)
DTSTART;TZID=Europe/Berlin:20250112T090000
DTEND;TZID=Europe/Berlin:20250112T110000
LOCATION:ZŠ Milénova 14\, Milénova 808 Brno - Lesná
SUMMARY:JM-U14Z-IVD: ZŠ Milénova 'B' 'Dívky'-VK Královo Pole 'E' 'Dívky'
END:VEVENT
BEGIN:VEVENT
UID:30313736-3164-4036-a434-396130353364
DTSTAMP:20260422T085132Z
DESCRIPTION:5/5 VK Brno 'A' 'Dívky' - VK Královo Pole 'E' 'Dívky' 2:0 (16\,
 12)
DTSTART;TZID=Europe/Berlin:20250112T141500
DTEND;TZID=Europe/Berlin:20250112T161500
LOCATION:ZŠ Milénova 14\, Milénova 808 Brno - Lesná
SUMMARY:JM-U14Z-IVD: VK Brno 'A' 'Dívky'-VK Královo Pole 'E' 'Dívky'
END:VEVENT
BEGIN:VEVENT
UID:39303765-3636-4062-b365-663461303332
DTSTAMP:20260422T085132Z
DESCRIPTION:3/3 VK Královo Pole 'E' 'Dívky' - ASK Blansko 'Dívky' 2:1 (-19\
 ,20\,9)
DTSTART;TZID=Europe/Berlin:20250223T114500
DTEND;TZID=Europe/Berlin:20250223T134500
LOCATION:Městská sportovní hala\, Údolní 1317 Blansko
SUMMARY:JM-U14Z-VE: VK Královo Pole 'E' 'Dívky'-ASK Blansko 'Dívky'
END:VEVENT
BEGIN:VEVENT
UID:66626539-3435-4539-a238-326433333832
DTSTAMP:20260422T085132Z
DESCRIPTION:2/2 TJ JUNIOR Brno 'B' 'Dívky' - VK Královo Pole 'E' 'Dívky' 2:
 0 (26\,17)
DTSTART;TZID=Europe/Berlin:20250223T103000
DTEND;TZID=Europe/Berlin:20250223T123000
LOCATION:Městská sportovní hala\, Údolní 1317 Blansko
SUMMARY:JM-U14Z-VE: TJ JUNIOR Brno 'B' 'Dívky'-VK Královo Pole 'E' 'Dívky'
END:VEVENT
BEGIN:VEVENT
UID:33623466-6530-4466-b361-613632633533
DTSTAMP:20260422T085132Z
DESCRIPTION:1/1 VK Královo Pole 'E' 'Dívky' - VK Královo Pole 'F' 'Dívky' 0
 :2 (-7\,-7)
DTSTART;TZID=Europe/Berlin:20250323T090000
DTEND;TZID=Europe/Berlin:20250323T110000
LOCATION:Sportovní gymnázium Ludvíka Daňka\, Botanická 63 Brno - Ponava
SUMMARY:JM-U14Z-VIE: VK Královo Pole 'E' 'Dívky'-VK Královo Pole 'F' 'Dívky
 '
END:VEVENT
BEGIN:VEVENT
UID:64666434-6630-4039-b239-663362383333
DTSTAMP:20260422T085132Z
DESCRIPTION:3/3 ASK Blansko 'Dívky' - VK Královo Pole 'E' 'Dívky' 1:2 (-18\
 ,20\,-10)
DTSTART;TZID=Europe/Berlin:20250323T114500
DTEND;TZID=Europe/Berlin:20250323T134500
LOCATION:Sportovní gymnázium Ludvíka Daňka\, Botanická 63 Brno - Ponava
SUMMARY:JM-U14Z-VIE: ASK Blansko 'Dívky'-VK Královo Pole 'E' 'Dívky'
END:VEVENT
BEGIN:VEVENT
UID:64316433-6634-4463-b637-363964303562
DTSTAMP:20260422T085132Z
DESCRIPTION:3/3 VK Královo Pole 'E' 'Dívky' - TJ JUNIOR Brno 'B' 'Dívky' 0:
 2 (-10\,-18)
DTSTART;TZID=Europe/Berlin:20250406T103000
DTEND;TZID=Europe/Berlin:20250406T123000
LOCATION:tělocvičny ZŠ Novolíšeňská\, Brno\, Novolíšeňská 2411 Brno - Líšeň
SUMMARY:JM-U14Z-FDB: VK Královo Pole 'E' 'Dívky'-TJ JUNIOR Brno 'B' 'Dívky'
END:VEVENT
BEGIN:VEVENT
UID:32373438-6538-4237-a536-663862306331
DTSTAMP:20260422T085132Z
DESCRIPTION:8/8 VK Královo Pole 'E' 'Dívky' - VK Královo Pole 'F' 'Dívky' 0
 :2 (-21\,-13)
DTSTART;TZID=Europe/Berlin:20250406T130000
DTEND;TZID=Europe/Berlin:20250406T150000
LOCATION:tělocvičny ZŠ Novolíšeňská\, Brno\, Novolíšeňská 2411 Brno - Líšeň
SUMMARY:JM-U14Z-FDB: VK Královo Pole 'E' 'Dívky'-VK Královo Pole 'F' 'Dívky
 '
END:VEVENT
BEGIN:VEVENT
UID:62336364-6634-4739-a233-306530646332
DTSTAMP:20260422T085132Z
DESCRIPTION:2/2 VK Brno 'A' 'Dívky' - VK Královo Pole 'E' 'Dívky' 2:0 (22\,
 19)
DTSTART;TZID=Europe/Berlin:20250406T090000
DTEND;TZID=Europe/Berlin:20250406T110000
LOCATION:tělocvičny ZŠ Novolíšeňská\, Brno\, Novolíšeňská 2411 Brno - Líšeň
SUMMARY:JM-U14Z-FDB: VK Brno 'A' 'Dívky'-VK Královo Pole 'E' 'Dívky'
END:VEVENT
BEGIN:VEVENT
UID:34643965-3132-4037-a538-643066643362
DTSTAMP:20260422T085132Z
DESCRIPTION:6/6 TJ Sokol Předklášteří 'Dívky' - VK Královo Pole 'E' 'Dívky'
  2:0 (4\,13)
DTSTART;TZID=Europe/Berlin:20250406T114500
DTEND;TZID=Europe/Berlin:20250406T134500
LOCATION:tělocvičny ZŠ Novolíšeňská\, Brno\, Novolíšeňská 2411 Brno - Líšeň
SUMMARY:JM-U14Z-FDB: TJ Sokol Předklášteří 'Dívky'-VK Královo Pole 'E' 'Dív
 ky'
END:VEVENT
END:VCALENDAR
