BEGIN:VCALENDAR
VERSION:2.0
PRODID:-//VK Brno "B" "Čtverky"88318//NONSGML kigkonsult.se iCalcreator 2.41.80//
CALSCALE:GREGORIAN
UID:34383834-3033-4261-b437-373761636162
BEGIN:VEVENT
UID:32643438-3838-4338-b638-353366376536
DTSTAMP:20260422T205301Z
DESCRIPTION:5/5 VK Brno 'B' 'Čtverky' - TJ Sokol Letovice 'D' 'Čtverky' 0:2
  (-17\,-0)
DTSTART;TZID=Europe/Berlin:20241006T110000
DTEND;TZID=Europe/Berlin:20241006T130000
LOCATION:ZŠ Předklášteří\, Komenského 1097 Předklášteří
SUMMARY:JM-U14Z-KVF: VK Brno 'B' 'Čtverky'-TJ Sokol Letovice 'D' 'Čtverky'
END:VEVENT
BEGIN:VEVENT
UID:35393532-6236-4031-a535-366332343135
DTSTAMP:20260422T205301Z
DESCRIPTION:11/11 VK Brno 'B' 'Čtverky' - TJ Sokol Šlapanice 'Čtverky' 0:2 
 (-14\,-0)
DTSTART;TZID=Europe/Berlin:20241006T140000
DTEND;TZID=Europe/Berlin:20241006T160000
LOCATION:ZŠ Předklášteří\, Komenského 1097 Předklášteří
SUMMARY:JM-U14Z-KVF: VK Brno 'B' 'Čtverky'-TJ Sokol Šlapanice 'Čtverky'
END:VEVENT
BEGIN:VEVENT
UID:63316134-3239-4265-b135-313037356364
DTSTAMP:20260422T205301Z
DESCRIPTION:1/1 TJ Sokol Předklášteří 'Dívky' - VK Brno 'B' 'Čtverky' 2:0 (
 14\,0)
DTSTART;TZID=Europe/Berlin:20241006T090000
DTEND;TZID=Europe/Berlin:20241006T110000
LOCATION:ZŠ Předklášteří\, Komenského 1097 Předklášteří
SUMMARY:JM-U14Z-KVF: TJ Sokol Předklášteří 'Dívky'-VK Brno 'B' 'Čtverky'
END:VEVENT
BEGIN:VEVENT
UID:62303435-6435-4163-a131-653933656637
DTSTAMP:20260422T205301Z
DESCRIPTION:7/7 VO Unkovice 'A' 'Čtverky' - VK Brno 'B' 'Čtverky' 2:0 (13\,
 0)
DTSTART;TZID=Europe/Berlin:20241006T120000
DTEND;TZID=Europe/Berlin:20241006T140000
LOCATION:ZŠ Předklášteří\, Komenského 1097 Předklášteří
SUMMARY:JM-U14Z-KVF: VO Unkovice 'A' 'Čtverky'-VK Brno 'B' 'Čtverky'
END:VEVENT
BEGIN:VEVENT
UID:38393236-6436-4533-a634-366639633162
DTSTAMP:20260422T205301Z
DESCRIPTION:13/13 TJ Sokol Letovice 'C' 'Čtverky' - VK Brno 'B' 'Čtverky' 2
 :0 (16\,0)
DTSTART;TZID=Europe/Berlin:20241006T153000
DTEND;TZID=Europe/Berlin:20241006T173000
LOCATION:ZŠ Předklášteří\, Komenského 1097 Předklášteří
SUMMARY:JM-U14Z-KVF: TJ Sokol Letovice 'C' 'Čtverky'-VK Brno 'B' 'Čtverky'
END:VEVENT
BEGIN:VEVENT
UID:63323337-6336-4664-b537-646334636138
DTSTAMP:20260422T205301Z
DESCRIPTION:3/3 VK Brno 'B' 'Čtverky' - TJ Sokol Letovice 'B' 'Čtverky' 2:0
  (19\,15)
DTSTART;TZID=Europe/Berlin:20241103T110000
DTEND;TZID=Europe/Berlin:20241103T130000
LOCATION:Sportovní hala u ZŠ Brněnec \,  Brněnec - Moravská Chrastová100
SUMMARY:JM-U14Z-ICH: VK Brno 'B' 'Čtverky'-TJ Sokol Letovice 'B' 'Čtverky'
END:VEVENT
BEGIN:VEVENT
UID:66636333-6333-4031-b538-643264326133
DTSTAMP:20260422T205301Z
DESCRIPTION:5/5 VK Brno 'B' 'Čtverky' - TJ Sokol Letovice 'D' 'Čtverky' 1:1
  (-18\,22)
DTSTART;TZID=Europe/Berlin:20241103T123000
DTEND;TZID=Europe/Berlin:20241103T143000
LOCATION:Sportovní hala u ZŠ Brněnec \,  Brněnec - Moravská Chrastová100
SUMMARY:JM-U14Z-ICH: VK Brno 'B' 'Čtverky'-TJ Sokol Letovice 'D' 'Čtverky'
END:VEVENT
BEGIN:VEVENT
UID:61613637-6436-4535-a530-346264376231
DTSTAMP:20260422T205301Z
DESCRIPTION:9/9 VK Brno 'B' 'Čtverky' - VO Unkovice 'B' 'Čtverky' 2:0 (21\,
 23)
DTSTART;TZID=Europe/Berlin:20241103T153000
DTEND;TZID=Europe/Berlin:20241103T173000
LOCATION:Sportovní hala u ZŠ Brněnec \,  Brněnec - Moravská Chrastová100
SUMMARY:JM-U14Z-ICH: VK Brno 'B' 'Čtverky'-VO Unkovice 'B' 'Čtverky'
END:VEVENT
BEGIN:VEVENT
UID:33373438-3935-4434-a331-333864626133
DTSTAMP:20260422T205301Z
DESCRIPTION:2/2 TJ Sokol Letovice 'E' 'Čtverky' - VK Brno 'B' 'Čtverky' 0:2
  (-14\,-8)
DTSTART;TZID=Europe/Berlin:20241103T100000
DTEND;TZID=Europe/Berlin:20241103T120000
LOCATION:Sportovní hala u ZŠ Brněnec \,  Brněnec - Moravská Chrastová100
SUMMARY:JM-U14Z-ICH: TJ Sokol Letovice 'E' 'Čtverky'-VK Brno 'B' 'Čtverky'
END:VEVENT
BEGIN:VEVENT
UID:36616131-3833-4638-b062-643865626261
DTSTAMP:20260422T205301Z
DESCRIPTION:3/3 VK Brno 'B' 'Čtverky' - TJ JUNIOR Brno 'B' 'Dívky' 0:2 (-16
 \,-10)
DTSTART;TZID=Europe/Berlin:20241117T114500
DTEND;TZID=Europe/Berlin:20241117T134500
LOCATION:Sportovní hala Letovice\, V zahradách 831 Letovice
SUMMARY:JM-U14Z-IIH: VK Brno 'B' 'Čtverky'-TJ JUNIOR Brno 'B' 'Dívky'
END:VEVENT
BEGIN:VEVENT
UID:65633234-6231-4331-b066-313436626634
DTSTAMP:20260422T205301Z
DESCRIPTION:1/1 TJ Sokol Letovice 'C' 'Čtverky' - VK Brno 'B' 'Čtverky' 2:1
  (-26\,9\,12)
DTSTART;TZID=Europe/Berlin:20241117T090000
DTEND;TZID=Europe/Berlin:20241117T110000
LOCATION:Sportovní hala Letovice\, V zahradách 831 Letovice
SUMMARY:JM-U14Z-IIH: TJ Sokol Letovice 'C' 'Čtverky'-VK Brno 'B' 'Čtverky'
END:VEVENT
BEGIN:VEVENT
UID:32393665-6662-4339-a537-366661623131
DTSTAMP:20260422T205301Z
DESCRIPTION:5/5 Orel Křenovice 'Čtverky' - VK Brno 'B' 'Čtverky' 2:1 (-23\,
 15\,3)
DTSTART;TZID=Europe/Berlin:20241117T141500
DTEND;TZID=Europe/Berlin:20241117T161500
LOCATION:Sportovní hala Letovice\, V zahradách 831 Letovice
SUMMARY:JM-U14Z-IIH: Orel Křenovice 'Čtverky'-VK Brno 'B' 'Čtverky'
END:VEVENT
BEGIN:VEVENT
UID:37633936-6463-4835-a133-343835643665
DTSTAMP:20260422T205301Z
DESCRIPTION:2/2 VK Brno 'B' 'Čtverky' - TJ Sokol Letovice 'B' 'Čtverky' 2:0
  (16\,15)
DTSTART;TZID=Europe/Berlin:20241215T090000
DTEND;TZID=Europe/Berlin:20241215T110000
LOCATION:Sportovní hala Letovice\, V zahradách 831 Letovice
SUMMARY:JM-U14Z-IIICH: VK Brno 'B' 'Čtverky'-TJ Sokol Letovice 'B' 'Čtverky
 '
END:VEVENT
BEGIN:VEVENT
UID:37656236-3339-4534-b465-326431633336
DTSTAMP:20260422T205301Z
DESCRIPTION:5/5 VK Brno 'B' 'Čtverky' - TJ Sokol Letovice 'E' 'Čtverky' 2:0
  (17\,21)
DTSTART;TZID=Europe/Berlin:20241215T114500
DTEND;TZID=Europe/Berlin:20241215T134500
LOCATION:Sportovní hala Letovice\, V zahradách 831 Letovice
SUMMARY:JM-U14Z-IIICH: VK Brno 'B' 'Čtverky'-TJ Sokol Letovice 'E' 'Čtverky
 '
END:VEVENT
BEGIN:VEVENT
UID:66643536-6664-4439-b562-326565363365
DTSTAMP:20260422T205301Z
DESCRIPTION:4/4 Sportovní klub SKUNK Unkovice 'B' 'čtverky' - VK Brno 'B' '
 Čtverky' 2:0 (15\,14)
DTSTART;TZID=Europe/Berlin:20241215T103000
DTEND;TZID=Europe/Berlin:20241215T123000
LOCATION:Sportovní hala Letovice\, V zahradách 831 Letovice
SUMMARY:JM-U14Z-IIICH: Sportovní klub SKUNK Unkovice 'B' 'čtverky'-VK Brno 
 'B' 'Čtverky'
END:VEVENT
BEGIN:VEVENT
UID:32383132-6235-4234-b562-363136643432
DTSTAMP:20260422T205301Z
DESCRIPTION:10/10 TJ Sokol Letovice 'D' 'Čtverky' - VK Brno 'B' 'Čtverky' 2
 :0 (17\,10)
DTSTART;TZID=Europe/Berlin:20241215T141500
DTEND;TZID=Europe/Berlin:20241215T161500
LOCATION:Sportovní hala Letovice\, V zahradách 831 Letovice
SUMMARY:JM-U14Z-IIICH: TJ Sokol Letovice 'D' 'Čtverky'-VK Brno 'B' 'Čtverky
 '
END:VEVENT
BEGIN:VEVENT
UID:35313637-3230-4463-b538-356336356634
DTSTAMP:20260422T205301Z
DESCRIPTION:2/2 VK Brno 'B' 'Čtverky' - VK Přímětice B 'Čtverky' 0:2 (-10\,
 -11)
DTSTART;TZID=Europe/Berlin:20250112T103000
DTEND;TZID=Europe/Berlin:20250112T123000
LOCATION:Sportovní hala Letovice\, V zahradách 831 Letovice
SUMMARY:JM-U14Z-IVJ: VK Brno 'B' 'Čtverky'-VK Přímětice B 'Čtverky'
END:VEVENT
BEGIN:VEVENT
UID:39623039-6331-4637-b131-326164666231
DTSTAMP:20260422T205301Z
DESCRIPTION:5/5 VK Brno 'B' 'Čtverky' - TJ Sokol Letovice 'E' 'Čtverky' 0:2
  (-16\,-24)
DTSTART;TZID=Europe/Berlin:20250112T141500
DTEND;TZID=Europe/Berlin:20250112T161500
LOCATION:Sportovní hala Letovice\, V zahradách 831 Letovice
SUMMARY:JM-U14Z-IVJ: VK Brno 'B' 'Čtverky'-TJ Sokol Letovice 'E' 'Čtverky'
END:VEVENT
BEGIN:VEVENT
UID:33626439-3530-4166-b332-373361343366
DTSTAMP:20260422T205301Z
DESCRIPTION:4/4 TJ Sokol Letovice 'B' 'Čtverky' - VK Brno 'B' 'Čtverky' 2:0
  (14\,18)
DTSTART;TZID=Europe/Berlin:20250112T130000
DTEND;TZID=Europe/Berlin:20250112T150000
LOCATION:Sportovní hala Letovice\, V zahradách 831 Letovice
SUMMARY:JM-U14Z-IVJ: TJ Sokol Letovice 'B' 'Čtverky'-VK Brno 'B' 'Čtverky'
END:VEVENT
BEGIN:VEVENT
UID:66323235-3266-4934-b734-323533316566
DTSTAMP:20260422T205301Z
DESCRIPTION:3/4 VK Brno 'B' 'Čtverky' - Sportovní klub SKUNK Unkovice 'B' '
 čtverky' 2:0 (13\,20)
DTSTART;TZID=Europe/Berlin:20250223T114500
DTEND;TZID=Europe/Berlin:20250223T134500
LOCATION:Sportovní hala Letovice\, V zahradách 831 Letovice
SUMMARY:JM-U14Z-VJ: VK Brno 'B' 'Čtverky'-Sportovní klub SKUNK Unkovice 'B'
  'čtverky'
END:VEVENT
BEGIN:VEVENT
UID:33373037-3765-4039-b363-373634353965
DTSTAMP:20260422T205301Z
DESCRIPTION:4/5 VK Brno 'B' 'Čtverky' - TJ Sokol Letovice 'B' 'Čtverky' 2:0
  (23\,23)
DTSTART;TZID=Europe/Berlin:20250223T130000
DTEND;TZID=Europe/Berlin:20250223T150000
LOCATION:Sportovní hala Letovice\, V zahradách 831 Letovice
SUMMARY:JM-U14Z-VJ: VK Brno 'B' 'Čtverky'-TJ Sokol Letovice 'B' 'Čtverky'
END:VEVENT
BEGIN:VEVENT
UID:62353634-3365-4162-b531-393734626331
DTSTAMP:20260422T205301Z
DESCRIPTION:2/3 TJ Sokol Letovice 'E' 'Čtverky' - VK Brno 'B' 'Čtverky' 0:2
  (-19\,-11)
DTSTART;TZID=Europe/Berlin:20250223T103000
DTEND;TZID=Europe/Berlin:20250223T123000
LOCATION:Sportovní hala Letovice\, V zahradách 831 Letovice
SUMMARY:JM-U14Z-VJ: TJ Sokol Letovice 'E' 'Čtverky'-VK Brno 'B' 'Čtverky'
END:VEVENT
BEGIN:VEVENT
UID:62323235-6633-4361-a466-393666396536
DTSTAMP:20260422T205301Z
DESCRIPTION:6/6 VK Brno 'B' 'Čtverky' - VK Přímětice B 'Čtverky' 0:2 (-15\,
 -27)
DTSTART;TZID=Europe/Berlin:20250323T153000
DTEND;TZID=Europe/Berlin:20250323T173000
LOCATION:Tělocvična ZŠ Prokopa Diviše a MŠ\, Ke Škole 569 Znojmo - Přímětic
 e
SUMMARY:JM-U14Z-VICH: VK Brno 'B' 'Čtverky'-VK Přímětice B 'Čtverky'
END:VEVENT
BEGIN:VEVENT
UID:35313838-3238-4763-a231-383962333263
DTSTAMP:20260422T205301Z
DESCRIPTION:2/2 TJ JUNIOR Brno 'C' 'Čtverky' - VK Brno 'B' 'Čtverky' 2:1 (-
 21\,21\,12)
DTSTART;TZID=Europe/Berlin:20250323T103000
DTEND;TZID=Europe/Berlin:20250323T123000
LOCATION:Tělocvična ZŠ Prokopa Diviše a MŠ\, Ke Škole 569 Znojmo - Přímětic
 e
SUMMARY:JM-U14Z-VICH: TJ JUNIOR Brno 'C' 'Čtverky'-VK Brno 'B' 'Čtverky'
END:VEVENT
BEGIN:VEVENT
UID:32653564-3831-4530-b930-313532366164
DTSTAMP:20260422T205301Z
DESCRIPTION:3/3 Orel Křenovice 'Čtverky' - VK Brno 'B' 'Čtverky' 2:0 (21\,9
 )
DTSTART;TZID=Europe/Berlin:20250323T114500
DTEND;TZID=Europe/Berlin:20250323T134500
LOCATION:Tělocvična ZŠ Prokopa Diviše a MŠ\, Ke Škole 569 Znojmo - Přímětic
 e
SUMMARY:JM-U14Z-VICH: Orel Křenovice 'Čtverky'-VK Brno 'B' 'Čtverky'
END:VEVENT
BEGIN:VEVENT
UID:37643237-3336-4662-b662-303365663435
DTSTAMP:20260422T205301Z
DESCRIPTION:6/6 VK Brno 'B' 'Čtverky' - TJ Sokol Letovice 'B' 'Čtverky' 0:2
  (-26\,-13)\nKurt 3
DTSTART;TZID=Europe/Berlin:20250406T153000
DTEND;TZID=Europe/Berlin:20250406T173000
LOCATION:Sportovní hala Letovice\, V zahradách 831 Letovice
SUMMARY:JM-U14Z-F4B: VK Brno 'B' 'Čtverky'-TJ Sokol Letovice 'B' 'Čtverky'
END:VEVENT
BEGIN:VEVENT
UID:37343438-3534-4739-a262-613334353631
DTSTAMP:20260422T205301Z
DESCRIPTION:2/2 Sportovní klub SKUNK Unkovice 'B' 'čtverky' - VK Brno 'B' '
 Čtverky' 2:0 (22\,22)\nKurt 3
DTSTART;TZID=Europe/Berlin:20250406T103000
DTEND;TZID=Europe/Berlin:20250406T123000
LOCATION:Sportovní hala Letovice\, V zahradách 831 Letovice
SUMMARY:JM-U14Z-F4B: Sportovní klub SKUNK Unkovice 'B' 'čtverky'-VK Brno 'B
 ' 'Čtverky'
END:VEVENT
BEGIN:VEVENT
UID:32663432-3665-4233-a666-363233373336
DTSTAMP:20260422T205301Z
DESCRIPTION:3/3 TJ Sokol Letovice 'E' 'Čtverky' - VK Brno 'B' 'Čtverky' 0:2
  (-19\,-22)\nKurt 3
DTSTART;TZID=Europe/Berlin:20250406T114500
DTEND;TZID=Europe/Berlin:20250406T134500
LOCATION:Sportovní hala Letovice\, V zahradách 831 Letovice
SUMMARY:JM-U14Z-F4B: TJ Sokol Letovice 'E' 'Čtverky'-VK Brno 'B' 'Čtverky'
END:VEVENT
END:VCALENDAR
